BEGIN:VCALENDAR
VERSION:2.0
PRODID:-//Wilmslow CleanTeam - ECPv6.15.20//NONSGML v1.0//EN
CALSCALE:GREGORIAN
METHOD:PUBLISH
X-ORIGINAL-URL:https://wilmslowcleanteam.org.uk
X-WR-CALDESC:Events for Wilmslow CleanTeam
REFRESH-INTERVAL;VALUE=DURATION:PT1H
X-Robots-Tag:noindex
X-PUBLISHED-TTL:PT1H
BEGIN:VTIMEZONE
TZID:Europe/London
BEGIN:DAYLIGHT
TZOFFSETFROM:+0000
TZOFFSETTO:+0100
TZNAME:BST
DTSTART:20220327T010000
END:DAYLIGHT
BEGIN:STANDARD
TZOFFSETFROM:+0100
TZOFFSETTO:+0000
TZNAME:GMT
DTSTART:20221030T010000
END:STANDARD
BEGIN:DAYLIGHT
TZOFFSETFROM:+0000
TZOFFSETTO:+0100
TZNAME:BST
DTSTART:20230326T010000
END:DAYLIGHT
BEGIN:STANDARD
TZOFFSETFROM:+0100
TZOFFSETTO:+0000
TZNAME:GMT
DTSTART:20231029T010000
END:STANDARD
BEGIN:DAYLIGHT
TZOFFSETFROM:+0000
TZOFFSETTO:+0100
TZNAME:BST
DTSTART:20240331T010000
END:DAYLIGHT
BEGIN:STANDARD
TZOFFSETFROM:+0100
TZOFFSETTO:+0000
TZNAME:GMT
DTSTART:20241027T010000
END:STANDARD
END:VTIMEZONE
BEGIN:VEVENT
DTSTART;TZID=Europe/London:20230104T100000
DTEND;TZID=Europe/London:20230104T113000
DTSTAMP:20260423T025138
CREATED:20221001T090723Z
LAST-MODIFIED:20221203T204452Z
UID:1714-1672826400-1672831800@wilmslowcleanteam.org.uk
SUMMARY:Litter Picking Event – Wednesday 4th Jan 2023
DESCRIPTION:Regular litter picking event. Focus will be Knutsford Road / Alderley Road / Chapel Lane / Bypass roundabout. \nMeet at The King’s Arms \nNew volunteers are most welcome to come along – but please familiarise yourselves with the safety guidance first. \nPlease try to arrive at the meeting point no later than 15 minutes from the start time. Organisers of each event will typically litter pick after the 15 minute period has elapsed\, returning to the meeting point up to an hour later.
URL:https://wilmslowcleanteam.org.uk/event/litter-picking-event-wednesday-4th-jan-2023/
LOCATION:The King’s Arms\, Alderley Road\, Wilmslow\, SK9 1PZ\, United Kingdom
CATEGORIES:Litter Picking Events
END:VEVENT
BEGIN:VEVENT
DTSTART;TZID=Europe/London:20230107T100000
DTEND;TZID=Europe/London:20230107T113000
DTSTAMP:20260423T025138
CREATED:20221001T090918Z
LAST-MODIFIED:20221204T111405Z
UID:1716-1673085600-1673091000@wilmslowcleanteam.org.uk
SUMMARY:Litter Picking Event – Saturday 7th Jan 2023
DESCRIPTION:Regular litter picking event. Focus will be Lindow Common and Altrincham Road. \nMeet in Lindow Common Car Park \nNew volunteers are most welcome to come along – but please familiarise yourselves with the safety guidance first. \nPlease try to arrive at the meeting point no later than 15 minutes from the start time. Organisers of each event will typically litter pick after the 15 minute period has elapsed\, returning to the meeting point up to an hour later. \n 
URL:https://wilmslowcleanteam.org.uk/event/litter-picking-event-saturday-7th-jan-2023/
LOCATION:Lindow Common Car Park\, Racecourse Road\, Wilmslow\, SK9 5LR\, United Kingdom
CATEGORIES:Litter Picking Events
END:VEVENT
END:VCALENDAR