BEGIN:VCALENDAR
VERSION:2.0
PRODID:-//Wilmslow CleanTeam - ECPv6.15.20//NONSGML v1.0//EN
CALSCALE:GREGORIAN
METHOD:PUBLISH
X-WR-CALNAME:Wilmslow CleanTeam
X-ORIGINAL-URL:https://wilmslowcleanteam.org.uk
X-WR-CALDESC:Events for Wilmslow CleanTeam
REFRESH-INTERVAL;VALUE=DURATION:PT1H
X-Robots-Tag:noindex
X-PUBLISHED-TTL:PT1H
BEGIN:VTIMEZONE
TZID:UTC
BEGIN:STANDARD
TZOFFSETFROM:+0000
TZOFFSETTO:+0000
TZNAME:UTC
DTSTART:20210101T000000
END:STANDARD
END:VTIMEZONE
BEGIN:VEVENT
DTSTART;TZID=UTC:20220302T100000
DTEND;TZID=UTC:20220302T113000
DTSTAMP:20260423T192104
CREATED:20211229T141811Z
LAST-MODIFIED:20220210T221441Z
UID:1574-1646215200-1646220600@wilmslowcleanteam.org.uk
SUMMARY:Litter Picking Event – Wednesday 2nd March 2022
DESCRIPTION:Regular litter picking event. Focus will be Chapel Lane and surrounding streets \nMeet at The Farmer’s Arms \nNew volunteers are most welcome to come along – but please familiarise yourselves with the safety guidance first. \nPlease try to arrive at the meeting point no later than 15 minutes from the start time. Organisers of each event will typically litter pick after the 15 minute period has elapsed\, returning to the meeting point up to an hour later.
URL:https://wilmslowcleanteam.org.uk/event/litter-picking-event-wednesday-2nd-march-2022/
LOCATION:Farmer’s Arms\, 71 Chapel Lane\, Wilmslow\, SK9 5JH\, United Kingdom
CATEGORIES:Litter Picking Events
END:VEVENT
BEGIN:VEVENT
DTSTART;TZID=UTC:20220305T100000
DTEND;TZID=UTC:20220305T113000
DTSTAMP:20260423T192104
CREATED:20211229T141929Z
LAST-MODIFIED:20220210T221459Z
UID:1576-1646474400-1646479800@wilmslowcleanteam.org.uk
SUMMARY:Litter Picking Event – Saturday 5th March 2022
DESCRIPTION:Regular litter picking event. \nFocus will be Summerfields\, Colshaw Drive and the surrounding area. \nMeet in Summerfield’s Car Park – please be aware that there may be parking charges if you park in the Lidl section of the car park. \nNew volunteers are most welcome to come along – but please familiarise yourselves with the safety guidance first \nPlease try to arrive at the meeting point no later than 15 minutes from the start time. Organisers of each event will typically litter pick after the 15 minute period has elapsed\, returning to the meeting point up to an hour later. \n 
URL:https://wilmslowcleanteam.org.uk/event/litter-picking-event-saturday-5th-march-2022/
LOCATION:Summerfields Centre Car Park\, Dean Row Road\, Wilmslow\, SK9 2TA\, United Kingdom
CATEGORIES:Litter Picking Events
END:VEVENT
END:VCALENDAR