BEGIN:VCALENDAR
VERSION:2.0
PRODID:-//Wilmslow CleanTeam - ECPv6.15.20//NONSGML v1.0//EN
CALSCALE:GREGORIAN
METHOD:PUBLISH
X-WR-CALNAME:Wilmslow CleanTeam
X-ORIGINAL-URL:https://wilmslowcleanteam.org.uk
X-WR-CALDESC:Events for Wilmslow CleanTeam
REFRESH-INTERVAL;VALUE=DURATION:PT1H
X-Robots-Tag:noindex
X-PUBLISHED-TTL:PT1H
BEGIN:VTIMEZONE
TZID:Europe/London
BEGIN:DAYLIGHT
TZOFFSETFROM:+0000
TZOFFSETTO:+0100
TZNAME:BST
DTSTART:20130331T010000
END:DAYLIGHT
BEGIN:STANDARD
TZOFFSETFROM:+0100
TZOFFSETTO:+0000
TZNAME:GMT
DTSTART:20131027T010000
END:STANDARD
BEGIN:DAYLIGHT
TZOFFSETFROM:+0000
TZOFFSETTO:+0100
TZNAME:BST
DTSTART:20140330T010000
END:DAYLIGHT
BEGIN:STANDARD
TZOFFSETFROM:+0100
TZOFFSETTO:+0000
TZNAME:GMT
DTSTART:20141026T010000
END:STANDARD
BEGIN:DAYLIGHT
TZOFFSETFROM:+0000
TZOFFSETTO:+0100
TZNAME:BST
DTSTART:20150329T010000
END:DAYLIGHT
BEGIN:STANDARD
TZOFFSETFROM:+0100
TZOFFSETTO:+0000
TZNAME:GMT
DTSTART:20151025T010000
END:STANDARD
END:VTIMEZONE
BEGIN:VEVENT
DTSTART;VALUE=DATE:20140606
DTEND;VALUE=DATE:20140607
DTSTAMP:20260423T172442
CREATED:20140603T103856Z
LAST-MODIFIED:20140603T103856Z
UID:178-1402012800-1402099199@wilmslowcleanteam.org.uk
SUMMARY:Social Event - Friday 6th June 2014
DESCRIPTION:We are trying to organise one of our regular social gatherings.  It is likely to be on Friday 6th June. \nFinal details still to be confirmed
URL:https://wilmslowcleanteam.org.uk/event/social-event-friday-6th-june-2014/
END:VEVENT
BEGIN:VEVENT
DTSTART;TZID=Europe/London:20140604T100000
DTEND;TZID=Europe/London:20140604T120000
DTSTAMP:20260423T172442
CREATED:20140331T135127Z
LAST-MODIFIED:20140331T140108Z
UID:99-1401876000-1401883200@wilmslowcleanteam.org.uk
SUMMARY:Litter Picking - Wednesday 4th June 2014
DESCRIPTION:Regular litter picking event. Focus will be town centre and side streets. Meet in Bank Square.   New volunteers are most welcome to come along.
URL:https://wilmslowcleanteam.org.uk/event/litter-picking-wednesday-4th-june/
LOCATION:Bank Square\, Wilmslow\, SK9 1AN\, United Kingdom
END:VEVENT
BEGIN:VEVENT
DTSTART;TZID=Europe/London:20140510T100000
DTEND;TZID=Europe/London:20140510T120000
DTSTAMP:20260423T172442
CREATED:20140331T135030Z
LAST-MODIFIED:20140331T140019Z
UID:98-1399716000-1399723200@wilmslowcleanteam.org.uk
SUMMARY:Litter Picking - Saturday 10th May 2014
DESCRIPTION:Regular litter picking event. Focus will be Chapel Lane and Moor Lane.   Meet in Farmer’s Arms car park. New volunteers are most welcome to come along.
URL:https://wilmslowcleanteam.org.uk/event/litter-picking-saturday-10th-may/
LOCATION:Farmer’s Arms\, 71 Chapel Lane\, Wilmslow\, SK9 5JH\, United Kingdom
END:VEVENT
BEGIN:VEVENT
DTSTART;TZID=Europe/London:20140507T100000
DTEND;TZID=Europe/London:20140507T120000
DTSTAMP:20260423T172442
CREATED:20140331T134926Z
LAST-MODIFIED:20140331T135938Z
UID:97-1399456800-1399464000@wilmslowcleanteam.org.uk
SUMMARY:Litter Picking - Wednesday 7th May 2014
DESCRIPTION:Regular litter picking event. Focus will be Lindow Common area and Carnival Fields.   Meet in Lindow Common car park (near Boddington Arms).  New volunteers are most welcome to come along.
URL:https://wilmslowcleanteam.org.uk/event/litter-picking-wednesday-7th-may-2014/
LOCATION:Lindow Common Car Park\, Racecourse Road\, Wilmslow\, SK9 5LR\, United Kingdom
END:VEVENT
BEGIN:VEVENT
DTSTART;TZID=Europe/London:20140422T193000
DTEND;TZID=Europe/London:20140422T210000
DTSTAMP:20260423T172442
CREATED:20140329T154226Z
LAST-MODIFIED:20140408T142353Z
UID:85-1398195000-1398200400@wilmslowcleanteam.org.uk
SUMMARY:AGM
DESCRIPTION:We will have a section reserved for us in the pub (behind a curtain)
URL:https://wilmslowcleanteam.org.uk/event/agm/
LOCATION:The Honey Bee\, Altrincham Road\, Wilmslow\, SK9 4LT\, United Kingdom
END:VEVENT
BEGIN:VEVENT
DTSTART;TZID=Europe/London:20140405T100000
DTEND;TZID=Europe/London:20140405T120000
DTSTAMP:20260423T172442
CREATED:20140329T154013Z
LAST-MODIFIED:20140329T154013Z
UID:84-1396692000-1396699200@wilmslowcleanteam.org.uk
SUMMARY:Litter Picking – Saturday 5th April 2014    *** Wilmslow Spring Clean Week 2014 Event ***
DESCRIPTION:Regular litter picking event. \nFocus wil be on Altrincham Road out to airport tunnels. \nMeet at the Boddington Arms.   New volunteers are most welcome to come along.
URL:https://wilmslowcleanteam.org.uk/event/litter-picking-saturday-5th-april-2014-wilmslow-spring-clean-week-2014-event/
LOCATION:Boddington Arms\, Racecourse Road\, Wilmslow\, SK9 5LR\, United Kingdom
END:VEVENT
BEGIN:VEVENT
DTSTART;TZID=Europe/London:20140402T100000
DTEND;TZID=Europe/London:20140402T120000
DTSTAMP:20260423T172442
CREATED:20140329T153913Z
LAST-MODIFIED:20140329T191349Z
UID:83-1396432800-1396440000@wilmslowcleanteam.org.uk
SUMMARY:Litter Picking – Wednesday 2nd April 2014    *** Wilmslow Spring Clean Week 2014 Event ***
DESCRIPTION:Regular litter picking event. \nFocus will be Altrincham Road out to the airport tunnels. \nMeet at the Boddington Arms.   New volunteers are most welcome to come along.
URL:https://wilmslowcleanteam.org.uk/event/litter-picking-wednesday-2nd-april-2014-wilmslow-spring-clean-week-2014-event/
LOCATION:Boddington Arms\, Racecourse Road\, Wilmslow\, SK9 5LR\, United Kingdom
END:VEVENT
BEGIN:VEVENT
DTSTART;TZID=Europe/London:20140401T100000
DTEND;TZID=Europe/London:20140401T120000
DTSTAMP:20260423T172442
CREATED:20140329T153526Z
LAST-MODIFIED:20140329T154053Z
UID:81-1396346400-1396353600@wilmslowcleanteam.org.uk
SUMMARY:Litter Picking – Tuesday 1st April 2014    *** Wilmslow Spring Clean Week 2014 Event ***
DESCRIPTION:Extra litter picking event organised by the Town Council. \nFocus will be on Parkway\, Sainsburys car park\, Alderley Road (Sainsburys to the Kings Arms roundabout) and Chapel Lane. \nMeet outside Sainsburys.   New volunteers are most welcome to come along.
URL:https://wilmslowcleanteam.org.uk/event/litter-picking/
LOCATION:Sainsbury’s Wilmslow\, 67 Alderley Road\, Wilmslow\, SK9 1NZ \, United Kingdom
END:VEVENT
END:VCALENDAR