BEGIN:VCALENDAR
VERSION:2.0
PRODID:-//Wilmslow CleanTeam - ECPv6.15.20//NONSGML v1.0//EN
CALSCALE:GREGORIAN
METHOD:PUBLISH
X-WR-CALNAME:Wilmslow CleanTeam
X-ORIGINAL-URL:https://wilmslowcleanteam.org.uk
X-WR-CALDESC:Events for Wilmslow CleanTeam
REFRESH-INTERVAL;VALUE=DURATION:PT1H
X-Robots-Tag:noindex
X-PUBLISHED-TTL:PT1H
BEGIN:VTIMEZONE
TZID:Europe/London
BEGIN:DAYLIGHT
TZOFFSETFROM:+0000
TZOFFSETTO:+0100
TZNAME:BST
DTSTART:20130331T010000
END:DAYLIGHT
BEGIN:STANDARD
TZOFFSETFROM:+0100
TZOFFSETTO:+0000
TZNAME:GMT
DTSTART:20131027T010000
END:STANDARD
BEGIN:DAYLIGHT
TZOFFSETFROM:+0000
TZOFFSETTO:+0100
TZNAME:BST
DTSTART:20140330T010000
END:DAYLIGHT
BEGIN:STANDARD
TZOFFSETFROM:+0100
TZOFFSETTO:+0000
TZNAME:GMT
DTSTART:20141026T010000
END:STANDARD
BEGIN:DAYLIGHT
TZOFFSETFROM:+0000
TZOFFSETTO:+0100
TZNAME:BST
DTSTART:20150329T010000
END:DAYLIGHT
BEGIN:STANDARD
TZOFFSETFROM:+0100
TZOFFSETTO:+0000
TZNAME:GMT
DTSTART:20151025T010000
END:STANDARD
END:VTIMEZONE
BEGIN:VEVENT
DTSTART;TZID=Europe/London:20140918T100000
DTEND;TZID=Europe/London:20140918T120000
DTSTAMP:20260423T155955
CREATED:20140721T114526Z
LAST-MODIFIED:20141223T001555Z
UID:235-1411034400-1411041600@wilmslowcleanteam.org.uk
SUMMARY:Litter Picking - Thursday 18th September 2014
DESCRIPTION:Regular litter picking event. Focus will be the Alderley Edge by pass. Meet in the King’s Arms car park. New volunteers are most welcome to come along.
URL:https://wilmslowcleanteam.org.uk/event/litter-picking-thursday-18th-september-2014/
LOCATION:The King’s Arms\, Alderley Road\, Wilmslow\, SK9 1PZ\, United Kingdom
CATEGORIES:Litter Picking Events
END:VEVENT
BEGIN:VEVENT
DTSTART;TZID=Europe/London:20140913T100000
DTEND;TZID=Europe/London:20140913T120000
DTSTAMP:20260423T155955
CREATED:20140908T110858Z
LAST-MODIFIED:20140908T110858Z
UID:277-1410602400-1410609600@wilmslowcleanteam.org.uk
SUMMARY:Extra "UK Clean Up Campaign" Litter Pick - Saturday 13th September 2014
DESCRIPTION:We have decided to stage an additional litter pick in September – in support of the letsdoit.uk “UK Clean Up Campaign”   (#ukcleanupday) \nClean up events are being organised nationwide on Saturday 13th September 2014. \nMeet at Bank Square at 10:00.  We can head off in various directions – e.g. Town Centre\, Carrs\, Railway Station\, Leisure Centre. \nNew volunteers welcome – all equipment provided. \n 
URL:https://wilmslowcleanteam.org.uk/event/extra-uk-clean-up-campaign-litter-pick-saturday-13th-september-2014/
LOCATION:Bank Square\, Wilmslow\, SK9 1AN\, United Kingdom
CATEGORIES:Litter Picking Events
END:VEVENT
BEGIN:VEVENT
DTSTART;TZID=Europe/London:20140906T100000
DTEND;TZID=Europe/London:20140906T120000
DTSTAMP:20260423T155955
CREATED:20140721T114352Z
LAST-MODIFIED:20141223T001603Z
UID:234-1409997600-1410004800@wilmslowcleanteam.org.uk
SUMMARY:Litter Picking - Saturday 6th September 2014
DESCRIPTION:Regular litter picking event. Focus will be the Chapel Lane / Moor Lane area. Meet in the Farmer’s Arms car park. New volunteers are most welcome to come along.
URL:https://wilmslowcleanteam.org.uk/event/litter-picking-saturday-6th-september-2014/
LOCATION:Farmer’s Arms\, 71 Chapel Lane\, Wilmslow\, SK9 5JH\, United Kingdom
CATEGORIES:Litter Picking Events
END:VEVENT
BEGIN:VEVENT
DTSTART;TZID=Europe/London:20140903T100000
DTEND;TZID=Europe/London:20140903T120000
DTSTAMP:20260423T155955
CREATED:20140721T114236Z
LAST-MODIFIED:20140901T145453Z
UID:233-1409738400-1409745600@wilmslowcleanteam.org.uk
SUMMARY:Litter Picking - Wednesday 3rd September 2014
DESCRIPTION:Regular litter picking event. Focus will be Lacey Green. Meet at Lacey Green Park (Barlow Road). New volunteers are most welcome to come along.
URL:https://wilmslowcleanteam.org.uk/event/litter-picking-wednesday-3rd-september-2014/
LOCATION:Lacey Green Park\, Barlow Road\, Wilmslow\, SK9 4BS\, United Kingdom
END:VEVENT
BEGIN:VEVENT
DTSTART;TZID=Europe/London:20140825T100000
DTEND;TZID=Europe/London:20140825T120000
DTSTAMP:20260423T155955
CREATED:20140721T114045Z
LAST-MODIFIED:20141223T001609Z
UID:232-1408960800-1408968000@wilmslowcleanteam.org.uk
SUMMARY:Litter Picking - Monday 25th August 2014
DESCRIPTION:Regular litter picking event. Focus will be the Carrs and surrounding area. Meet in the Parish Hall car park. New volunteers are most welcome to come along.
URL:https://wilmslowcleanteam.org.uk/event/litter-picking-monday-25th-august-2014/
LOCATION:Wilmslow Parish Hall\, Cliff Road\, Wilmslow\, SK9 4AA\, United Kingdom
CATEGORIES:Litter Picking Events
END:VEVENT
BEGIN:VEVENT
DTSTART;TZID=Europe/London:20140809T100000
DTEND;TZID=Europe/London:20140809T120000
DTSTAMP:20260423T155955
CREATED:20140721T113917Z
LAST-MODIFIED:20141223T001613Z
UID:231-1407578400-1407585600@wilmslowcleanteam.org.uk
SUMMARY:Litter Picking - Saturday 9th August
DESCRIPTION:Regular litter picking event. Focus will be around Summerfields.  Meet in the Summerfields car park. New volunteers are most welcome to come along.
URL:https://wilmslowcleanteam.org.uk/event/litter-picking-saturday-9th-august/
LOCATION:Summerfields Centre Car Park\, Dean Row Road\, Wilmslow\, SK9 2TA\, United Kingdom
CATEGORIES:Litter Picking Events
END:VEVENT
BEGIN:VEVENT
DTSTART;TZID=Europe/London:20140806T100000
DTEND;TZID=Europe/London:20140806T120000
DTSTAMP:20260423T155955
CREATED:20140721T113749Z
LAST-MODIFIED:20141223T001621Z
UID:230-1407319200-1407326400@wilmslowcleanteam.org.uk
SUMMARY:Litter Picking - Wednesday 6th August 2014
DESCRIPTION:Regular litter picking event. Focus will be the town centre. Meet at Bank Square. New volunteers are most welcome to come along.
URL:https://wilmslowcleanteam.org.uk/event/litter-picking-wednesday-6th-august-2014/
LOCATION:Bank Square\, Wilmslow\, SK9 1AN\, United Kingdom
CATEGORIES:Litter Picking Events
END:VEVENT
BEGIN:VEVENT
DTSTART;TZID=Europe/London:20140710T093000
DTEND;TZID=Europe/London:20140710T120000
DTSTAMP:20260423T155955
CREATED:20140603T101839Z
LAST-MODIFIED:20140709T163811Z
UID:175-1404984600-1404993600@wilmslowcleanteam.org.uk
SUMMARY:Britain In Bloom 2014 – Thursday 10th July 2014  *** Britain In Bloom Event ***
DESCRIPTION:The 2014 Britain In Bloom judges will inspecting Wilmslow along a pre-defined route. \nIf anyone is available then they could do either or both of the following : \na) Tidy up along the route  (times / locations are in the email sent out this week). The town is pretty tidy – so visibility to the judges is the important factor here. \nb) Meet up with the “Wilmslow In Bloom” team and the judges at the Memorial Gardens at 12:00.   A light lunch will be provided.  The organisers are keen for the CleanTeam to attend this lunch so that we can explain the work we have been doing this year to the judges.  Litter and community care are important factors in the judging. \nSee the blog post for more information about the competition.
URL:https://wilmslowcleanteam.org.uk/event/britain-in-bloom-2014-thursday-10th-july-2014/
CATEGORIES:Britain In Bloom,Litter Picking Events
END:VEVENT
BEGIN:VEVENT
DTSTART;TZID=Europe/London:20140709T200000
DTEND;TZID=Europe/London:20140709T220000
DTSTAMP:20260423T155955
CREATED:20140702T125452Z
LAST-MODIFIED:20140702T125556Z
UID:214-1404936000-1404943200@wilmslowcleanteam.org.uk
SUMMARY:Social Event - Wednesday 9th July
DESCRIPTION:July is a busy month – so we’re having a night out to unwind. \nMeet in the Coach & Four at 20:00. \nAnyone who may be interested in volunteering but would like to meet us first is more than welcome to come along. \n  \n 
URL:https://wilmslowcleanteam.org.uk/event/social-event-wednesday-9th-july/
LOCATION:Coach And Four\, 69-71 Alderley Rd\, Wilmslow\, SK9 1PA\, United Kingdom
CATEGORIES:Social Event
END:VEVENT
BEGIN:VEVENT
DTSTART;TZID=Europe/London:20140709T100000
DTEND;TZID=Europe/London:20140709T120000
DTSTAMP:20260423T155955
CREATED:20140603T100909Z
LAST-MODIFIED:20140707T134033Z
UID:174-1404900000-1404907200@wilmslowcleanteam.org.uk
SUMMARY:Litter Picking – Wednesday 9th July 2014 *** Britain In Bloom Event ***
DESCRIPTION:Extra litter picking event to prepare the town for the judging of the “2014 Britain in Bloom” competition. \nWe will meet at the Boddington Arms and then concentrate on the route that the judges will be taking. \nFocus will therefore be on : \n\nLindow Common\nRacecourse Road\nAltrincham Road\nWater Lane\nHawthorn Street\nBedells Lane\nAlderley Road\nSainsbury’s Car Park / Library\nBank Square\nGrove Street\nChurch Street\nMemorial Gardens\nThe Carrs\n\nSee the blog post for more information about the competition.
URL:https://wilmslowcleanteam.org.uk/event/litter-picking-wednesday-9th-july-2014/
LOCATION:Boddington Arms\, Racecourse Road\, Wilmslow\, SK9 5LR\, United Kingdom
CATEGORIES:Litter Picking Events
END:VEVENT
BEGIN:VEVENT
DTSTART;TZID=Europe/London:20140705T100000
DTEND;TZID=Europe/London:20140705T120000
DTSTAMP:20260423T155955
CREATED:20140331T135548Z
LAST-MODIFIED:20140331T135625Z
UID:102-1404554400-1404561600@wilmslowcleanteam.org.uk
SUMMARY:Litter Picking - Saturday 5th July 2014
DESCRIPTION:Regular litter picking event. Focus will be Sainsbury’s\, Alderley Road and surrounding side streets. Meet at the Coach and Four. New volunteers are most welcome to come along.
URL:https://wilmslowcleanteam.org.uk/event/litter-picking-saturday-5th-july-2014/
LOCATION:Coach And Four\, 69-71 Alderley Rd\, Wilmslow\, SK9 1PA\, United Kingdom
END:VEVENT
BEGIN:VEVENT
DTSTART;TZID=Europe/London:20140702T100000
DTEND;TZID=Europe/London:20140702T120000
DTSTAMP:20260423T155955
CREATED:20140331T135403Z
LAST-MODIFIED:20140331T135701Z
UID:101-1404295200-1404302400@wilmslowcleanteam.org.uk
SUMMARY:Litter Picking - Wednesday 2nd July 2014
DESCRIPTION:Regular litter picking event. Focus will be the play area\, river bank and fields.   Meet at the Parish Hall. New volunteers are most welcome to come along.
URL:https://wilmslowcleanteam.org.uk/event/litter-picking-wednesday-2nd-july-2014/
LOCATION:Wilmslow Parish Hall\, Cliff Road\, Wilmslow\, SK9 4AA\, United Kingdom
END:VEVENT
BEGIN:VEVENT
DTSTART;TZID=Europe/London:20140617T090000
DTEND;TZID=Europe/London:20140617T160000
DTSTAMP:20260423T155955
CREATED:20140613T113047Z
LAST-MODIFIED:20140613T113238Z
UID:192-1402995600-1403020800@wilmslowcleanteam.org.uk
SUMMARY:Cheshire Show - 17th June 2014
DESCRIPTION:Some representatives from the Clean Team will be at the Cheshire Show on 17th June 2014. \nWe will be on the Cheshire East stand which is inbetween the band stand and the main ring. \n 
URL:https://wilmslowcleanteam.org.uk/event/cheshire-show-17th-june-2014/
LOCATION:Cheshire County Show Ground\, Tabley\, Near Knutsford\, WA16 0JF\, United Kingdom
END:VEVENT
BEGIN:VEVENT
DTSTART;TZID=Europe/London:20140607T100000
DTEND;TZID=Europe/London:20140607T120000
DTSTAMP:20260423T155955
CREATED:20140331T135240Z
LAST-MODIFIED:20140331T135741Z
UID:100-1402135200-1402142400@wilmslowcleanteam.org.uk
SUMMARY:Litter Picking - Saturday 7th June 2014
DESCRIPTION:Regular litter picking event. Focus will be the leisure centre and the railway station area.   Meet at the Leisure Centre. New volunteers are most welcome to come along.
URL:https://wilmslowcleanteam.org.uk/event/litter-picking-saturday-7th-june-2014/
LOCATION:Wilmslow Leisure Centre\, Rectory Fields\, Wilmslow\, SK9 1BU\, United Kingdom
END:VEVENT
BEGIN:VEVENT
DTSTART;VALUE=DATE:20140606
DTEND;VALUE=DATE:20140607
DTSTAMP:20260423T155955
CREATED:20140603T103856Z
LAST-MODIFIED:20140603T103856Z
UID:178-1402012800-1402099199@wilmslowcleanteam.org.uk
SUMMARY:Social Event - Friday 6th June 2014
DESCRIPTION:We are trying to organise one of our regular social gatherings.  It is likely to be on Friday 6th June. \nFinal details still to be confirmed
URL:https://wilmslowcleanteam.org.uk/event/social-event-friday-6th-june-2014/
END:VEVENT
BEGIN:VEVENT
DTSTART;TZID=Europe/London:20140604T100000
DTEND;TZID=Europe/London:20140604T120000
DTSTAMP:20260423T155955
CREATED:20140331T135127Z
LAST-MODIFIED:20140331T140108Z
UID:99-1401876000-1401883200@wilmslowcleanteam.org.uk
SUMMARY:Litter Picking - Wednesday 4th June 2014
DESCRIPTION:Regular litter picking event. Focus will be town centre and side streets. Meet in Bank Square.   New volunteers are most welcome to come along.
URL:https://wilmslowcleanteam.org.uk/event/litter-picking-wednesday-4th-june/
LOCATION:Bank Square\, Wilmslow\, SK9 1AN\, United Kingdom
END:VEVENT
BEGIN:VEVENT
DTSTART;TZID=Europe/London:20140510T100000
DTEND;TZID=Europe/London:20140510T120000
DTSTAMP:20260423T155955
CREATED:20140331T135030Z
LAST-MODIFIED:20140331T140019Z
UID:98-1399716000-1399723200@wilmslowcleanteam.org.uk
SUMMARY:Litter Picking - Saturday 10th May 2014
DESCRIPTION:Regular litter picking event. Focus will be Chapel Lane and Moor Lane.   Meet in Farmer’s Arms car park. New volunteers are most welcome to come along.
URL:https://wilmslowcleanteam.org.uk/event/litter-picking-saturday-10th-may/
LOCATION:Farmer’s Arms\, 71 Chapel Lane\, Wilmslow\, SK9 5JH\, United Kingdom
END:VEVENT
BEGIN:VEVENT
DTSTART;TZID=Europe/London:20140507T100000
DTEND;TZID=Europe/London:20140507T120000
DTSTAMP:20260423T155955
CREATED:20140331T134926Z
LAST-MODIFIED:20140331T135938Z
UID:97-1399456800-1399464000@wilmslowcleanteam.org.uk
SUMMARY:Litter Picking - Wednesday 7th May 2014
DESCRIPTION:Regular litter picking event. Focus will be Lindow Common area and Carnival Fields.   Meet in Lindow Common car park (near Boddington Arms).  New volunteers are most welcome to come along.
URL:https://wilmslowcleanteam.org.uk/event/litter-picking-wednesday-7th-may-2014/
LOCATION:Lindow Common Car Park\, Racecourse Road\, Wilmslow\, SK9 5LR\, United Kingdom
END:VEVENT
BEGIN:VEVENT
DTSTART;TZID=Europe/London:20140422T193000
DTEND;TZID=Europe/London:20140422T210000
DTSTAMP:20260423T155955
CREATED:20140329T154226Z
LAST-MODIFIED:20140408T142353Z
UID:85-1398195000-1398200400@wilmslowcleanteam.org.uk
SUMMARY:AGM
DESCRIPTION:We will have a section reserved for us in the pub (behind a curtain)
URL:https://wilmslowcleanteam.org.uk/event/agm/
LOCATION:The Honey Bee\, Altrincham Road\, Wilmslow\, SK9 4LT\, United Kingdom
END:VEVENT
BEGIN:VEVENT
DTSTART;TZID=Europe/London:20140405T100000
DTEND;TZID=Europe/London:20140405T120000
DTSTAMP:20260423T155955
CREATED:20140329T154013Z
LAST-MODIFIED:20140329T154013Z
UID:84-1396692000-1396699200@wilmslowcleanteam.org.uk
SUMMARY:Litter Picking – Saturday 5th April 2014    *** Wilmslow Spring Clean Week 2014 Event ***
DESCRIPTION:Regular litter picking event. \nFocus wil be on Altrincham Road out to airport tunnels. \nMeet at the Boddington Arms.   New volunteers are most welcome to come along.
URL:https://wilmslowcleanteam.org.uk/event/litter-picking-saturday-5th-april-2014-wilmslow-spring-clean-week-2014-event/
LOCATION:Boddington Arms\, Racecourse Road\, Wilmslow\, SK9 5LR\, United Kingdom
END:VEVENT
BEGIN:VEVENT
DTSTART;TZID=Europe/London:20140402T100000
DTEND;TZID=Europe/London:20140402T120000
DTSTAMP:20260423T155955
CREATED:20140329T153913Z
LAST-MODIFIED:20140329T191349Z
UID:83-1396432800-1396440000@wilmslowcleanteam.org.uk
SUMMARY:Litter Picking – Wednesday 2nd April 2014    *** Wilmslow Spring Clean Week 2014 Event ***
DESCRIPTION:Regular litter picking event. \nFocus will be Altrincham Road out to the airport tunnels. \nMeet at the Boddington Arms.   New volunteers are most welcome to come along.
URL:https://wilmslowcleanteam.org.uk/event/litter-picking-wednesday-2nd-april-2014-wilmslow-spring-clean-week-2014-event/
LOCATION:Boddington Arms\, Racecourse Road\, Wilmslow\, SK9 5LR\, United Kingdom
END:VEVENT
BEGIN:VEVENT
DTSTART;TZID=Europe/London:20140401T100000
DTEND;TZID=Europe/London:20140401T120000
DTSTAMP:20260423T155955
CREATED:20140329T153526Z
LAST-MODIFIED:20140329T154053Z
UID:81-1396346400-1396353600@wilmslowcleanteam.org.uk
SUMMARY:Litter Picking – Tuesday 1st April 2014    *** Wilmslow Spring Clean Week 2014 Event ***
DESCRIPTION:Extra litter picking event organised by the Town Council. \nFocus will be on Parkway\, Sainsburys car park\, Alderley Road (Sainsburys to the Kings Arms roundabout) and Chapel Lane. \nMeet outside Sainsburys.   New volunteers are most welcome to come along.
URL:https://wilmslowcleanteam.org.uk/event/litter-picking/
LOCATION:Sainsbury’s Wilmslow\, 67 Alderley Road\, Wilmslow\, SK9 1NZ \, United Kingdom
END:VEVENT
END:VCALENDAR