BEGIN:VCALENDAR
VERSION:2.0
PRODID:-//Wilmslow CleanTeam - ECPv6.15.20//NONSGML v1.0//EN
CALSCALE:GREGORIAN
METHOD:PUBLISH
X-WR-CALNAME:Wilmslow CleanTeam
X-ORIGINAL-URL:https://wilmslowcleanteam.org.uk
X-WR-CALDESC:Events for Wilmslow CleanTeam
REFRESH-INTERVAL;VALUE=DURATION:PT1H
X-Robots-Tag:noindex
X-PUBLISHED-TTL:PT1H
BEGIN:VTIMEZONE
TZID:Europe/London
BEGIN:DAYLIGHT
TZOFFSETFROM:+0000
TZOFFSETTO:+0100
TZNAME:BST
DTSTART:20130331T010000
END:DAYLIGHT
BEGIN:STANDARD
TZOFFSETFROM:+0100
TZOFFSETTO:+0000
TZNAME:GMT
DTSTART:20131027T010000
END:STANDARD
BEGIN:DAYLIGHT
TZOFFSETFROM:+0000
TZOFFSETTO:+0100
TZNAME:BST
DTSTART:20140330T010000
END:DAYLIGHT
BEGIN:STANDARD
TZOFFSETFROM:+0100
TZOFFSETTO:+0000
TZNAME:GMT
DTSTART:20141026T010000
END:STANDARD
BEGIN:DAYLIGHT
TZOFFSETFROM:+0000
TZOFFSETTO:+0100
TZNAME:BST
DTSTART:20150329T010000
END:DAYLIGHT
BEGIN:STANDARD
TZOFFSETFROM:+0100
TZOFFSETTO:+0000
TZNAME:GMT
DTSTART:20151025T010000
END:STANDARD
BEGIN:DAYLIGHT
TZOFFSETFROM:+0000
TZOFFSETTO:+0100
TZNAME:BST
DTSTART:20160327T010000
END:DAYLIGHT
BEGIN:STANDARD
TZOFFSETFROM:+0100
TZOFFSETTO:+0000
TZNAME:GMT
DTSTART:20161030T010000
END:STANDARD
END:VTIMEZONE
BEGIN:VEVENT
DTSTART;TZID=Europe/London:20150506T100000
DTEND;TZID=Europe/London:20150506T120000
DTSTAMP:20260423T121039
CREATED:20150112T220620Z
LAST-MODIFIED:20150112T221214Z
UID:382-1430906400-1430913600@wilmslowcleanteam.org.uk
SUMMARY:Litter Picking Event - Wednesday 6th May 2015
DESCRIPTION:Regular litter picking event. Focus will be Lindow Common and Altrincham Road. Meet in Lindow Common car park. New volunteers are most welcome to come along.
URL:https://wilmslowcleanteam.org.uk/event/litter-picking-event-wednesday-6th-may-2015/
LOCATION:Lindow Common Car Park\, Racecourse Road\, Wilmslow\, SK9 5LR\, United Kingdom
CATEGORIES:Litter Picking Events
END:VEVENT
BEGIN:VEVENT
DTSTART;TZID=Europe/London:20150404T100000
DTEND;TZID=Europe/London:20150404T120000
DTSTAMP:20260423T121039
CREATED:20150112T220459Z
LAST-MODIFIED:20150112T220459Z
UID:381-1428141600-1428148800@wilmslowcleanteam.org.uk
SUMMARY:Litter Picking Event - Saturday 4th April 2015
DESCRIPTION:Regular litter picking event. Focus will be the area around the Kings Arms roundabout – e.g. Knusford Road and Alderley Road.  Meet in the King’s Arms car park. New volunteers are most welcome to come along.
URL:https://wilmslowcleanteam.org.uk/event/litter-picking-event-saturday-4th-april-2015/
LOCATION:The King’s Arms\, Alderley Road\, Wilmslow\, SK9 1PZ\, United Kingdom
CATEGORIES:Litter Picking Events
END:VEVENT
BEGIN:VEVENT
DTSTART;TZID=Europe/London:20150401T100000
DTEND;TZID=Europe/London:20150401T120000
DTSTAMP:20260423T121039
CREATED:20150327T182039Z
LAST-MODIFIED:20150327T182039Z
UID:462-1427882400-1427889600@wilmslowcleanteam.org.uk
SUMMARY:Litter Picking Event - Wednesday 1st April 2015 @ 10:00
DESCRIPTION:Regular litter picking event. \nMeet in the Parish Hall car park (20p for 2 hours) @ 10:00 \nFocus will be the link road between The King William roundabout and the Ford dealership. \nIf numbers allow then a party will head off by car to do Prestbury Road. \nNew volunteers are most welcome to come along.
URL:https://wilmslowcleanteam.org.uk/event/litter-picking-event-wednesday-1st-april-2015-1000/
LOCATION:Wilmslow Parish Hall\, Cliff Road\, Wilmslow\, SK9 4AA\, United Kingdom
CATEGORIES:Litter Picking Events
END:VEVENT
BEGIN:VEVENT
DTSTART;TZID=Europe/London:20150322T150000
DTEND;TZID=Europe/London:20150322T173000
DTSTAMP:20260423T121039
CREATED:20150312T080254Z
LAST-MODIFIED:20150312T080254Z
UID:440-1427036400-1427045400@wilmslowcleanteam.org.uk
SUMMARY:Film Screening : "Trashed" – Sunday 22nd March 2015 *** Wilmslow Spring Clean Week 2015 Event ***
DESCRIPTION:As part of “Spring Clean Week 2015”\, we will be screening the “Trashed” documentary film at The Old Dancer (Jeremy Irons presents a hard hitting documentary on the global problem of litter and waste)\nhttp://www.trashedfilm.com/ \nThe movie will be shows at 15:00 on Sunday 22nd March 2015 \nFree entry – newcomers welcome \n 
URL:https://wilmslowcleanteam.org.uk/event/film-screening-trashed-sunday-22nd-march-2015-wilmslow-spring-clean-week-2015-event/
LOCATION:The Old Dancer\, 16 Grove Street\, Wilmslow\, SK9 1DR\, United Kingdom
CATEGORIES:Social Event,Spring Clean
END:VEVENT
BEGIN:VEVENT
DTSTART;TZID=Europe/London:20150321T193000
DTEND;TZID=Europe/London:20150321T220000
DTSTAMP:20260423T121039
CREATED:20150306T192027Z
LAST-MODIFIED:20150307T142702Z
UID:409-1426966200-1426975200@wilmslowcleanteam.org.uk
SUMMARY:Drinks Night - Saturday 21st March 2015  *** Wilmslow Spring Clean Week 2015 Event ***
DESCRIPTION:Come and join us for drinks and find out what we have been doing to support Wilmslow Spring Clean Week 2015 \nMeet in The Coach & Four at 19:30
URL:https://wilmslowcleanteam.org.uk/event/drinks-night-saturday-21st-march-2015/
LOCATION:Coach And Four\, 69-71 Alderley Rd\, Wilmslow\, SK9 1PA\, United Kingdom
CATEGORIES:Social Event,Spring Clean
END:VEVENT
BEGIN:VEVENT
DTSTART;TZID=Europe/London:20150321T170000
DTEND;TZID=Europe/London:20150321T190000
DTSTAMP:20260423T121039
CREATED:20150315T090109Z
LAST-MODIFIED:20150315T090358Z
UID:443-1426957200-1426964400@wilmslowcleanteam.org.uk
SUMMARY:Litter Picking Event – Saturday 21st March 2015 17:00 *** Wilmslow Spring Clean Week 2015 Event ***
DESCRIPTION:A mini “Spring Clean 2015” litter picking event \nFocus will be Spring Street Car Park \nMeet at 17:00 \nNewcomers welcome \nWilmslow Clean Team Co-ordinator : Stuart
URL:https://wilmslowcleanteam.org.uk/event/litter-picking-event-saturday-21st-march-2015-wilmslow-spring-clean-week-2015-event/
LOCATION:Spring Street Car Park\, Spring Street\, Wilmslow\, SK9 5AP\, United Kingdom
CATEGORIES:Litter Picking Events,Spring Clean
END:VEVENT
BEGIN:VEVENT
DTSTART;TZID=Europe/London:20150321T100000
DTEND;TZID=Europe/London:20150321T160000
DTSTAMP:20260423T121039
CREATED:20150307T144124Z
LAST-MODIFIED:20150321T091511Z
UID:423-1426932000-1426953600@wilmslowcleanteam.org.uk
SUMMARY:Artisan Market + Litter Picking – Saturday 21st March 2015 *** Wilmslow Spring Clean Week 2015 Event ***
DESCRIPTION:*** CHANGE OF PLAN *** \nWe were initially hoping to have a stall at the Artisan Market where our volunteers would be on hand to spread the word about our work and to encourage involvement from new volunteers and local businesses. \nThis has fallen through though. \nInstead\, our volunteers will be in and around the market in the morning (and possibly later on too).  So – feel free to stop us for a chat if you want to find out more about our work.
URL:https://wilmslowcleanteam.org.uk/event/artisan-market-litter-picking-saturday-21st-march-2015-wilmslow-spring-clean-week-2015-event/
LOCATION:Hoopers\, 35 Alderley Road\, Wilmslow\, SK9 1PB\, United Kingdom
CATEGORIES:Litter Picking Events,Spring Clean
END:VEVENT
BEGIN:VEVENT
DTSTART;TZID=Europe/London:20150320T181500
DTEND;TZID=Europe/London:20150320T190000
DTSTAMP:20260423T121039
CREATED:20150306T192432Z
LAST-MODIFIED:20150318T185032Z
UID:411-1426875300-1426878000@wilmslowcleanteam.org.uk
SUMMARY:Litter Picking Event - Friday 20th March 2015  18:15 *** Wilmslow Spring Clean Week 2015 Event ***
DESCRIPTION:A litter picking event in conjunction with 6th Wilmslow Scouts. \nMeet at the Leisure Centre at 18:15 \nNote : The time has been moved forward from the originally published time of 19:00  (due to safety concerns because of daylight hours) \n 
URL:https://wilmslowcleanteam.org.uk/event/litter-picking-event-friday-20th-march-2015/
LOCATION:Wilmslow Leisure Centre\, Rectory Fields\, Wilmslow\, SK9 1BU\, United Kingdom
CATEGORIES:Litter Picking Events
END:VEVENT
BEGIN:VEVENT
DTSTART;TZID=Europe/London:20150320T133000
DTEND;TZID=Europe/London:20150320T153000
DTSTAMP:20260423T121039
CREATED:20150307T143439Z
LAST-MODIFIED:20150307T145345Z
UID:420-1426858200-1426865400@wilmslowcleanteam.org.uk
SUMMARY:Litter Picking Event – Friday 20th March 2015 13:30 *** Wilmslow Spring Clean Week 2015 Event ***
DESCRIPTION:A “Spring Clean 2015” litter picking event \nFocus will be Sainsbury’s car park\, library etc \nMeet in Sainsbury’s Car Park at 13:30 \nNewcomers welcome \nWilmslow Clean Team Co-ordinator : Stuart
URL:https://wilmslowcleanteam.org.uk/event/litter-picking-event-friday-20th-march-2015-wilmslow-spring-clean-week-2015-event/
LOCATION:Sainsbury’s Wilmslow\, 67 Alderley Road\, Wilmslow\, SK9 1NZ \, United Kingdom
CATEGORIES:Litter Picking Events,Spring Clean
END:VEVENT
BEGIN:VEVENT
DTSTART;TZID=Europe/London:20150318T133000
DTEND;TZID=Europe/London:20150318T153000
DTSTAMP:20260423T121039
CREATED:20150307T143110Z
LAST-MODIFIED:20150307T144350Z
UID:419-1426685400-1426692600@wilmslowcleanteam.org.uk
SUMMARY:Litter Picking Event - Wednesday 18th March 2015  *** Wilmslow Spring Clean Week 2015 Event ***
DESCRIPTION:A “Spring Clean 2015” litter picking event \nFocus will be in and around Summerfields and down towards Manchester Road \nMeet in Summerfields Car Park at 13:30 \nNewcomers welcome \nWilmslow Clean Team Co-ordinator : Sally
URL:https://wilmslowcleanteam.org.uk/event/litter-picking-event-wednesday-18th-march-2015-wilmslow-spring-clean-week-2015-event/
LOCATION:Summerfields Centre Car Park\, Dean Row Road\, Wilmslow\, SK9 2TA\, United Kingdom
CATEGORIES:Litter Picking Events,Spring Clean
END:VEVENT
BEGIN:VEVENT
DTSTART;TZID=Europe/London:20150317T173000
DTEND;TZID=Europe/London:20150317T183000
DTSTAMP:20260423T121039
CREATED:20150311T222352Z
LAST-MODIFIED:20150311T222352Z
UID:438-1426613400-1426617000@wilmslowcleanteam.org.uk
SUMMARY:Litter Picking Event - Tuesday 17th March 2015  17:30 *** Wilmslow Spring Clean Week 2015 Event ***
DESCRIPTION:A “Spring Clean 2015″ litter picking event \nFocus will be The Carrs \nMeet in The Parish Hall Car Park at 17:30 \nNewcomers welcome \nWilmslow Clean Team Co-ordinator : Vickie
URL:https://wilmslowcleanteam.org.uk/event/litter-picking-event-tuesday-17th-march-2015-1730-wilmslow-spring-clean-week-2015-event/
LOCATION:Wilmslow Parish Hall\, Cliff Road\, Wilmslow\, SK9 4AA\, United Kingdom
CATEGORIES:Litter Picking Events,Spring Clean
END:VEVENT
BEGIN:VEVENT
DTSTART;TZID=Europe/London:20150316T133000
DTEND;TZID=Europe/London:20150316T153000
DTSTAMP:20260423T121039
CREATED:20150307T142410Z
LAST-MODIFIED:20150307T144316Z
UID:417-1426512600-1426519800@wilmslowcleanteam.org.uk
SUMMARY:Litter Picking Event - Monday 16th March 2015  *** Wilmslow Spring Clean Week 2015 Event ***
DESCRIPTION:A “Spring Clean 2015” litter picking event \nFocus will be Altrincham Road\, past Waters and The Honey Bee and on towards the Airport Tunnels \nMeet in Lindow Common Car Park at 13:30 \nNewcomers welcome \nWilmslow Clean Team Co-ordinator : Ann
URL:https://wilmslowcleanteam.org.uk/event/litter-picking-event-monday-16th-march-2015/
LOCATION:Lindow Common Car Park\, Racecourse Road\, Wilmslow\, SK9 5LR\, United Kingdom
CATEGORIES:Litter Picking Events,Spring Clean
END:VEVENT
BEGIN:VEVENT
DTSTART;TZID=Europe/London:20150307T100000
DTEND;TZID=Europe/London:20150307T120000
DTSTAMP:20260423T121039
CREATED:20150112T220307Z
LAST-MODIFIED:20150112T220307Z
UID:380-1425722400-1425729600@wilmslowcleanteam.org.uk
SUMMARY:Litter Picking Event - Saturday 7th March 2015
DESCRIPTION:Regular litter picking event. Focus will be Lacey Green Park and the surrounding area. Meet at the entrance to Lacey Green Park. New volunteers are most welcome to come along.
URL:https://wilmslowcleanteam.org.uk/event/litter-picking-event-saturday-7th-march-2015/
LOCATION:Lacey Green Park\, Barlow Road\, Wilmslow\, SK9 4BS\, United Kingdom
CATEGORIES:Litter Picking Events
END:VEVENT
BEGIN:VEVENT
DTSTART;TZID=Europe/London:20150304T100000
DTEND;TZID=Europe/London:20150304T120000
DTSTAMP:20260423T121039
CREATED:20150112T220124Z
LAST-MODIFIED:20150112T220124Z
UID:379-1425463200-1425470400@wilmslowcleanteam.org.uk
SUMMARY:Litter Picking Event - Wednesday 4th March 2014
DESCRIPTION:Regular litter picking event. Focus will be the area around the Leisure Centre and the Railway Station.  Meet in the Leisure Centre car park. New volunteers are most welcome to come along.
URL:https://wilmslowcleanteam.org.uk/event/litter-picking-event-wednesday-4th-march-2014/
LOCATION:Wilmslow Leisure Centre\, Rectory Fields\, Wilmslow\, SK9 1BU\, United Kingdom
CATEGORIES:Litter Picking Events
END:VEVENT
BEGIN:VEVENT
DTSTART;TZID=Europe/London:20150207T100000
DTEND;TZID=Europe/London:20150207T120000
DTSTAMP:20260423T121039
CREATED:20150112T214803Z
LAST-MODIFIED:20150112T214846Z
UID:378-1423303200-1423310400@wilmslowcleanteam.org.uk
SUMMARY:Litter Picking Event - Saturday 7th February 2015
DESCRIPTION:Regular litter picking event. Focus will be the area around Summerfields. Meet in the Summerfields car park. New volunteers are most welcome to come along.
URL:https://wilmslowcleanteam.org.uk/event/litter-picking-event-saturday-7th-february-2015/
LOCATION:Summerfields Centre Car Park\, Dean Row Road\, Wilmslow\, SK9 2TA\, United Kingdom
CATEGORIES:Litter Picking Events
END:VEVENT
BEGIN:VEVENT
DTSTART;TZID=Europe/London:20150204T100000
DTEND;TZID=Europe/London:20150204T120000
DTSTAMP:20260423T121039
CREATED:20150112T214614Z
LAST-MODIFIED:20150112T214826Z
UID:377-1423044000-1423051200@wilmslowcleanteam.org.uk
SUMMARY:Litter Picking - Wednesday 4th February 2015
DESCRIPTION:Regular litter picking event. Focus will be The Carrs. Meet in the Parish Hall car park. New volunteers are most welcome to come along.
URL:https://wilmslowcleanteam.org.uk/event/litter-picking-wednesday-4th-february-2015/
LOCATION:Wilmslow Parish Hall\, Cliff Road\, Wilmslow\, SK9 4AA\, United Kingdom
CATEGORIES:Litter Picking Events
END:VEVENT
BEGIN:VEVENT
DTSTART;TZID=Europe/London:20150110T100000
DTEND;TZID=Europe/London:20150110T120000
DTSTAMP:20260423T121039
CREATED:20141223T001441Z
LAST-MODIFIED:20141223T001447Z
UID:365-1420884000-1420891200@wilmslowcleanteam.org.uk
SUMMARY:Litter Picking - Saturday 10th January 2015
DESCRIPTION:Regular litter picking event. Focus will be Chapel Lane / Moor Lane and the surrounding area.  Meet in the Farmer’s Arms car park. New volunteers are most welcome to come along.
URL:https://wilmslowcleanteam.org.uk/event/litter-picking-saturday-10th-january-2015/
LOCATION:Farmer’s Arms\, 71 Chapel Lane\, Wilmslow\, SK9 5JH\, United Kingdom
CATEGORIES:Litter Picking Events
END:VEVENT
BEGIN:VEVENT
DTSTART;TZID=Europe/London:20150107T100000
DTEND;TZID=Europe/London:20150107T120000
DTSTAMP:20260423T121039
CREATED:20141223T001315Z
LAST-MODIFIED:20141223T001502Z
UID:364-1420624800-1420632000@wilmslowcleanteam.org.uk
SUMMARY:Litter Picking - Wednesday 7th January 2015
DESCRIPTION:Regular litter picking event. Focus will be the town centre. Meet in Bank Square. New volunteers are most welcome to come along.
URL:https://wilmslowcleanteam.org.uk/event/litter-picking-wednesday-7th-january-2015/
LOCATION:Bank Square\, Wilmslow\, SK9 1AN\, United Kingdom
CATEGORIES:Litter Picking Events
END:VEVENT
BEGIN:VEVENT
DTSTART;TZID=Europe/London:20141222T200000
DTEND;TZID=Europe/London:20141222T220000
DTSTAMP:20260423T121039
CREATED:20141219T202342Z
LAST-MODIFIED:20141223T001508Z
UID:356-1419278400-1419285600@wilmslowcleanteam.org.uk
SUMMARY:Social Event - Monday 22nd December @ Coach & Four
DESCRIPTION:End of year drinks.
URL:https://wilmslowcleanteam.org.uk/event/social-event-coach-four/
LOCATION:Coach And Four\, 69-71 Alderley Rd\, Wilmslow\, SK9 1PA\, United Kingdom
CATEGORIES:Social Event
END:VEVENT
BEGIN:VEVENT
DTSTART;TZID=Europe/London:20141220T100000
DTEND;TZID=Europe/London:20141220T120000
DTSTAMP:20260423T121039
CREATED:20140721T115649Z
LAST-MODIFIED:20141223T001513Z
UID:244-1419069600-1419076800@wilmslowcleanteam.org.uk
SUMMARY:Litter Picking - Saturday 20th December 2014
DESCRIPTION:Regular litter picking event. Focus will be the town centre. Meet at Bank Square. New volunteers are most welcome to come along.
URL:https://wilmslowcleanteam.org.uk/event/litter-picking-saturday-20th-december-2014/
LOCATION:Bank Square\, Wilmslow\, SK9 1AN\, United Kingdom
CATEGORIES:Litter Picking Events
END:VEVENT
BEGIN:VEVENT
DTSTART;TZID=Europe/London:20141206T100000
DTEND;TZID=Europe/London:20141206T120000
DTSTAMP:20260423T121039
CREATED:20140721T115616Z
LAST-MODIFIED:20141223T001519Z
UID:243-1417860000-1417867200@wilmslowcleanteam.org.uk
SUMMARY:Litter Picking - Saturday 6th December 2014
DESCRIPTION:Regular litter picking event. Focus will be Altrincham Road and the airport tunnels. Meet in the Honey Bee car park. New volunteers are most welcome to come along.
URL:https://wilmslowcleanteam.org.uk/event/litter-picking-saturday-6th-december-2014/
LOCATION:The Honey Bee\, Altrincham Road\, Wilmslow\, SK9 4LT\, United Kingdom
CATEGORIES:Litter Picking Events
END:VEVENT
BEGIN:VEVENT
DTSTART;TZID=Europe/London:20141203T100000
DTEND;TZID=Europe/London:20141203T120000
DTSTAMP:20260423T121039
CREATED:20140721T115441Z
LAST-MODIFIED:20141223T001525Z
UID:242-1417600800-1417608000@wilmslowcleanteam.org.uk
SUMMARY:Litter Picking - Wednesday 3rd December 2014
DESCRIPTION:Regular litter picking event. Focus will be Alderley Road and Knutsford Road. Meet in the King’s Arms car park. New volunteers are most welcome to come along.
URL:https://wilmslowcleanteam.org.uk/event/litter-picking-wednesday-3rd-december-2014/
LOCATION:The King’s Arms\, Alderley Road\, Wilmslow\, SK9 1PZ\, United Kingdom
CATEGORIES:Litter Picking Events
END:VEVENT
BEGIN:VEVENT
DTSTART;TZID=Europe/London:20141108T100000
DTEND;TZID=Europe/London:20141108T120000
DTSTAMP:20260423T121039
CREATED:20140721T115338Z
LAST-MODIFIED:20141223T001532Z
UID:241-1415440800-1415448000@wilmslowcleanteam.org.uk
SUMMARY:Litter Picking Event - Saturday 8th November 2014
DESCRIPTION:Regular litter picking event. Focus will be the town centre. Meet at Bank Square. New volunteers are most welcome to come along.
URL:https://wilmslowcleanteam.org.uk/event/litter-picking-event-saturday-8th-november-2014/
LOCATION:Bank Square\, Wilmslow\, SK9 1AN\, United Kingdom
CATEGORIES:Litter Picking Events
END:VEVENT
BEGIN:VEVENT
DTSTART;TZID=Europe/London:20141105T100000
DTEND;TZID=Europe/London:20141105T120000
DTSTAMP:20260423T121039
CREATED:20140721T115259Z
LAST-MODIFIED:20141223T001537Z
UID:240-1415181600-1415188800@wilmslowcleanteam.org.uk
SUMMARY:Litter Picking - Wednesday 5th November 2014
DESCRIPTION:Regular litter picking event. Focus will be the Alderley Edge bypass. Meet in the King’s Arms car park. New volunteers are most welcome to come along.
URL:https://wilmslowcleanteam.org.uk/event/litter-picking-wednesday-5th-november-2014/
LOCATION:The King’s Arms\, Alderley Road\, Wilmslow\, SK9 1PZ\, United Kingdom
CATEGORIES:Litter Picking Events
END:VEVENT
BEGIN:VEVENT
DTSTART;TZID=Europe/London:20141016T100000
DTEND;TZID=Europe/London:20141016T120000
DTSTAMP:20260423T121039
CREATED:20140721T115109Z
LAST-MODIFIED:20141223T001545Z
UID:239-1413453600-1413460800@wilmslowcleanteam.org.uk
SUMMARY:"Keep Britain Tidy - The Big Tidy Up" Litter Picking Event - Thursday 16th October 2014
DESCRIPTION:Litter picking event in support of the Keep Britain Tidy “The Big Tidy Up” campaign – this is a nationwide event running throughout October. \nFocus will be the Leisure Centre and surrounding area. Meet in the Lesisure Centre car park. New volunteers are most welcome to come along.
URL:https://wilmslowcleanteam.org.uk/event/litter-picking-event-thursday-16th-october-2014/
LOCATION:Wilmslow Leisure Centre\, Rectory Fields\, Wilmslow\, SK9 1BU\, United Kingdom
CATEGORIES:Litter Picking Events
END:VEVENT
BEGIN:VEVENT
DTSTART;TZID=Europe/London:20141014T190000
DTEND;TZID=Europe/London:20141014T223000
DTSTAMP:20260423T121039
CREATED:20140923T132243Z
LAST-MODIFIED:20140926T123317Z
UID:309-1413313200-1413325800@wilmslowcleanteam.org.uk
SUMMARY:1st Birthday Party
DESCRIPTION:We are 1 year old on 14th October. \nWe are getting together to celebrate at the Old Dancer in Grove Street.  We will have an area reserved upstairs. \nOh – and there will be cake ! \nHope to see you there.
URL:https://wilmslowcleanteam.org.uk/event/1st-birthday-party/
LOCATION:The Old Dancer\, 16 Grove Street\, Wilmslow\, SK9 1DR\, United Kingdom
CATEGORIES:Social Event
END:VEVENT
BEGIN:VEVENT
DTSTART;TZID=Europe/London:20141004T100000
DTEND;TZID=Europe/London:20141004T120000
DTSTAMP:20260423T121039
CREATED:20140721T114904Z
LAST-MODIFIED:20140929T123740Z
UID:238-1412416800-1412424000@wilmslowcleanteam.org.uk
SUMMARY:"Keep Britain Tidy - The Big Tidy Up" Litter Picking - Saturday 4th October 2014
DESCRIPTION:Litter picking event in support of the Keep Britain Tidy “The Big Tidy Up” campaign – this is a nationwide event running throughout October. \nMeet on Pinewood Road (next to Hazelmere House Nursing Home). \nFocus will be the grassed/pond area opposite the nursing home and the Wilmslow Park residential area in general. \nNew volunteers are most welcome to come along.
URL:https://wilmslowcleanteam.org.uk/event/litter-picking-saturday-4th-october-2014/
LOCATION:Hazlemere House Care Home\, Pinewood Road\, Wilmslow\, SK9 2RS\, United Kingdom
CATEGORIES:Litter Picking Events
END:VEVENT
BEGIN:VEVENT
DTSTART;TZID=Europe/London:20141001T100000
DTEND;TZID=Europe/London:20141001T120000
DTSTAMP:20260423T121039
CREATED:20140721T114810Z
LAST-MODIFIED:20140926T140723Z
UID:237-1412157600-1412164800@wilmslowcleanteam.org.uk
SUMMARY:"Keep Britain Tidy - The Big Tidy Up" Litter Picking - Wednesday 1st October 2014
DESCRIPTION:Litter picking event in support of the Keep Britain Tidy “The Big Tidy Up” campaign – this is a nationwide event running throughout October. \nFocus will be the town centre. Meet at Bank Square. New volunteers are most welcome to come along.
URL:https://wilmslowcleanteam.org.uk/event/litter-picking-wednesday-1st-october-2014/
LOCATION:Bank Square\, Wilmslow\, SK9 1AN\, United Kingdom
CATEGORIES:Litter Picking Events
END:VEVENT
BEGIN:VEVENT
DTSTART;TZID=Europe/London:20140918T100000
DTEND;TZID=Europe/London:20140918T120000
DTSTAMP:20260423T121039
CREATED:20140721T114526Z
LAST-MODIFIED:20141223T001555Z
UID:235-1411034400-1411041600@wilmslowcleanteam.org.uk
SUMMARY:Litter Picking - Thursday 18th September 2014
DESCRIPTION:Regular litter picking event. Focus will be the Alderley Edge by pass. Meet in the King’s Arms car park. New volunteers are most welcome to come along.
URL:https://wilmslowcleanteam.org.uk/event/litter-picking-thursday-18th-september-2014/
LOCATION:The King’s Arms\, Alderley Road\, Wilmslow\, SK9 1PZ\, United Kingdom
CATEGORIES:Litter Picking Events
END:VEVENT
BEGIN:VEVENT
DTSTART;TZID=Europe/London:20140913T100000
DTEND;TZID=Europe/London:20140913T120000
DTSTAMP:20260423T121039
CREATED:20140908T110858Z
LAST-MODIFIED:20140908T110858Z
UID:277-1410602400-1410609600@wilmslowcleanteam.org.uk
SUMMARY:Extra "UK Clean Up Campaign" Litter Pick - Saturday 13th September 2014
DESCRIPTION:We have decided to stage an additional litter pick in September – in support of the letsdoit.uk “UK Clean Up Campaign”   (#ukcleanupday) \nClean up events are being organised nationwide on Saturday 13th September 2014. \nMeet at Bank Square at 10:00.  We can head off in various directions – e.g. Town Centre\, Carrs\, Railway Station\, Leisure Centre. \nNew volunteers welcome – all equipment provided. \n 
URL:https://wilmslowcleanteam.org.uk/event/extra-uk-clean-up-campaign-litter-pick-saturday-13th-september-2014/
LOCATION:Bank Square\, Wilmslow\, SK9 1AN\, United Kingdom
CATEGORIES:Litter Picking Events
END:VEVENT
END:VCALENDAR