BEGIN:VCALENDAR
VERSION:2.0
PRODID:-//Wilmslow CleanTeam - ECPv6.15.20//NONSGML v1.0//EN
CALSCALE:GREGORIAN
METHOD:PUBLISH
X-WR-CALNAME:Wilmslow CleanTeam
X-ORIGINAL-URL:https://wilmslowcleanteam.org.uk
X-WR-CALDESC:Events for Wilmslow CleanTeam
REFRESH-INTERVAL;VALUE=DURATION:PT1H
X-Robots-Tag:noindex
X-PUBLISHED-TTL:PT1H
BEGIN:VTIMEZONE
TZID:UTC
BEGIN:STANDARD
TZOFFSETFROM:+0000
TZOFFSETTO:+0000
TZNAME:UTC
DTSTART:20140101T000000
END:STANDARD
END:VTIMEZONE
BEGIN:VTIMEZONE
TZID:Europe/London
BEGIN:DAYLIGHT
TZOFFSETFROM:+0000
TZOFFSETTO:+0100
TZNAME:BST
DTSTART:20140330T010000
END:DAYLIGHT
BEGIN:STANDARD
TZOFFSETFROM:+0100
TZOFFSETTO:+0000
TZNAME:GMT
DTSTART:20141026T010000
END:STANDARD
BEGIN:DAYLIGHT
TZOFFSETFROM:+0000
TZOFFSETTO:+0100
TZNAME:BST
DTSTART:20150329T010000
END:DAYLIGHT
BEGIN:STANDARD
TZOFFSETFROM:+0100
TZOFFSETTO:+0000
TZNAME:GMT
DTSTART:20151025T010000
END:STANDARD
BEGIN:DAYLIGHT
TZOFFSETFROM:+0000
TZOFFSETTO:+0100
TZNAME:BST
DTSTART:20160327T010000
END:DAYLIGHT
BEGIN:STANDARD
TZOFFSETFROM:+0100
TZOFFSETTO:+0000
TZNAME:GMT
DTSTART:20161030T010000
END:STANDARD
END:VTIMEZONE
BEGIN:VEVENT
DTSTART;TZID=UTC:20160406T100000
DTEND;TZID=UTC:20160406T120000
DTSTAMP:20260423T053744
CREATED:20160306T105434Z
LAST-MODIFIED:20160404T153155Z
UID:609-1459936800-1459944000@wilmslowcleanteam.org.uk
SUMMARY:Litter Picking Event – Wednesday 6th April 2016 10:00
DESCRIPTION:Regular litter picking event. \nFocus will be Lindow Common and Altrincham Road. \nMeet in Lindow Common Car Park \nNew volunteers are most welcome to come along.
URL:https://wilmslowcleanteam.org.uk/event/litter-picking-event-wednesday-6th-april-2016-1000/
LOCATION:Lindow Common Car Park\, Racecourse Road\, Wilmslow\, SK9 5LR\, United Kingdom
CATEGORIES:Litter Picking Events
END:VEVENT
BEGIN:VEVENT
DTSTART;TZID=UTC:20160306T140000
DTEND;TZID=UTC:20160306T160000
DTSTAMP:20260423T053744
CREATED:20160206T173829Z
LAST-MODIFIED:20160306T091132Z
UID:591-1457272800-1457280000@wilmslowcleanteam.org.uk
SUMMARY:Litter Picking Event - Sunday 6th March 2016  14:00 *** Wilmslow Spring Clean Week 2016 Event ***
DESCRIPTION:Spring Clean 2016 \nFocus will be the town centre\, Leisure Centre\, station \nMeet in Rex Car Park (rear of Hoopers) \n 
URL:https://wilmslowcleanteam.org.uk/event/litter-picking-event-sunday-6th-march-2016-wilmslow-spring-clean-week-2016-event/
LOCATION:Rex Car Park (behind Hoopers)\, Alderley Road\, Wilmslow\, SK9 1PB\, United Kingdom
CATEGORIES:Litter Picking Events,Spring Clean
END:VEVENT
BEGIN:VEVENT
DTSTART;TZID=UTC:20160305T100000
DTEND;TZID=UTC:20160305T120000
DTSTAMP:20260423T053744
CREATED:20151028T113751Z
LAST-MODIFIED:20160206T173536Z
UID:555-1457172000-1457179200@wilmslowcleanteam.org.uk
SUMMARY:Litter Picking Event – Saturday 5th March 2016 10:00   *** Wilmslow Spring Clean Week 2016 Event ***
DESCRIPTION:Regular litter picking event. Focus will be the area around Summerfields and Colshaw Drive. \nMeet in the Summerfields car park. \nNew volunteers are most welcome to come along.
URL:https://wilmslowcleanteam.org.uk/event/litter-picking-event-saturday-5th-march-2016-1000/
LOCATION:Summerfields Centre Car Park\, Dean Row Road\, Wilmslow\, SK9 2TA\, United Kingdom
CATEGORIES:Litter Picking Events,Spring Clean
END:VEVENT
BEGIN:VEVENT
DTSTART;TZID=UTC:20160304T140000
DTEND;TZID=UTC:20160304T160000
DTSTAMP:20260423T053744
CREATED:20160206T173656Z
LAST-MODIFIED:20160206T175601Z
UID:590-1457100000-1457107200@wilmslowcleanteam.org.uk
SUMMARY:Litter Picking Event - Friday 4th March 2016  14:00 *** Wilmslow Spring Clean Week 2016 Event ***
DESCRIPTION:Spring Clean 2016 event \nFocus will be Lacey Green \nMeet at Lacey Green Pavilion on Clough Avenue
URL:https://wilmslowcleanteam.org.uk/event/litter-picking-event-friday-4th-march-2016-wilmslow-spring-clean-week-2016-event/
LOCATION:Lacey Green Pavilion\, Clough Avenue\, Wilmslow\, SK9 4BU\, United Kingdom
CATEGORIES:Litter Picking Events,Spring Clean
END:VEVENT
BEGIN:VEVENT
DTSTART;TZID=UTC:20160302T100000
DTEND;TZID=UTC:20160302T120000
DTSTAMP:20260423T053744
CREATED:20151028T113642Z
LAST-MODIFIED:20160206T173442Z
UID:554-1456912800-1456920000@wilmslowcleanteam.org.uk
SUMMARY:Litter Picking Event – Wednesday 2nd March 2016 10:00   *** Wilmslow Spring Clean Week 2016 Event ***
DESCRIPTION:Regular litter picking event. Focus will be the town centre\, Leisure Centre\, Station. \nMeet at Bank Square. \nNew volunteers are most welcome to come along.
URL:https://wilmslowcleanteam.org.uk/event/litter-picking-event-wednesday-2nd-march-2016-1000/
LOCATION:Bank Square\, Wilmslow\, SK9 1AN\, United Kingdom
CATEGORIES:Litter Picking Events,Spring Clean
END:VEVENT
BEGIN:VEVENT
DTSTART;TZID=UTC:20160229T140000
DTEND;TZID=UTC:20160229T160000
DTSTAMP:20260423T053744
CREATED:20160206T173232Z
LAST-MODIFIED:20160206T173359Z
UID:589-1456754400-1456761600@wilmslowcleanteam.org.uk
SUMMARY:Litter Picking Event – Monday 29th February 2016 14:00   *** Wilmslow Spring Clean Week 2016 Event ***
DESCRIPTION:Spring Clean 2016 Event \nFocus will be on Lindow Common\, Carnival Fields and Altrincham Road \nMeet in Lindow Common Car Park on Racecourse Road \n  \n 
URL:https://wilmslowcleanteam.org.uk/event/litter-picking-event-monday-29th-february-2016-1400/
LOCATION:Lindow Common Car Park\, Racecourse Road\, Wilmslow\, SK9 5LR\, United Kingdom
CATEGORIES:Litter Picking Events,Spring Clean
END:VEVENT
BEGIN:VEVENT
DTSTART;TZID=UTC:20160206T100000
DTEND;TZID=UTC:20160206T120000
DTSTAMP:20260423T053744
CREATED:20151028T113241Z
LAST-MODIFIED:20160204T182443Z
UID:553-1454752800-1454760000@wilmslowcleanteam.org.uk
SUMMARY:Litter Picking Event – Saturday 6th February 2016 10:00
DESCRIPTION:Regular litter picking event. Focus will be Altrincham Road and the airport tunnels. \nMeet in the Honey Bee car park. \nNew volunteers are most welcome to come along.
URL:https://wilmslowcleanteam.org.uk/event/litter-picking-event-saturday-6th-feb-2016-1000/
LOCATION:The Honey Bee\, Altrincham Road\, Wilmslow\, SK9 4LT\, United Kingdom
CATEGORIES:Litter Picking Events
END:VEVENT
BEGIN:VEVENT
DTSTART;TZID=UTC:20160203T100000
DTEND;TZID=UTC:20160203T120000
DTSTAMP:20260423T053744
CREATED:20151028T113103Z
LAST-MODIFIED:20160125T203906Z
UID:552-1454493600-1454500800@wilmslowcleanteam.org.uk
SUMMARY:Litter Picking Event – Wednesday 3rd February 2016 10:00
DESCRIPTION:Regular litter picking event. Focus will be The Carrs + one car will head off to the Prestbury Link Road (if numbers allow). \nMeet in the Parish Hall car park. \nNew volunteers are most welcome to come along.
URL:https://wilmslowcleanteam.org.uk/event/litter-picking-event-wednesday-3rd-feb-2016-1000/
LOCATION:Wilmslow Parish Hall\, Cliff Road\, Wilmslow\, SK9 4AA\, United Kingdom
CATEGORIES:Litter Picking Events
END:VEVENT
BEGIN:VEVENT
DTSTART;TZID=UTC:20160109T100000
DTEND;TZID=UTC:20160109T120000
DTSTAMP:20260423T053744
CREATED:20151028T112633Z
LAST-MODIFIED:20160108T192657Z
UID:550-1452333600-1452340800@wilmslowcleanteam.org.uk
SUMMARY:Litter Picking Event – Saturday 9th January 2016 10:00
DESCRIPTION:Regular litter picking event. Focus will be the Leisure Centre\, the area round the Railway Station and the town centre. \nMeet at Bank Square (this event originally said meet at the Leisure Centre – but that was a mistake) \nNew volunteers are most welcome to come along.
URL:https://wilmslowcleanteam.org.uk/event/litter-picking-event-saturday-9th-jan-2016-1000/
LOCATION:Bank Square\, Wilmslow\, SK9 1AN\, United Kingdom
CATEGORIES:Litter Picking Events
END:VEVENT
BEGIN:VEVENT
DTSTART;TZID=UTC:20160106T100000
DTEND;TZID=UTC:20160106T120000
DTSTAMP:20260423T053744
CREATED:20151028T112826Z
LAST-MODIFIED:20151212T183406Z
UID:551-1452074400-1452081600@wilmslowcleanteam.org.uk
SUMMARY:Litter Picking Event – Wednesday 6th January 2016 10:00
DESCRIPTION:Regular litter picking event. Focus will be Lacey Green Park and the surrounding area. \nMeet at the entrance to Lacey Green Park. \nNew volunteers are most welcome to come along.
URL:https://wilmslowcleanteam.org.uk/event/litter-picking-event-wednesday-6th-jan-2016-1000/
LOCATION:Lacey Green Park\, Barlow Road\, Wilmslow\, SK9 4BS\, United Kingdom
CATEGORIES:Litter Picking Events
END:VEVENT
BEGIN:VEVENT
DTSTART;TZID=UTC:20160104T193000
DTEND;TZID=UTC:20160104T220000
DTSTAMP:20260423T053744
CREATED:20151227T115459Z
LAST-MODIFIED:20151227T115459Z
UID:573-1451935800-1451944800@wilmslowcleanteam.org.uk
SUMMARY:Drinks Night - Monday 4th January 2016
DESCRIPTION:Come and join us for drinks to celebrate all our hard work during 2015 \nWe will also be discussing the Spring Clean 2016 event which we will be organising in association with the “Clean For The Queen” campaign. \nNew volunteers are welcome to join us to find out more about what we do and how to get involved \n\n\nMeet in The Coach & Four at 19:30
URL:https://wilmslowcleanteam.org.uk/event/drinks-night-monday-4th-january-2016/
LOCATION:Coach And Four\, 69-71 Alderley Rd\, Wilmslow\, SK9 1PA\, United Kingdom
CATEGORIES:Social Event
END:VEVENT
BEGIN:VEVENT
DTSTART;TZID=UTC:20151205T100000
DTEND;TZID=UTC:20151205T120000
DTSTAMP:20260423T053744
CREATED:20150805T185514Z
LAST-MODIFIED:20151129T114110Z
UID:526-1449309600-1449316800@wilmslowcleanteam.org.uk
SUMMARY:Litter Picking Event – Saturday 5th December 2015 10:00
DESCRIPTION:Regular litter picking event. \nFocus will be Summerfields\, Colshaw Drive and the surrounding area. \nMeet in Summerfield’s Car Park \nNew volunteers are most welcome to come along. \n*** We are going to Wilmslow Garden Centre after this litter pick for coffee and cake.  Lifts will be available for those not driving.  ***
URL:https://wilmslowcleanteam.org.uk/event/litter-picking-event-saturday-5th-december-2015-1000/
LOCATION:Summerfields Centre Car Park\, Dean Row Road\, Wilmslow\, SK9 2TA\, United Kingdom
CATEGORIES:Litter Picking Events
END:VEVENT
BEGIN:VEVENT
DTSTART;TZID=UTC:20151202T100000
DTEND;TZID=UTC:20151202T120000
DTSTAMP:20260423T053744
CREATED:20150805T185339Z
LAST-MODIFIED:20151129T113844Z
UID:525-1449050400-1449057600@wilmslowcleanteam.org.uk
SUMMARY:Litter Picking Event – Wednesday 2nd December 2015 10:00
DESCRIPTION:Regular litter picking event. \nFocus will be Chapel Lane\, Moor Lane and the surrounding area. \nMeet at The Farmer’s Arms \nNew volunteers are most welcome to come along. \n*** Our volunteers are being offered free coffee and cake at the Holiday Inn Express hotel after this litter pick.  Lifts can be provided for those not driving ***
URL:https://wilmslowcleanteam.org.uk/event/litter-picking-event-wednesday-2nd-december-2015-1000/
LOCATION:Farmer’s Arms\, 71 Chapel Lane\, Wilmslow\, SK9 5JH\, United Kingdom
CATEGORIES:Litter Picking Events
END:VEVENT
BEGIN:VEVENT
DTSTART;TZID=UTC:20151107T100000
DTEND;TZID=UTC:20151107T120000
DTSTAMP:20260423T053744
CREATED:20150805T185212Z
LAST-MODIFIED:20151029T190720Z
UID:524-1446890400-1446897600@wilmslowcleanteam.org.uk
SUMMARY:Litter Picking Event – Saturday 7th November 2015 10:00
DESCRIPTION:Regular litter picking event. \nFocus will be Altrincham Road between Waters and the Airport tunnels. \nMeet at The Honey Bee \nNew volunteers are most welcome to come along.
URL:https://wilmslowcleanteam.org.uk/event/litter-picking-event-saturday-7th-november-2015-1000/
LOCATION:The Honey Bee\, Altrincham Road\, Wilmslow\, SK9 4LT\, United Kingdom
CATEGORIES:Litter Picking Events
END:VEVENT
BEGIN:VEVENT
DTSTART;TZID=UTC:20151104T100000
DTEND;TZID=UTC:20151104T120000
DTSTAMP:20260423T053744
CREATED:20150805T185039Z
LAST-MODIFIED:20151028T105652Z
UID:523-1446631200-1446638400@wilmslowcleanteam.org.uk
SUMMARY:Litter Picking Event – Wednesday 4th November 2015 10:00
DESCRIPTION:Regular litter picking event. \nFocus will be Sainsbury’s car park and the town centre. \nMeet at Bank Square. \nNew volunteers are most welcome to come along.
URL:https://wilmslowcleanteam.org.uk/event/litter-picking-event-wednesday-4th-november-2015-1000/
LOCATION:Bank Square\, Wilmslow\, SK9 1AN\, United Kingdom
CATEGORIES:Litter Picking Events
END:VEVENT
BEGIN:VEVENT
DTSTART;TZID=Europe/London:20151010T100000
DTEND;TZID=Europe/London:20151010T120000
DTSTAMP:20260423T053744
CREATED:20150805T184740Z
LAST-MODIFIED:20150805T184740Z
UID:522-1444471200-1444478400@wilmslowcleanteam.org.uk
SUMMARY:Litter Picking Event – Saturday 10th October 2015 10:00
DESCRIPTION:Regular litter picking event. \nFocus will be Lindow Common and Altrincham Road. \nMeet at The Boddington Arms \nNew volunteers are most welcome to come along.
URL:https://wilmslowcleanteam.org.uk/event/litter-picking-event-saturday-10th-october-2015-1000/
LOCATION:Boddington Arms\, Racecourse Road\, Wilmslow\, SK9 5LR\, United Kingdom
CATEGORIES:Litter Picking Events
END:VEVENT
BEGIN:VEVENT
DTSTART;TZID=Europe/London:20151007T100000
DTEND;TZID=Europe/London:20151007T120000
DTSTAMP:20260423T053744
CREATED:20150805T184515Z
LAST-MODIFIED:20151005T055602Z
UID:521-1444212000-1444219200@wilmslowcleanteam.org.uk
SUMMARY:Litter Picking Event – Wednesday 7th October 2015 10:00
DESCRIPTION:Regular litter picking event. Focus will be Knutsford Road / Alderley Road / Bypass roundabout. \nMeet at The King’s Arms \nNew volunteers are most welcome to come along.
URL:https://wilmslowcleanteam.org.uk/event/litter-picking-event-wednesday-7th-october-2015-1000/
LOCATION:The King’s Arms\, Alderley Road\, Wilmslow\, SK9 1PZ\, United Kingdom
CATEGORIES:Litter Picking Events
END:VEVENT
BEGIN:VEVENT
DTSTART;TZID=Europe/London:20150905T100000
DTEND;TZID=Europe/London:20150905T120000
DTSTAMP:20260423T053744
CREATED:20150611T194932Z
LAST-MODIFIED:20150904T160749Z
UID:492-1441447200-1441454400@wilmslowcleanteam.org.uk
SUMMARY:Litter Picking Event – Saturday 5th September 2015 10:00
DESCRIPTION:Regular litter picking event. Focus will be the town centre. Meet at Bank Square.\nNew volunteers are most welcome to come along. \n 
URL:https://wilmslowcleanteam.org.uk/event/litter-picking-event-saturday-5th-september-2015-1000/
LOCATION:Bank Square\, Wilmslow\, SK9 1AN\, United Kingdom
CATEGORIES:Litter Picking Events
END:VEVENT
BEGIN:VEVENT
DTSTART;TZID=Europe/London:20150902T100000
DTEND;TZID=Europe/London:20150902T120000
DTSTAMP:20260423T053744
CREATED:20150611T195526Z
LAST-MODIFIED:20150819T160054Z
UID:496-1441188000-1441195200@wilmslowcleanteam.org.uk
SUMMARY:Litter Picking Event – Wednesday 2nd September 2015 10:00
DESCRIPTION:Regular litter picking event. Focus will be the area around Summerfields and Colshaw Drive.\nMeet in the Summerfields car park. New volunteers are most welcome to come along. \n 
URL:https://wilmslowcleanteam.org.uk/event/litter-picking-event-wednesday-2nd-septemher-2015-1000/
LOCATION:Summerfields Centre Car Park\, Dean Row Road\, Wilmslow\, SK9 2TA\, United Kingdom
CATEGORIES:Litter Picking Events
END:VEVENT
BEGIN:VEVENT
DTSTART;TZID=Europe/London:20150808T100000
DTEND;TZID=Europe/London:20150808T120000
DTSTAMP:20260423T053744
CREATED:20150611T194524Z
LAST-MODIFIED:20150624T161802Z
UID:491-1439028000-1439035200@wilmslowcleanteam.org.uk
SUMMARY:Litter Picking Event – Saturday 8th August 2015 10:00
DESCRIPTION:Regular litter picking event. Focus will be The Carrs + one car will head off to the Prestbury Link Road (if numbers allow).\nMeet in the Parish Hall car park.\nNew volunteers are most welcome to come along. \n 
URL:https://wilmslowcleanteam.org.uk/event/litter-picking-event-saturday-8th-august-2015-1000/
LOCATION:Wilmslow Parish Hall\, Cliff Road\, Wilmslow\, SK9 4AA\, United Kingdom
CATEGORIES:Litter Picking Events
END:VEVENT
BEGIN:VEVENT
DTSTART;TZID=Europe/London:20150805T100000
DTEND;TZID=Europe/London:20150805T120000
DTSTAMP:20260423T053744
CREATED:20150611T194022Z
LAST-MODIFIED:20150624T161825Z
UID:490-1438768800-1438776000@wilmslowcleanteam.org.uk
SUMMARY:Litter Picking Event – Wednesday 5th August 2015 10:00
DESCRIPTION:Regular litter picking event. Focus will be Altrincham Road and the airport tunnels. Meet in the Honey Bee car park. New volunteers are most welcome to come along. \n 
URL:https://wilmslowcleanteam.org.uk/event/litter-picking-event-wednesday-5th-august-2015-1000/
LOCATION:The Honey Bee\, Altrincham Road\, Wilmslow\, SK9 4LT\, United Kingdom
CATEGORIES:Litter Picking Events
END:VEVENT
BEGIN:VEVENT
DTSTART;TZID=Europe/London:20150722T100000
DTEND;TZID=Europe/London:20150722T120000
DTSTAMP:20260423T053744
CREATED:20150704T145030Z
LAST-MODIFIED:20150717T062552Z
UID:513-1437559200-1437566400@wilmslowcleanteam.org.uk
SUMMARY:Litter Picking – Wednesday 22nd July 2015 *** Britain In Bloom Event ***
DESCRIPTION:Extra litter picking event to prepare the town for the judging of the “2015 Britain in Bloom” competition. We will meet at Bank Square (free parking) and then spread out to cover the  route that the judges will be taking. Focus will therefore be on : Alderley Road\, Water Lane\, Sainsbury’s car park\, Railway Station\, Manchester Road down to and including The King William roundabout\, The Memorial Gardens and The Carrs.
URL:https://wilmslowcleanteam.org.uk/event/litter-picking-wednesday-22nd-july-2015-britain-in-bloom-event/
LOCATION:Bank Square\, Wilmslow\, SK9 1AN\, United Kingdom
CATEGORIES:Britain In Bloom,Litter Picking Events
END:VEVENT
BEGIN:VEVENT
DTSTART;TZID=Europe/London:20150704T100000
DTEND;TZID=Europe/London:20150704T120000
DTSTAMP:20260423T053744
CREATED:20150611T193657Z
LAST-MODIFIED:20150629T153440Z
UID:489-1436004000-1436011200@wilmslowcleanteam.org.uk
SUMMARY:Litter Picking Event – Saturday 4th July 2015 10:00
DESCRIPTION:Regular litter picking event. Focus will be Lacey Green Park and the surrounding area.\nMeet at the entrance to Lacey Green Park. New volunteers are most welcome to come along.
URL:https://wilmslowcleanteam.org.uk/event/litter-picking-event-saturday-4th-july-2015-1000/
LOCATION:Lacey Green Park\, Barlow Road\, Wilmslow\, SK9 4BS\, United Kingdom
CATEGORIES:Litter Picking Events
END:VEVENT
BEGIN:VEVENT
DTSTART;TZID=Europe/London:20150701T100000
DTEND;TZID=Europe/London:20150701T120000
DTSTAMP:20260423T053744
CREATED:20150611T193343Z
LAST-MODIFIED:20150624T161430Z
UID:487-1435744800-1435752000@wilmslowcleanteam.org.uk
SUMMARY:Litter Picking Event – Wednesday 1st July 2015 10:00
DESCRIPTION:Regular litter picking event. Focus will be the Leisure Centre\, the area round the Railway Station and the town centre. Meet at the Leisure Centre. New volunteers are most welcome to come along. \n 
URL:https://wilmslowcleanteam.org.uk/event/litter-picking-event-wednesday-1st-july-2015-1000/
LOCATION:Wilmslow Leisure Centre\, Rectory Fields\, Wilmslow\, SK9 1BU\, United Kingdom
CATEGORIES:Litter Picking Events
END:VEVENT
BEGIN:VEVENT
DTSTART;TZID=Europe/London:20150606T100000
DTEND;TZID=Europe/London:20150606T120000
DTSTAMP:20260423T053744
CREATED:20150112T221339Z
LAST-MODIFIED:20150601T155737Z
UID:386-1433584800-1433592000@wilmslowcleanteam.org.uk
SUMMARY:Litter Picking Event - Saturday 6th June 2015
DESCRIPTION:Regular litter picking event. Focus will be the area around Summerfields. Meet in the Summerfields car park. New volunteers are most welcome to come along. \nEvent Leader : Vickie
URL:https://wilmslowcleanteam.org.uk/event/litter-picking-event-saturday-6th-june-2015/
LOCATION:Summerfields Centre Car Park\, Dean Row Road\, Wilmslow\, SK9 2TA\, United Kingdom
CATEGORIES:Litter Picking Events
END:VEVENT
BEGIN:VEVENT
DTSTART;TZID=Europe/London:20150603T100000
DTEND;TZID=Europe/London:20150603T120000
DTSTAMP:20260423T053744
CREATED:20150112T221150Z
LAST-MODIFIED:20150601T155713Z
UID:384-1433325600-1433332800@wilmslowcleanteam.org.uk
SUMMARY:Litter Picking Event - Wednesday 3rd June 2015
DESCRIPTION:Regular litter picking event. Focus will be the area around Wilmslow Park and Dean Row. Meet outside Hazelmere House Care Home. New volunteers are most welcome to come along. \nEvent Leader : Chris
URL:https://wilmslowcleanteam.org.uk/event/litter-picking-event-wednesday-3rd-june-2015/
LOCATION:Hazlemere House Care Home\, Pinewood Road\, Wilmslow\, SK9 2RS\, United Kingdom
CATEGORIES:Litter Picking Events
END:VEVENT
BEGIN:VEVENT
DTSTART;TZID=Europe/London:20150520T183000
DTEND;TZID=Europe/London:20150520T210000
DTSTAMP:20260423T053744
CREATED:20150509T112923Z
LAST-MODIFIED:20150509T112923Z
UID:474-1432146600-1432155600@wilmslowcleanteam.org.uk
SUMMARY:2015 AGM
DESCRIPTION:Annual General Meeting \nMeeting will be held in the Coach & Four in the back corner behind the bar
URL:https://wilmslowcleanteam.org.uk/event/2015-agm/
LOCATION:Coach And Four\, 69-71 Alderley Rd\, Wilmslow\, SK9 1PA\, United Kingdom
CATEGORIES:Meetings
END:VEVENT
BEGIN:VEVENT
DTSTART;TZID=Europe/London:20150509T100000
DTEND;TZID=Europe/London:20150509T120000
DTSTAMP:20260423T053744
CREATED:20150112T220734Z
LAST-MODIFIED:20150112T220734Z
UID:383-1431165600-1431172800@wilmslowcleanteam.org.uk
SUMMARY:Litter Picking Event - Saturday 9th May 2015
DESCRIPTION:Regular litter picking event. Focus will be Altrincham Road and the airport tunnels. Meet in the Honey Bee car park. New volunteers are most welcome to come along.
URL:https://wilmslowcleanteam.org.uk/event/litter-picking-event-saturday-9th-may-2015/
LOCATION:The Honey Bee\, Altrincham Road\, Wilmslow\, SK9 4LT\, United Kingdom
CATEGORIES:Litter Picking Events
END:VEVENT
BEGIN:VEVENT
DTSTART;TZID=Europe/London:20150506T100000
DTEND;TZID=Europe/London:20150506T120000
DTSTAMP:20260423T053744
CREATED:20150112T220620Z
LAST-MODIFIED:20150112T221214Z
UID:382-1430906400-1430913600@wilmslowcleanteam.org.uk
SUMMARY:Litter Picking Event - Wednesday 6th May 2015
DESCRIPTION:Regular litter picking event. Focus will be Lindow Common and Altrincham Road. Meet in Lindow Common car park. New volunteers are most welcome to come along.
URL:https://wilmslowcleanteam.org.uk/event/litter-picking-event-wednesday-6th-may-2015/
LOCATION:Lindow Common Car Park\, Racecourse Road\, Wilmslow\, SK9 5LR\, United Kingdom
CATEGORIES:Litter Picking Events
END:VEVENT
BEGIN:VEVENT
DTSTART;TZID=Europe/London:20150404T100000
DTEND;TZID=Europe/London:20150404T120000
DTSTAMP:20260423T053744
CREATED:20150112T220459Z
LAST-MODIFIED:20150112T220459Z
UID:381-1428141600-1428148800@wilmslowcleanteam.org.uk
SUMMARY:Litter Picking Event - Saturday 4th April 2015
DESCRIPTION:Regular litter picking event. Focus will be the area around the Kings Arms roundabout – e.g. Knusford Road and Alderley Road.  Meet in the King’s Arms car park. New volunteers are most welcome to come along.
URL:https://wilmslowcleanteam.org.uk/event/litter-picking-event-saturday-4th-april-2015/
LOCATION:The King’s Arms\, Alderley Road\, Wilmslow\, SK9 1PZ\, United Kingdom
CATEGORIES:Litter Picking Events
END:VEVENT
END:VCALENDAR