BEGIN:VCALENDAR
VERSION:2.0
PRODID:-//Wilmslow CleanTeam - ECPv6.15.20//NONSGML v1.0//EN
CALSCALE:GREGORIAN
METHOD:PUBLISH
X-WR-CALNAME:Wilmslow CleanTeam
X-ORIGINAL-URL:https://wilmslowcleanteam.org.uk
X-WR-CALDESC:Events for Wilmslow CleanTeam
REFRESH-INTERVAL;VALUE=DURATION:PT1H
X-Robots-Tag:noindex
X-PUBLISHED-TTL:PT1H
BEGIN:VTIMEZONE
TZID:UTC
BEGIN:STANDARD
TZOFFSETFROM:+0000
TZOFFSETTO:+0000
TZNAME:UTC
DTSTART:20150101T000000
END:STANDARD
END:VTIMEZONE
BEGIN:VEVENT
DTSTART;TZID=UTC:20170408T100000
DTEND;TZID=UTC:20170408T120000
DTSTAMP:20260422T235451
CREATED:20170108T160131Z
LAST-MODIFIED:20170404T053823Z
UID:771-1491645600-1491652800@wilmslowcleanteam.org.uk
SUMMARY:Litter Picking Event – Saturday 8th April 2017 10:00
DESCRIPTION:Regular litter picking event. Focus will be Knutsford Road / Alderley Road / Bypass roundabout. \nMeet at The King’s Arms \nNew volunteers are most welcome to come along – but please familiarise yourselves with the safety guidance first
URL:https://wilmslowcleanteam.org.uk/event/litter-picking-event-saturday-8th-april-2017-1000/
LOCATION:The King’s Arms\, Alderley Road\, Wilmslow\, SK9 1PZ\, United Kingdom
CATEGORIES:Litter Picking Events
END:VEVENT
BEGIN:VEVENT
DTSTART;TZID=UTC:20170405T100000
DTEND;TZID=UTC:20170405T120000
DTSTAMP:20260422T235451
CREATED:20170108T160020Z
LAST-MODIFIED:20170328T172516Z
UID:769-1491386400-1491393600@wilmslowcleanteam.org.uk
SUMMARY:Litter Picking Event – Wednesday 5th April 2017 10:00
DESCRIPTION:Regular litter picking event. Focus will be Lindow Common and Altrincham Road. \nMeet in Lindow Common Car Park \nNew volunteers are most welcome to come along – but please familiarise yourselves with the safety guidance first
URL:https://wilmslowcleanteam.org.uk/event/litter-picking-event-wednesday-5th-april-2017-1000/
LOCATION:Lindow Common Car Park\, Racecourse Road\, Wilmslow\, SK9 5LR\, United Kingdom
CATEGORIES:Litter Picking Events
END:VEVENT
BEGIN:VEVENT
DTSTART;TZID=UTC:20170402T140000
DTEND;TZID=UTC:20170402T160000
DTSTAMP:20260422T235451
CREATED:20170228T214002Z
LAST-MODIFIED:20170301T184630Z
UID:795-1491141600-1491148800@wilmslowcleanteam.org.uk
SUMMARY:Litter Picking Event – Sunday 2nd April 2017 14:00 *** Wilmslow Spring Clean Week 2017 Event ***
DESCRIPTION:This is an extra litter pick as part of our annual “Spring Clean Week”. \nMeet in Sainsbury’s Car Park. We will focus on the car park\, Alderley Road (and the surrounding side streets)\, Parkway and the rest of the town centre. \nNew volunteers are most welcome to come along – but please familiarise yourselves with the safety guidance first \n**  Thanks to our good friends at The Coach & Four for offering free tea & coffee at 16:00 **
URL:https://wilmslowcleanteam.org.uk/event/litter-picking-event-sunday-2nd-april-2017-1400-wilmslow-spring-clean-week-2017-event/
LOCATION:Sainsbury’s Wilmslow\, 67 Alderley Road\, Wilmslow\, SK9 1NZ \, United Kingdom
CATEGORIES:Social Event,Spring Clean
END:VEVENT
BEGIN:VEVENT
DTSTART;TZID=UTC:20170331T100000
DTEND;TZID=UTC:20170331T120000
DTSTAMP:20260422T235451
CREATED:20170228T213634Z
LAST-MODIFIED:20170301T185552Z
UID:793-1490954400-1490961600@wilmslowcleanteam.org.uk
SUMMARY:Litter Picking Event – Friday 31st March 2017 10:00 *** Wilmslow Spring Clean Week 2017 Event ***
DESCRIPTION:This is an extra litter pick as part of our annual “Spring Clean Week”. \nMeet at The Unicorn in Dean Row (we must park in the back car park please – not the spaces nearest to the entrance) \nWe will focus on Adlington Road\, Dean Row Road\, Woodford Road (to the Woodford border) and Lees Lane   (all subject to pavements being available as per our safety guidance) \nNew volunteers are most welcome to come along – but please familiarise yourselves with the safety guidance first
URL:https://wilmslowcleanteam.org.uk/event/litter-picking-event-friday-31st-march-2017-1000-wilmslow-spring-clean-week-2017-event/
LOCATION:The Unicorn (Dean Row)\, Adlington Road\, Wilmslow\,  SK9 2LN\, United Kingdom
CATEGORIES:Litter Picking Events,Spring Clean
END:VEVENT
BEGIN:VEVENT
DTSTART;TZID=UTC:20170329T193000
DTEND;TZID=UTC:20170329T220000
DTSTAMP:20260422T235451
CREATED:20170228T214430Z
LAST-MODIFIED:20170301T185031Z
UID:799-1490815800-1490824800@wilmslowcleanteam.org.uk
SUMMARY:Social Evening – Wednesday 29th March 2017 19:30 *** Wilmslow Spring Clean Week 2017 Event ***
DESCRIPTION:We will be meeting up for some well earned rest and relaxation at a local pub (TBC) \nThere is a litter picking event at 18:30 – but that is optional – come along anyway even if you can’t make the litter pick \nIt would be great to catch up with all our volunteers – but newcomers are most welcome to come along too in order to meet the team and find out more about our voluntary work.
URL:https://wilmslowcleanteam.org.uk/event/social-evening-wednesday-29th-march-2017-1930-wilmslow-spring-clean-week-2017-event/
LOCATION:The King William\, 35 Manchester Road\, Wilmslow\, SK9 1BQ\, United Kingdom
CATEGORIES:Social Event,Spring Clean
END:VEVENT
BEGIN:VEVENT
DTSTART;TZID=UTC:20170329T183000
DTEND;TZID=UTC:20170329T193000
DTSTAMP:20260422T235451
CREATED:20170228T213259Z
LAST-MODIFIED:20170302T202426Z
UID:791-1490812200-1490815800@wilmslowcleanteam.org.uk
SUMMARY:Litter Picking Event – Wednesday 29th March 2017 18:30 *** Wilmslow Spring Clean Week 2017 Event ***
DESCRIPTION:This is an extra litter pick as part of our annual “Spring Clean Week”. \nMeet at WIlmslow Parish Hall.  We will focus on the surrounding area including The Carrs. \nNew volunteers are most welcome to come along – but please familiarise yourselves with the safety guidance first
URL:https://wilmslowcleanteam.org.uk/event/litter-picking-event-wednesday-29th-march-2017-1830-wilmslow-spring-clean-week-2017-event/
LOCATION:Wilmslow Parish Hall\, Cliff Road\, Wilmslow\, SK9 4AA\, United Kingdom
CATEGORIES:Litter Picking Events,Spring Clean
END:VEVENT
BEGIN:VEVENT
DTSTART;TZID=UTC:20170327T100000
DTEND;TZID=UTC:20170327T120000
DTSTAMP:20260422T235451
CREATED:20170228T213053Z
LAST-MODIFIED:20170327T055345Z
UID:788-1490608800-1490616000@wilmslowcleanteam.org.uk
SUMMARY:Litter Picking Event – Monday 27th March 2017 10:00 *** Wilmslow Spring Clean Week 2017 Event ***
DESCRIPTION:This is an extra litter pick as part of our annual “Spring Clean Week” \nMeet at WIlmslow Garden Centre at 10:00 (we must park at the bottom of their car park – please do not use customer parking spaces near the entrance) \nWe will focus on Manchester Road to the Handforth border\, Stanneylands Road\, Dean Row Road and the surrounding area. \nNew volunteers are most welcome to come along – but please familiarise yourselves with the safety guidance first
URL:https://wilmslowcleanteam.org.uk/event/litter-picking-event-monday-27th-march-2017-1000-wilmslow-spring-clean-week-2015-event/
LOCATION:Wilmslow Garden Centre\, Manchester Road\, Wilmslow\, SK9 2JN\, United Kingdom
CATEGORIES:Litter Picking Events,Spring Clean
END:VEVENT
BEGIN:VEVENT
DTSTART;TZID=UTC:20170304T100000
DTEND;TZID=UTC:20170304T120000
DTSTAMP:20260422T235451
CREATED:20170108T155835Z
LAST-MODIFIED:20170130T195928Z
UID:767-1488621600-1488628800@wilmslowcleanteam.org.uk
SUMMARY:"Keep Britain Tidy - The Great British Spring Clean" Litter Picking  – Saturday 4th March 2017 10:00
DESCRIPTION:Regular litter picking event. Focus will be the town centre. \nThis event will be supporting Keep Britain Tidy’s annual “Great British Spring Clean” weekend. \nhttp://www.greatbritishspringclean.org.uk/home/2684 \nMeet at Leisure Centre – ask the organiser on the day if you need a “free parking” pass. \nNew volunteers are most welcome to come along – but please familiarise yourselves with the safety guidance first.
URL:https://wilmslowcleanteam.org.uk/event/litter-picking-event-saturday-4th-march-2017-1000/
LOCATION:Wilmslow Leisure Centre\, Rectory Fields\, Wilmslow\, SK9 1BU\, United Kingdom
CATEGORIES:Litter Picking Events
END:VEVENT
BEGIN:VEVENT
DTSTART;TZID=UTC:20170301T100000
DTEND;TZID=UTC:20170301T120000
DTSTAMP:20260422T235451
CREATED:20170108T155731Z
LAST-MODIFIED:20170204T183722Z
UID:765-1488362400-1488369600@wilmslowcleanteam.org.uk
SUMMARY:Litter Picking Event – Wednesday 1st March 2017 10:00
DESCRIPTION:Regular litter picking event. Focus will be the area around Summerfields and Colshaw Drive. \nMeet in the Summerfields car park. \nNew volunteers are most welcome to come along – but please familiarise yourselves with the safety guidance first
URL:https://wilmslowcleanteam.org.uk/event/litter-picking-event-wednesday-1st-march-2017-1000/
LOCATION:Summerfields Centre Car Park\, Dean Row Road\, Wilmslow\, SK9 2TA\, United Kingdom
CATEGORIES:Litter Picking Events
END:VEVENT
BEGIN:VEVENT
DTSTART;TZID=UTC:20170204T100000
DTEND;TZID=UTC:20170204T120000
DTSTAMP:20260422T235451
CREATED:20161108T194152Z
LAST-MODIFIED:20170201T191247Z
UID:752-1486202400-1486209600@wilmslowcleanteam.org.uk
SUMMARY:Litter Picking Event - Saturday 4th February 2017 10:00
DESCRIPTION:Regular litter picking event. Focus will be Altrincham Road and the airport tunnels. \nMeet in the Honey Bee car park. \nNew volunteers are most welcome to come along – but please familiarise yourselves with the safety guidance first
URL:https://wilmslowcleanteam.org.uk/event/litter-picking-event-saturday-4th-february-2017-1000/
LOCATION:The Honey Bee\, Altrincham Road\, Wilmslow\, SK9 4LT\, United Kingdom
CATEGORIES:Litter Picking Events
END:VEVENT
BEGIN:VEVENT
DTSTART;TZID=UTC:20170201T100000
DTEND;TZID=UTC:20170201T120000
DTSTAMP:20260422T235451
CREATED:20161108T194055Z
LAST-MODIFIED:20170130T195038Z
UID:750-1485943200-1485950400@wilmslowcleanteam.org.uk
SUMMARY:Litter Picking Event - Wednesday 1st February 2017 10:00
DESCRIPTION:Regular litter picking event. Focus will be The Carrs + one car will head off to the Prestbury Link Road (if numbers allow). \nMeet in the Parish Hall car park. \nNew volunteers are most welcome to come along – but please familiarise yourselves with the safety guidance first
URL:https://wilmslowcleanteam.org.uk/event/litter-picking-event-wednesday-1st-february-2017-1000/
LOCATION:Wilmslow Parish Hall\, Cliff Road\, Wilmslow\, SK9 4AA\, United Kingdom
CATEGORIES:Litter Picking Events
END:VEVENT
BEGIN:VEVENT
DTSTART;TZID=UTC:20170107T100000
DTEND;TZID=UTC:20170107T120000
DTSTAMP:20260422T235451
CREATED:20161008T133330Z
LAST-MODIFIED:20161008T133330Z
UID:736-1483783200-1483790400@wilmslowcleanteam.org.uk
SUMMARY:Litter Picking Event – Saturday 7th January 2017 10:00
DESCRIPTION:Regular litter picking event. Focus will be the town centre. \nMeet at Leisure Centre – ask the organiser on the day if you need a “free parking” pass. \nNew volunteers are most welcome to come along – but please familiarise yourselves with the safety guidance first.
URL:https://wilmslowcleanteam.org.uk/event/litter-picking-event-saturday-7th-january-2017-1000/
LOCATION:Wilmslow Leisure Centre\, Rectory Fields\, Wilmslow\, SK9 1BU\, United Kingdom
CATEGORIES:Litter Picking Events
END:VEVENT
BEGIN:VEVENT
DTSTART;TZID=UTC:20170104T100000
DTEND;TZID=UTC:20170104T120000
DTSTAMP:20260422T235451
CREATED:20161008T133221Z
LAST-MODIFIED:20170101T201647Z
UID:734-1483524000-1483531200@wilmslowcleanteam.org.uk
SUMMARY:Litter Picking Event – Wednesday 4th January 2017 10:00
DESCRIPTION:Regular litter picking event. Focus will be Lacey Green Park and the surrounding area. \nMeet at the entrance to Lacey Green Park. \nNew volunteers are most welcome to come along – but please familiarise yourselves with the safety guidance first
URL:https://wilmslowcleanteam.org.uk/event/litter-picking-event-wednesday-4th-januray-2017-1000/
LOCATION:Lacey Green Park\, Barlow Road\, Wilmslow\, SK9 4BS\, United Kingdom
CATEGORIES:Litter Picking Events
END:VEVENT
BEGIN:VEVENT
DTSTART;TZID=UTC:20161210T100000
DTEND;TZID=UTC:20161210T120000
DTSTAMP:20260422T235451
CREATED:20160910T165656Z
LAST-MODIFIED:20161008T132846Z
UID:731-1481364000-1481371200@wilmslowcleanteam.org.uk
SUMMARY:Litter Picking Event – Saturday 10th December 2016 10:00
DESCRIPTION:Regular litter picking event. \nFocus will be Summerfields\, Colshaw Drive and the surrounding area. \nMeet in Summerfield’s Car Park \nNew volunteers are most welcome to come along – but please familiarise yourselves with the safety guidance first
URL:https://wilmslowcleanteam.org.uk/event/litter-picking-event-saturday-10th-december-2016-1000/
LOCATION:Summerfields Centre Car Park\, Dean Row Road\, Wilmslow\, SK9 2TA\, United Kingdom
CATEGORIES:Litter Picking Events
END:VEVENT
BEGIN:VEVENT
DTSTART;TZID=UTC:20161207T100000
DTEND;TZID=UTC:20161207T120000
DTSTAMP:20260422T235451
CREATED:20160910T165512Z
LAST-MODIFIED:20161113T183425Z
UID:729-1481104800-1481112000@wilmslowcleanteam.org.uk
SUMMARY:Litter Picking Event - Wednesday 7th December 2016 10:00
DESCRIPTION:Regular litter picking event. Focus will be Chapel Lane\, Moor Lane and the surrounding area. \nMeet at The Farmer’s Arms \nNew volunteers are most welcome to come along – but please familiarise yourselves with the safety guidance first
URL:https://wilmslowcleanteam.org.uk/event/litter-picking-event-wednesday-7th-december-2016-1000/
LOCATION:Farmer’s Arms\, 71 Chapel Lane\, Wilmslow\, SK9 5JH\, United Kingdom
CATEGORIES:Litter Picking Events
END:VEVENT
BEGIN:VEVENT
DTSTART;TZID=UTC:20161105T100000
DTEND;TZID=UTC:20161105T120000
DTSTAMP:20260422T235451
CREATED:20160807T151434Z
LAST-MODIFIED:20160910T165125Z
UID:717-1478340000-1478347200@wilmslowcleanteam.org.uk
SUMMARY:Litter Picking Event – Saturday 5th November 2016 10:00
DESCRIPTION:Regular litter picking event. Focus will be Altrincham Road and the airport tunnels. \nMeet in the Honey Bee car park. \nNew volunteers are most welcome to come along – but please familiarise yourselves with the safety guidance first
URL:https://wilmslowcleanteam.org.uk/event/litter-picking-event-saturday-5th-november-2016-1000/
LOCATION:The Honey Bee\, Altrincham Road\, Wilmslow\, SK9 4LT\, United Kingdom
END:VEVENT
BEGIN:VEVENT
DTSTART;TZID=UTC:20161102T100000
DTEND;TZID=UTC:20161102T120000
DTSTAMP:20260422T235451
CREATED:20160807T151321Z
LAST-MODIFIED:20160910T165104Z
UID:716-1478080800-1478088000@wilmslowcleanteam.org.uk
SUMMARY:Litter Picking Event – Wednesday 2nd November 2016 10:00
DESCRIPTION:Regular litter picking event. Focus will be the town centre including the area around Sainsburys. \nMeet at Leisure Centre – ask the organiser on the day if you need a “free parking” pass. \nNew volunteers are most welcome to come along – but please familiarise yourselves with the safety guidance first.
URL:https://wilmslowcleanteam.org.uk/event/litter-picking-event-wednesday-2nd-november-2016-1000/
LOCATION:Wilmslow Leisure Centre\, Rectory Fields\, Wilmslow\, SK9 1BU\, United Kingdom
END:VEVENT
BEGIN:VEVENT
DTSTART;TZID=UTC:20161008T100000
DTEND;TZID=UTC:20161008T120000
DTSTAMP:20260422T235451
CREATED:20160807T151053Z
LAST-MODIFIED:20160831T154824Z
UID:715-1475920800-1475928000@wilmslowcleanteam.org.uk
SUMMARY:Litter Picking Event – Saturday 8th October 2016 10:00
DESCRIPTION:Regular litter picking event. Focus will be Lindow Common and Altrincham Road. \nMeet in Lindow Common Car Park \nNew volunteers are most welcome to come along – but please familiarise yourselves with the safety guidance first
URL:https://wilmslowcleanteam.org.uk/event/litter-picking-event-saturday-8th-october-2016-1000/
LOCATION:Lindow Common Car Park\, Racecourse Road\, Wilmslow\, SK9 5LR\, United Kingdom
END:VEVENT
BEGIN:VEVENT
DTSTART;TZID=UTC:20161005T100000
DTEND;TZID=UTC:20161005T120000
DTSTAMP:20260422T235451
CREATED:20160807T150814Z
LAST-MODIFIED:20160807T202503Z
UID:714-1475661600-1475668800@wilmslowcleanteam.org.uk
SUMMARY:Litter Picking Event – Wednesday 5th October 2016 10:00
DESCRIPTION:Regular litter picking event. Focus will be Knutsford Road / Alderley Road / Bypass roundabout. \nMeet at The King’s Arms \nNew volunteers are most welcome to come along – but please familiarise yourselves with the safety guidance first
URL:https://wilmslowcleanteam.org.uk/event/litter-picking-event-wednesday-5th-october-2016-1000/
LOCATION:The King’s Arms\, Alderley Road\, Wilmslow\, SK9 1PZ\, United Kingdom
END:VEVENT
BEGIN:VEVENT
DTSTART;TZID=UTC:20160910T080000
DTEND;TZID=UTC:20160910T120000
DTSTAMP:20260422T235451
CREATED:20160612T190231Z
LAST-MODIFIED:20160909T053854Z
UID:682-1473494400-1473508800@wilmslowcleanteam.org.uk
SUMMARY:Litter Picking Event – Saturday 10th September 2016 10:00
DESCRIPTION:Regular litter picking event. Focus will be the town centre. \nMeet at Leisure Centre – ask the organiser on the day if you need a “free parking” pass. \nNew volunteers are most welcome to come along – but please familiarise yourselves with the safety guidance first.
URL:https://wilmslowcleanteam.org.uk/event/litter-picking-event-saturday-10th-september-2016-1000/
LOCATION:Wilmslow Leisure Centre\, Rectory Fields\, Wilmslow\, SK9 1BU\, United Kingdom
CATEGORIES:Litter Picking Events
END:VEVENT
BEGIN:VEVENT
DTSTART;TZID=UTC:20160907T100000
DTEND;TZID=UTC:20160907T120000
DTSTAMP:20260422T235451
CREATED:20160612T185911Z
LAST-MODIFIED:20160807T183442Z
UID:681-1473242400-1473249600@wilmslowcleanteam.org.uk
SUMMARY:Litter Picking Event – Wednesday 7th September 2016 10:00
DESCRIPTION:Regular litter picking event. Focus will be the area around Summerfields and Colshaw Drive. \nMeet in the Summerfields car park. \nNew volunteers are most welcome to come along – but please familiarise yourselves with the safety guidance first
URL:https://wilmslowcleanteam.org.uk/event/litter-picking-event-wednesday-7th-september-2016-1000/
LOCATION:Summerfields Centre Car Park\, Dean Row Road\, Wilmslow\, SK9 2TA\, United Kingdom
CATEGORIES:Litter Picking Events
END:VEVENT
BEGIN:VEVENT
DTSTART;TZID=UTC:20160806T100000
DTEND;TZID=UTC:20160806T120000
DTSTAMP:20260422T235451
CREATED:20160515T161612Z
LAST-MODIFIED:20160723T164003Z
UID:671-1470477600-1470484800@wilmslowcleanteam.org.uk
SUMMARY:Litter Picking Event – Saturday 6th August 2016 10:00
DESCRIPTION:Regular litter picking event. Focus will be The Carrs + one car will head off to the Prestbury Link Road (if numbers allow). \nMeet in the Parish Hall car park. \nNew volunteers are most welcome to come along – but please familiarise yourselves with the safety guidance first
URL:https://wilmslowcleanteam.org.uk/event/litter-picking-event-saturday-6th-august-2016-1000/
LOCATION:Wilmslow Parish Hall\, Cliff Road\, Wilmslow\, SK9 4AA\, United Kingdom
CATEGORIES:Litter Picking Events
END:VEVENT
BEGIN:VEVENT
DTSTART;TZID=UTC:20160803T100000
DTEND;TZID=UTC:20160803T120000
DTSTAMP:20260422T235451
CREATED:20160515T161446Z
LAST-MODIFIED:20160723T163925Z
UID:670-1470218400-1470225600@wilmslowcleanteam.org.uk
SUMMARY:Litter Picking Event – Wednesday 3rd August 2016 10:00
DESCRIPTION:Regular litter picking event. Focus will be Altrincham Road and the airport tunnels. \nMeet in the Honey Bee car park. \nNew volunteers are most welcome to come along – but please familiarise yourselves with the safety guidance first
URL:https://wilmslowcleanteam.org.uk/event/litter-picking-event-wednesday-3rd-august-2016-1000/
LOCATION:The Honey Bee\, Altrincham Road\, Wilmslow\, SK9 4LT\, United Kingdom
CATEGORIES:Litter Picking Events
END:VEVENT
BEGIN:VEVENT
DTSTART;TZID=UTC:20160728T183000
DTEND;TZID=UTC:20160728T203000
DTSTAMP:20260422T235451
CREATED:20160723T164656Z
LAST-MODIFIED:20160723T164846Z
UID:698-1469730600-1469737800@wilmslowcleanteam.org.uk
SUMMARY:Litter Picking – Thursday 28th July 2016 18:30 *** Britain In Bloom Event ***
DESCRIPTION:We are organising some extra litter picks on Thursday 28th July to prepare the town for the judging of the “2016 Britain in Bloom” competition. \nIn the evening pick we will meet at Sainsbury’s car park and we will cover the various parts of the town centre along the judges’ route.
URL:https://wilmslowcleanteam.org.uk/event/litter-picking-thursday-28th-july-2016-1830-britain-in-bloom-event/
LOCATION:Sainsbury’s Wilmslow\, 67 Alderley Road\, Wilmslow\, SK9 1NZ \, United Kingdom
CATEGORIES:Britain In Bloom
END:VEVENT
BEGIN:VEVENT
DTSTART;TZID=UTC:20160728T100000
DTEND;TZID=UTC:20160728T120000
DTSTAMP:20260422T235451
CREATED:20160628T172936Z
LAST-MODIFIED:20160723T164435Z
UID:685-1469700000-1469707200@wilmslowcleanteam.org.uk
SUMMARY:Litter Picking – Thursday 28th July 2016 10:00 *** Britain In Bloom Event ***
DESCRIPTION:We are organising some extra litter picks on Thursday 28th July to prepare the town for the judging of the “2016 Britain in Bloom” competition. \nIn the morning pick\, we will meet at The Farmer’s Arms and cover from the junction of Moor Lane and Arlington Way\, along Chapel Lane\, to the junction with Alderley Road. We also need to cover the section of Lindow Common between the two car parks.
URL:https://wilmslowcleanteam.org.uk/event/litter-picking-thursday-28th-july-2016-britain-in-bloom-event/
LOCATION:Farmer’s Arms\, 71 Chapel Lane\, Wilmslow\, SK9 5JH\, United Kingdom
CATEGORIES:Britain In Bloom
END:VEVENT
BEGIN:VEVENT
DTSTART;TZID=UTC:20160709T100000
DTEND;TZID=UTC:20160709T120000
DTSTAMP:20260422T235451
CREATED:20160306T111051Z
LAST-MODIFIED:20160613T181029Z
UID:615-1468058400-1468065600@wilmslowcleanteam.org.uk
SUMMARY:Litter Picking Event – Saturday 9th July 2016 10:00
DESCRIPTION:Regular litter picking event. Focus will be Lacey Green Park and the surrounding area. \nMeet at the entrance to Lacey Green Park. \nNew volunteers are most welcome to come along.
URL:https://wilmslowcleanteam.org.uk/event/litter-picking-event-saturday-9th-july-2016-1000/
LOCATION:Lacey Green Park\, Barlow Road\, Wilmslow\, SK9 4BS\, United Kingdom
CATEGORIES:Litter Picking Events
END:VEVENT
BEGIN:VEVENT
DTSTART;TZID=UTC:20160706T100000
DTEND;TZID=UTC:20160706T120000
DTSTAMP:20260422T235451
CREATED:20160306T110935Z
LAST-MODIFIED:20160518T194613Z
UID:614-1467799200-1467806400@wilmslowcleanteam.org.uk
SUMMARY:Litter Picking Event – Wednesday 6th July 2016 10:00
DESCRIPTION:Regular litter picking event. Focus will be the Leisure Centre\, the area round the Railway Station and the town centre. \nMeet at Bank Square \nNew volunteers are most welcome to come along.
URL:https://wilmslowcleanteam.org.uk/event/litter-picking-event-wednesday-6th-july-2016-1000/
LOCATION:Bank Square\, Wilmslow\, SK9 1AN\, United Kingdom
CATEGORIES:Litter Picking Events
END:VEVENT
BEGIN:VEVENT
DTSTART;TZID=UTC:20160619T140000
DTEND;TZID=UTC:20160619T170000
DTSTAMP:20260422T235451
CREATED:20160605T085959Z
LAST-MODIFIED:20160605T085959Z
UID:679-1466344800-1466355600@wilmslowcleanteam.org.uk
SUMMARY:Party In The Park 2016
DESCRIPTION:We will be running a stand at the 2016 “Party In The Park” event in The Carrs. \nPlease come along to find out what we do and how you can help. \nExisting volunteers are needed and welcome to help man the stall. \n 
URL:https://wilmslowcleanteam.org.uk/event/party-in-the-park-2016/
LOCATION:The Carrs\, Wilmslow\, SK9 4AA\, United Kingdom
CATEGORIES:Party In The Park
END:VEVENT
BEGIN:VEVENT
DTSTART;TZID=UTC:20160604T100000
DTEND;TZID=UTC:20160604T120000
DTSTAMP:20260422T235451
CREATED:20160306T110448Z
LAST-MODIFIED:20160529T092434Z
UID:612-1465034400-1465041600@wilmslowcleanteam.org.uk
SUMMARY:Litter Picking Event – Saturday 4th June 2016 10:00
DESCRIPTION:Regular litter picking event. Focus will be Chapel Lane\, Moor Lane and the surrounding area. \nMeet at The Farmer’s Arms \nNew volunteers are most welcome to come along.
URL:https://wilmslowcleanteam.org.uk/event/litter-picking-event-saturday-4th-june-2016-1000/
LOCATION:Farmer’s Arms\, 71 Chapel Lane\, Wilmslow\, SK9 5JH\, United Kingdom
CATEGORIES:Litter Picking Events
END:VEVENT
BEGIN:VEVENT
DTSTART;TZID=UTC:20160601T100000
DTEND;TZID=UTC:20160601T120000
DTSTAMP:20260422T235451
CREATED:20160306T110559Z
LAST-MODIFIED:20160503T185023Z
UID:613-1464775200-1464782400@wilmslowcleanteam.org.uk
SUMMARY:Litter Picking Event – Wednesday 1st June 2016 10:00
DESCRIPTION:Regular litter picking event. Focus will be Summerfields\, Colshaw Drive and the surrounding area. \nMeet in Summerfield’s Car Park \nNew volunteers are most welcome to come along.
URL:https://wilmslowcleanteam.org.uk/event/litter-picking-event-wednesday-1st-june-2016-1000/
LOCATION:Summerfields Centre Car Park\, Dean Row Road\, Wilmslow\, SK9 2TA\, United Kingdom
END:VEVENT
END:VCALENDAR