BEGIN:VCALENDAR
VERSION:2.0
PRODID:-//Wilmslow CleanTeam - ECPv6.15.20//NONSGML v1.0//EN
CALSCALE:GREGORIAN
METHOD:PUBLISH
X-WR-CALNAME:Wilmslow CleanTeam
X-ORIGINAL-URL:https://wilmslowcleanteam.org.uk
X-WR-CALDESC:Events for Wilmslow CleanTeam
REFRESH-INTERVAL;VALUE=DURATION:PT1H
X-Robots-Tag:noindex
X-PUBLISHED-TTL:PT1H
BEGIN:VTIMEZONE
TZID:UTC
BEGIN:STANDARD
TZOFFSETFROM:+0000
TZOFFSETTO:+0000
TZNAME:UTC
DTSTART:20160101T000000
END:STANDARD
END:VTIMEZONE
BEGIN:VEVENT
DTSTART;TZID=UTC:20180704T100000
DTEND;TZID=UTC:20180704T113000
DTSTAMP:20260423T101338
CREATED:20180409T173756Z
LAST-MODIFIED:20180602T082751Z
UID:1009-1530698400-1530703800@wilmslowcleanteam.org.uk
SUMMARY:Litter Picking Event – Wednesday 4th July 2018 10:00
DESCRIPTION:Regular litter picking event. Focus will be the town centre. \nMeet at Bank Square  (this is a change of venue from when the event was originally advertised) \nNew volunteers are most welcome to come along – but please familiarise yourselves with the safety guidance first.
URL:https://wilmslowcleanteam.org.uk/event/litter-picking-event-wednesday-4th-july-2018-1000/
LOCATION:Bank Square\, Wilmslow\, SK9 1AN\, United Kingdom
CATEGORIES:Litter Picking Events
END:VEVENT
BEGIN:VEVENT
DTSTART;TZID=UTC:20180609T100000
DTEND;TZID=UTC:20180609T120000
DTSTAMP:20260423T101338
CREATED:20180310T164922Z
LAST-MODIFIED:20180417T152346Z
UID:985-1528538400-1528545600@wilmslowcleanteam.org.uk
SUMMARY:Litter Picking Event – Saturday 9th June 2018 10:00
DESCRIPTION:Regular litter picking event. Focus will be Dean Row \nMeet at The Unicorn \nNew volunteers are most welcome to come along – but please familiarise yourselves with the safety guidance first
URL:https://wilmslowcleanteam.org.uk/event/litter-picking-event-saturday-9th-june-2018-1000/
LOCATION:The Unicorn (Dean Row)\, Adlington Road\, Wilmslow\,  SK9 2LN\, United Kingdom
CATEGORIES:Litter Picking Events
END:VEVENT
BEGIN:VEVENT
DTSTART;TZID=UTC:20180606T100000
DTEND;TZID=UTC:20180606T120000
DTSTAMP:20260423T101338
CREATED:20180310T164810Z
LAST-MODIFIED:20180413T192903Z
UID:983-1528279200-1528286400@wilmslowcleanteam.org.uk
SUMMARY:Litter Picking Event – Wednesday 6th June 2018 10:00
DESCRIPTION:Regular litter picking event. \nFocus will be Summerfields\, Colshaw Drive and the surrounding area. \nMeet in Summerfield’s Car Park \nNew volunteers are most welcome to come along – but please familiarise yourselves with the safety guidance first
URL:https://wilmslowcleanteam.org.uk/event/litter-picking-event-wednesday-6th-june-2018-1000/
LOCATION:Summerfields Centre Car Park\, Dean Row Road\, Wilmslow\, SK9 2TA\, United Kingdom
CATEGORIES:Litter Picking Events
END:VEVENT
BEGIN:VEVENT
DTSTART;TZID=UTC:20180522T193000
DTEND;TZID=UTC:20180522T210000
DTSTAMP:20260423T101338
CREATED:20180413T193148Z
LAST-MODIFIED:20180413T193341Z
UID:1014-1527017400-1527022800@wilmslowcleanteam.org.uk
SUMMARY:AGM 2018
DESCRIPTION:Annual General Meeting \nMeet upstairs in Wilmslow Library
URL:https://wilmslowcleanteam.org.uk/event/agm-2018/
LOCATION:Wilmslow Library\, South Drive\, Wilmslow\, SK9 1NW\, United Kingdom
CATEGORIES:Meetings
END:VEVENT
BEGIN:VEVENT
DTSTART;TZID=UTC:20180505T100000
DTEND;TZID=UTC:20180505T120000
DTSTAMP:20260423T101338
CREATED:20180210T192112Z
LAST-MODIFIED:20180417T152327Z
UID:956-1525514400-1525521600@wilmslowcleanteam.org.uk
SUMMARY:Litter Picking Event – Saturday 5th May 2018 10:00
DESCRIPTION:Regular litter picking event. Focus will be the town centre including the area around Sainsburys. \nMeet at Anthology \nNew volunteers are most welcome to come along – but please familiarise yourselves with the safety guidance first.
URL:https://wilmslowcleanteam.org.uk/event/litter-picking-event-saturday-5th-may-2018-1000/
LOCATION:Anthology\, 2 Swan Street\, Wilmslow\, SK9 1HE
CATEGORIES:Litter Picking Events
END:VEVENT
BEGIN:VEVENT
DTSTART;TZID=UTC:20180502T100000
DTEND;TZID=UTC:20180502T120000
DTSTAMP:20260423T101338
CREATED:20180210T191939Z
LAST-MODIFIED:20180330T175331Z
UID:954-1525255200-1525262400@wilmslowcleanteam.org.uk
SUMMARY:Litter Picking Event – Wednesday 2nd May 2018 10:00
DESCRIPTION:Regular litter picking event. Focus will be Altrincham Road and the airport tunnels. \nMeet in the Honey Bee car park. \nNew volunteers are most welcome to come along – but please familiarise yourselves with the safety guidance first
URL:https://wilmslowcleanteam.org.uk/event/litter-picking-event-wednesday-2nd-may-2018-1000/
LOCATION:The Honey Bee\, Altrincham Road\, Wilmslow\, SK9 4LT\, United Kingdom
CATEGORIES:Litter Picking Events
END:VEVENT
BEGIN:VEVENT
DTSTART;TZID=UTC:20180408T140000
DTEND;TZID=UTC:20180408T153000
DTSTAMP:20260423T101338
CREATED:20180217T134357Z
LAST-MODIFIED:20180313T073602Z
UID:967-1523196000-1523201400@wilmslowcleanteam.org.uk
SUMMARY:Litter Picking Event – Sunday 8th April 2018 14:00 *** Wilmslow Spring Clean Week 2018 Event ***
DESCRIPTION:This is an extra litter pick as part of our annual “Spring Clean Week” \nMeet at WIlmslow Garden Centre at 14:00 (we must park at the bottom of their car park – please do not use customer parking spaces near the entrance) \nWe will focus on Manchester Road to the Handforth border\, Stanneylands Road\, Dean Row Road and the surrounding area. \nNew volunteers are most welcome to come along – but please familiarise yourselves with the safety guidance first
URL:https://wilmslowcleanteam.org.uk/event/litter-picking-event-sunday-8th-april-2018-1400-wilmslow-spring-clean-week-2018-event/
LOCATION:Wilmslow Garden Centre\, Manchester Road\, Wilmslow\, SK9 2JN\, United Kingdom
CATEGORIES:Litter Picking Events,Spring Clean
END:VEVENT
BEGIN:VEVENT
DTSTART;TZID=UTC:20180407T100000
DTEND;TZID=UTC:20180407T113000
DTSTAMP:20260423T101338
CREATED:20180107T173717Z
LAST-MODIFIED:20180306T203852Z
UID:946-1523095200-1523100600@wilmslowcleanteam.org.uk
SUMMARY:Litter Picking Event – Saturday 7th April 2018 10:00  *** Wilmslow Spring Clean Week 2018 Event ***
DESCRIPTION:Regular litter picking event. Focus will be Knutsford Road / Alderley Road / Chapel Lane Bypass roundabout. \nMeet at The King’s Arms \nNew volunteers are most welcome to come along – but please familiarise yourselves with the safety guidance first
URL:https://wilmslowcleanteam.org.uk/event/litter-picking-event-saturday-7th-april-2018-1000/
LOCATION:The King’s Arms\, Alderley Road\, Wilmslow\, SK9 1PZ\, United Kingdom
CATEGORIES:Litter Picking Events
END:VEVENT
BEGIN:VEVENT
DTSTART;TZID=UTC:20180405T193000
DTEND;TZID=UTC:20180405T210000
DTSTAMP:20260423T101338
CREATED:20180217T134558Z
LAST-MODIFIED:20190212T200139Z
UID:969-1522956600-1522962000@wilmslowcleanteam.org.uk
SUMMARY:Social Evening – Thursday 5th April 2018 19:30 *** Wilmslow Spring Clean Week 2018 Event ***
DESCRIPTION:We will be meeting up for some well earned rest and relaxation at The Horse & Jockey \nThere is a litter picking event at 18:30 – but that is optional – come along anyway even if you can’t make the litter pick \nIt would be great to catch up with all our volunteers – but newcomers are most welcome to come along too in order to meet the team and find out more about our voluntary work.
URL:https://wilmslowcleanteam.org.uk/event/social-evening-thursday-5th-april-2018-1930-wilmslow-spring-clean-week-2017-event/
LOCATION:Horse & Jockey\, 144 Gravel Lane\, Wilmslow\, SK9 6EG\, United Kingdom
CATEGORIES:Social Event,Spring Clean
END:VEVENT
BEGIN:VEVENT
DTSTART;TZID=UTC:20180405T183000
DTEND;TZID=UTC:20180405T193000
DTSTAMP:20260423T101338
CREATED:20180217T134247Z
LAST-MODIFIED:20180313T073629Z
UID:965-1522953000-1522956600@wilmslowcleanteam.org.uk
SUMMARY:Litter Picking Event – Thursday 5th April 2018 18:30 *** Wilmslow Spring Clean Week 2018 Event ***
DESCRIPTION:This is an extra litter pick as part of our annual “Spring Clean Week” \nMeeting point will be the shops at the junction of Moor Lane and Cumber Lane at 18:30. \nWe will focus Moor Lane\, Cumber Lane and Lindow. \nNew volunteers are most welcome to come along – but please familiarise yourselves with the safety guidance first
URL:https://wilmslowcleanteam.org.uk/event/litter-picking-event-thursday-5th-april-2018-1000-wilmslow-spring-clean-week-2018-event/
LOCATION:Dan’s DIY\, 173 Moor Lane\, Wilmslow\, SK9 6DN\, United Kingdom
CATEGORIES:Litter Picking Events,Spring Clean
END:VEVENT
BEGIN:VEVENT
DTSTART;TZID=UTC:20180404T100000
DTEND;TZID=UTC:20180404T113000
DTSTAMP:20260423T101338
CREATED:20180107T173625Z
LAST-MODIFIED:20180227T191245Z
UID:944-1522836000-1522841400@wilmslowcleanteam.org.uk
SUMMARY:Litter Picking Event – Wednesday 4th April 2018 10:00  *** Wilmslow Spring Clean Week 2018 Event ***
DESCRIPTION:Regular litter picking event. Focus will be Lindow Common and Altrincham Road. \nMeet in Lindow Common Car Park \nNew volunteers are most welcome to come along – but please familiarise yourselves with the safety guidance first
URL:https://wilmslowcleanteam.org.uk/event/litter-picking-event-wednesday-4th-april-2018-1000/
LOCATION:Lindow Common Car Park\, Racecourse Road\, Wilmslow\, SK9 5LR\, United Kingdom
CATEGORIES:Litter Picking Events
END:VEVENT
BEGIN:VEVENT
DTSTART;TZID=UTC:20180310T100000
DTEND;TZID=UTC:20180310T120000
DTSTAMP:20260423T101338
CREATED:20171210T122836Z
LAST-MODIFIED:20180302T184901Z
UID:926-1520676000-1520683200@wilmslowcleanteam.org.uk
SUMMARY:"Keep Britain Tidy - The Great British Spring Clean" Litter Picking Event – Saturday 10th March 2018 10:00
DESCRIPTION:Regular litter picking event. Focus will be the town centre. \nMeet in the Anthology car park \nNew volunteers are most welcome to come along – but please familiarise yourselves with the safety guidance first.
URL:https://wilmslowcleanteam.org.uk/event/litter-picking-event-saturday-10th-march-2018-1000/
LOCATION:Anthology\, 2 Swan Street\, Wilmslow\, SK9 1HE
CATEGORIES:Litter Picking Events
END:VEVENT
BEGIN:VEVENT
DTSTART;TZID=UTC:20180307T100000
DTEND;TZID=UTC:20180307T120000
DTSTAMP:20260423T101338
CREATED:20171210T122553Z
LAST-MODIFIED:20180302T184844Z
UID:924-1520416800-1520424000@wilmslowcleanteam.org.uk
SUMMARY:"Keep Britain Tidy - The Great British Spring Clean" Litter Picking Event – Wednesday 7th March 2018 10:00
DESCRIPTION:Regular litter picking event. Focus will be the area around Summerfields and Colshaw Drive. \nMeet in the Summerfields car park. \nNew volunteers are most welcome to come along – but please familiarise yourselves with the safety guidance first
URL:https://wilmslowcleanteam.org.uk/event/litter-picking-event-wednesday-7th-march-2018-1000/
LOCATION:Summerfields Centre Car Park\, Dean Row Road\, Wilmslow\, SK9 2TA\, United Kingdom
CATEGORIES:Litter Picking Events
END:VEVENT
BEGIN:VEVENT
DTSTART;TZID=UTC:20180210T100000
DTEND;TZID=UTC:20180210T120000
DTSTAMP:20260423T101338
CREATED:20171105T184355Z
LAST-MODIFIED:20171230T182814Z
UID:912-1518256800-1518264000@wilmslowcleanteam.org.uk
SUMMARY:Litter Picking Event – Saturday 10th February 2018 10:00
DESCRIPTION:Regular litter picking event. Focus will be Altrincham Road and the airport tunnels. \nMeet in the Honey Bee car park. \nNew volunteers are most welcome to come along – but please familiarise yourselves with the safety guidance first
URL:https://wilmslowcleanteam.org.uk/event/litter-picking-event-saturday-10th-february-2018-1000/
LOCATION:The Honey Bee\, Altrincham Road\, Wilmslow\, SK9 4LT\, United Kingdom
CATEGORIES:Litter Picking Events
END:VEVENT
BEGIN:VEVENT
DTSTART;TZID=UTC:20180207T100000
DTEND;TZID=UTC:20180207T120000
DTSTAMP:20260423T101338
CREATED:20171105T184204Z
LAST-MODIFIED:20171127T184533Z
UID:909-1517997600-1518004800@wilmslowcleanteam.org.uk
SUMMARY:Litter Picking Event – Wednesday 7th February 2018 10:00
DESCRIPTION:Regular litter picking event. Focus will be The Carrs + one car will head off to the Prestbury Link Road (if numbers allow). \nMeet in the Parish Hall car park. \nNew volunteers are most welcome to come along – but please familiarise yourselves with the safety guidance first
URL:https://wilmslowcleanteam.org.uk/event/litter-picking-event-wednesday-7th-february-2018-1000/
LOCATION:Wilmslow Parish Hall\, Cliff Road\, Wilmslow\, SK9 4AA\, United Kingdom
CATEGORIES:Litter Picking Events
END:VEVENT
BEGIN:VEVENT
DTSTART;TZID=UTC:20180106T100000
DTEND;TZID=UTC:20180106T120000
DTSTAMP:20260423T101338
CREATED:20171007T173610Z
LAST-MODIFIED:20180105T205047Z
UID:892-1515232800-1515240000@wilmslowcleanteam.org.uk
SUMMARY:Litter Picking Event – Saturday 6th January 2018 10:00
DESCRIPTION:Regular litter picking event. Focus will be the town centre. \nMeet at Bank Square. \nNew volunteers are most welcome to come along – but please familiarise yourselves with the safety guidance first.
URL:https://wilmslowcleanteam.org.uk/event/litter-picking-event-saturday-6th-january-2018-1000/
LOCATION:Bank Square\, Wilmslow\, SK9 1AN\, United Kingdom
CATEGORIES:Litter Picking Events
END:VEVENT
BEGIN:VEVENT
DTSTART;TZID=UTC:20180103T100000
DTEND;TZID=UTC:20180103T120000
DTSTAMP:20260423T101338
CREATED:20171007T173109Z
LAST-MODIFIED:20171114T212208Z
UID:890-1514973600-1514980800@wilmslowcleanteam.org.uk
SUMMARY:Litter Picking Event – Wednesday 3rd January 2018 10:00
DESCRIPTION:Regular litter picking event. Focus will be Lacey Green Park and the surrounding area. \nMeet at the entrance to Lacey Green Park. \nNew volunteers are most welcome to come along – but please familiarise yourselves with the safety guidance first
URL:https://wilmslowcleanteam.org.uk/event/litter-picking-event-wednesday-3rd-january-2018-1000/
LOCATION:Lacey Green Park\, Barlow Road\, Wilmslow\, SK9 4BS\, United Kingdom
CATEGORIES:Litter Picking Events
END:VEVENT
BEGIN:VEVENT
DTSTART;TZID=UTC:20171209T100000
DTEND;TZID=UTC:20171209T120000
DTSTAMP:20260423T101338
CREATED:20170909T145020Z
LAST-MODIFIED:20171209T083754Z
UID:885-1512813600-1512820800@wilmslowcleanteam.org.uk
SUMMARY:** CANCELLED DUE TO WEATHER ** : Litter Picking Event – Saturday 9th December 2017 10:00
DESCRIPTION:Regular litter picking event. \nFocus will be Summerfields\, Colshaw Drive and the surrounding area. \nMeet in Summerfield’s Car Park \nNew volunteers are most welcome to come along – but please familiarise yourselves with the safety guidance first
URL:https://wilmslowcleanteam.org.uk/event/litter-picking-event-saturday-9th-december-2017-1000/
LOCATION:Summerfields Centre Car Park\, Dean Row Road\, Wilmslow\, SK9 2TA\, United Kingdom
CATEGORIES:Litter Picking Events
END:VEVENT
BEGIN:VEVENT
DTSTART;TZID=UTC:20171206T100000
DTEND;TZID=UTC:20171206T120000
DTSTAMP:20260423T101338
CREATED:20170909T144902Z
LAST-MODIFIED:20171114T212253Z
UID:883-1512554400-1512561600@wilmslowcleanteam.org.uk
SUMMARY:Litter Picking Event – Wednesday 6th December 2017 10:00
DESCRIPTION:Regular litter picking event. Focus will be Chapel Lane\, Moor Lane and the surrounding area. \nMeet at The Farmer’s Arms \nNew volunteers are most welcome to come along – but please familiarise yourselves with the safety guidance first
URL:https://wilmslowcleanteam.org.uk/event/litter-picking-event-wednesday-6th-december-2017-1000/
LOCATION:Farmer’s Arms\, 71 Chapel Lane\, Wilmslow\, SK9 5JH\, United Kingdom
CATEGORIES:Litter Picking Events
END:VEVENT
BEGIN:VEVENT
DTSTART;TZID=UTC:20171104T100000
DTEND;TZID=UTC:20171104T120000
DTSTAMP:20260423T101338
CREATED:20170805T152828Z
LAST-MODIFIED:20171009T155519Z
UID:872-1509789600-1509796800@wilmslowcleanteam.org.uk
SUMMARY:Litter Picking Event – Saturday 4th November 2017 10:00
DESCRIPTION:Regular litter picking event. Focus will be Altrincham Road and the airport tunnels. \nMeet in the Honey Bee car park. \nNew volunteers are most welcome to come along – but please familiarise yourselves with the safety guidance first
URL:https://wilmslowcleanteam.org.uk/event/litter-picking-event-saturday-4th-november-2017-1000/
LOCATION:The Honey Bee\, Altrincham Road\, Wilmslow\, SK9 4LT\, United Kingdom
CATEGORIES:Litter Picking Events
END:VEVENT
BEGIN:VEVENT
DTSTART;TZID=UTC:20171101T100000
DTEND;TZID=UTC:20171101T120000
DTSTAMP:20260423T101338
CREATED:20170805T152740Z
LAST-MODIFIED:20171009T155440Z
UID:870-1509530400-1509537600@wilmslowcleanteam.org.uk
SUMMARY:Litter Picking Event – Wednesday 1st November 2017 10:00
DESCRIPTION:Regular litter picking event. Focus will be the town centre including the area around Sainsburys. \nMeet at Bank Square. \nNew volunteers are most welcome to come along – but please familiarise yourselves with the safety guidance first.
URL:https://wilmslowcleanteam.org.uk/event/litter-picking-event-wednesday-1st-november-2017-1000/
LOCATION:Bank Square\, Wilmslow\, SK9 1AN\, United Kingdom
CATEGORIES:Litter Picking Events
END:VEVENT
BEGIN:VEVENT
DTSTART;TZID=UTC:20171007T100000
DTEND;TZID=UTC:20171007T120000
DTSTAMP:20260423T101338
CREATED:20170710T161859Z
LAST-MODIFIED:20170804T200757Z
UID:864-1507370400-1507377600@wilmslowcleanteam.org.uk
SUMMARY:Litter Picking Event – Saturday 7th October 2017 10:00
DESCRIPTION:Regular litter picking event. Focus will be Lindow Common and Altrincham Road. \nMeet in Lindow Common Car Park \nNew volunteers are most welcome to come along – but please familiarise yourselves with the safety guidance first
URL:https://wilmslowcleanteam.org.uk/event/litter-picking-event-saturday-7th-october-2017-1000/
LOCATION:Lindow Common Car Park\, Racecourse Road\, Wilmslow\, SK9 5LR\, United Kingdom
CATEGORIES:Litter Picking Events
END:VEVENT
BEGIN:VEVENT
DTSTART;TZID=UTC:20171004T100000
DTEND;TZID=UTC:20171004T120000
DTSTAMP:20260423T101338
CREATED:20170710T161749Z
LAST-MODIFIED:20170710T161749Z
UID:862-1507111200-1507118400@wilmslowcleanteam.org.uk
SUMMARY:Litter Picking Event – Wednesday 4th October 2017 10:00
DESCRIPTION:Regular litter picking event. Focus will be Knutsford Road / Alderley Road / Bypass roundabout. \nMeet at The King’s Arms \nNew volunteers are most welcome to come along – but please familiarise yourselves with the safety guidance first
URL:https://wilmslowcleanteam.org.uk/event/litter-picking-event-wednesday-4th-october-2017-1000/
LOCATION:The King’s Arms\, Alderley Road\, Wilmslow\, SK9 1PZ\, United Kingdom
CATEGORIES:Litter Picking Events
END:VEVENT
BEGIN:VEVENT
DTSTART;TZID=UTC:20170909T100000
DTEND;TZID=UTC:20170909T120000
DTSTAMP:20260423T101338
CREATED:20170612T171335Z
LAST-MODIFIED:20170907T055329Z
UID:858-1504951200-1504958400@wilmslowcleanteam.org.uk
SUMMARY:Litter Picking Event – Saturday 9th September 2017 10:00
DESCRIPTION:Regular litter picking event. Focus will be the area around Summerfields and Colshaw Drive. \nMeet in the Summerfields car park. \nNew volunteers are most welcome to come along – but please familiarise yourselves with the safety guidance first
URL:https://wilmslowcleanteam.org.uk/event/litter-picking-event-saturday-9th-september-2017-1000/
LOCATION:Summerfields Centre Car Park\, Dean Row Road\, Wilmslow\, SK9 2TA\, United Kingdom
CATEGORIES:Litter Picking Events
END:VEVENT
BEGIN:VEVENT
DTSTART;TZID=UTC:20170906T100000
DTEND;TZID=UTC:20170906T120000
DTSTAMP:20260423T101338
CREATED:20170612T171224Z
LAST-MODIFIED:20170830T154335Z
UID:856-1504692000-1504699200@wilmslowcleanteam.org.uk
SUMMARY:Litter Picking Event – Wednesday 6th September 2017 10:00
DESCRIPTION:Regular litter picking event. Focus will be the town centre. \nMeet at Leisure Centre – ask the organiser on the day if you need a “free parking” pass. \nNew volunteers are most welcome to come along – but please familiarise yourselves with the safety guidance first.
URL:https://wilmslowcleanteam.org.uk/event/litter-picking-event-wednesday-6th-september-2017-1000/
LOCATION:Wilmslow Leisure Centre\, Rectory Fields\, Wilmslow\, SK9 1BU\, United Kingdom
CATEGORIES:Litter Picking Events
END:VEVENT
BEGIN:VEVENT
DTSTART;TZID=UTC:20170805T100000
DTEND;TZID=UTC:20170805T120000
DTSTAMP:20260423T101338
CREATED:20170507T153455Z
LAST-MODIFIED:20170507T153455Z
UID:847-1501927200-1501934400@wilmslowcleanteam.org.uk
SUMMARY:Litter Picking Event – Saturday 5th August 2017 10:00
DESCRIPTION:Regular litter picking event. Focus will be The Carrs + one car will head off to the Prestbury Link Road (if numbers allow). \nMeet in the Parish Hall car park. \nNew volunteers are most welcome to come along – but please familiarise yourselves with the safety guidance first
URL:https://wilmslowcleanteam.org.uk/event/litter-picking-event-saturday-5th-august-2017-1000/
LOCATION:Wilmslow Parish Hall\, Cliff Road\, Wilmslow\, SK9 4AA\, United Kingdom
CATEGORIES:Litter Picking Events
END:VEVENT
BEGIN:VEVENT
DTSTART;TZID=UTC:20170802T100000
DTEND;TZID=UTC:20170802T120000
DTSTAMP:20260423T101338
CREATED:20170507T153335Z
LAST-MODIFIED:20170724T155247Z
UID:845-1501668000-1501675200@wilmslowcleanteam.org.uk
SUMMARY:Litter Picking Event – Wednesday 2nd August 2017 10:00
DESCRIPTION:Regular litter picking event. Focus will be Altrincham Road and the airport tunnels. \nMeet in the Honey Bee car park. \nNew volunteers are most welcome to come along – but please familiarise yourselves with the safety guidance first
URL:https://wilmslowcleanteam.org.uk/event/litter-picking-event-wednesday-2nd-august-2017-1000/
LOCATION:The Honey Bee\, Altrincham Road\, Wilmslow\, SK9 4LT\, United Kingdom
CATEGORIES:Litter Picking Events
END:VEVENT
BEGIN:VEVENT
DTSTART;TZID=UTC:20170708T100000
DTEND;TZID=UTC:20170708T120000
DTSTAMP:20260423T101338
CREATED:20170409T201027Z
LAST-MODIFIED:20170409T201027Z
UID:835-1499508000-1499515200@wilmslowcleanteam.org.uk
SUMMARY:Litter Picking Event – Saturday 8th July 2017 10:00
DESCRIPTION:Regular litter picking event. Focus will be Lacey Green Park and the surrounding area. \nMeet at the entrance to Lacey Green Park. \nNew volunteers are most welcome to come along – but please familiarise yourselves with the safety guidance first
URL:https://wilmslowcleanteam.org.uk/event/litter-picking-event-saturday-8th-july-2017-1000/
LOCATION:Lacey Green Park\, Barlow Road\, Wilmslow\, SK9 4BS\, United Kingdom
CATEGORIES:Litter Picking Events
END:VEVENT
BEGIN:VEVENT
DTSTART;TZID=UTC:20170705T100000
DTEND;TZID=UTC:20170705T120000
DTSTAMP:20260423T101338
CREATED:20170409T200436Z
LAST-MODIFIED:20170622T201609Z
UID:833-1499248800-1499256000@wilmslowcleanteam.org.uk
SUMMARY:Litter Picking Event – Wednesday 5th July 2017 10:00
DESCRIPTION:Regular litter picking event. Focus will be the town centre. \nMeet at Leisure Centre – ask the organiser on the day if you need a “free parking” pass. \nNew volunteers are most welcome to come along – but please familiarise yourselves with the safety guidance first.
URL:https://wilmslowcleanteam.org.uk/event/litter-picking-event-wednesday-5th-july-2017-1000/
LOCATION:Wilmslow Leisure Centre\, Rectory Fields\, Wilmslow\, SK9 1BU\, United Kingdom
CATEGORIES:Litter Picking Events
END:VEVENT
BEGIN:VEVENT
DTSTART;TZID=UTC:20170610T100000
DTEND;TZID=UTC:20170610T120000
DTSTAMP:20260423T101338
CREATED:20170312T165618Z
LAST-MODIFIED:20170312T165618Z
UID:819-1497088800-1497096000@wilmslowcleanteam.org.uk
SUMMARY:Litter Picking Event – Saturday 10th June 2017 10:00
DESCRIPTION:Moor Lane / Chapel Lane \nRegular litter picking event. Focus will be Chapel Lane\, Moor Lane and the surrounding area. \nMeet at The Farmer’s Arms \nNew volunteers are most welcome to come along – but please familiarise yourselves with the safety guidance first
URL:https://wilmslowcleanteam.org.uk/event/litter-picking-event-saturday-10th-june-2017-1000/
LOCATION:Farmer’s Arms\, 71 Chapel Lane\, Wilmslow\, SK9 5JH\, United Kingdom
CATEGORIES:Litter Picking Events
END:VEVENT
END:VCALENDAR