BEGIN:VCALENDAR
VERSION:2.0
PRODID:-//Wilmslow CleanTeam - ECPv6.15.20//NONSGML v1.0//EN
CALSCALE:GREGORIAN
METHOD:PUBLISH
X-WR-CALNAME:Wilmslow CleanTeam
X-ORIGINAL-URL:https://wilmslowcleanteam.org.uk
X-WR-CALDESC:Events for Wilmslow CleanTeam
REFRESH-INTERVAL;VALUE=DURATION:PT1H
X-Robots-Tag:noindex
X-PUBLISHED-TTL:PT1H
BEGIN:VTIMEZONE
TZID:UTC
BEGIN:STANDARD
TZOFFSETFROM:+0000
TZOFFSETTO:+0000
TZNAME:UTC
DTSTART:20170101T000000
END:STANDARD
END:VTIMEZONE
BEGIN:VEVENT
DTSTART;TZID=UTC:20190504T100000
DTEND;TZID=UTC:20190504T113000
DTSTAMP:20260423T103050
CREATED:20190212T193620Z
LAST-MODIFIED:20190212T210340Z
UID:1149-1556964000-1556969400@wilmslowcleanteam.org.uk
SUMMARY:Litter Picking Event – Saturday 4th May 2019
DESCRIPTION:Regular litter picking event. Focus will be the town centre including the area around Sainsburys. \nMeet at Bank Square \nNew volunteers are most welcome to come along – but please familiarise yourselves with the safety guidance first.
URL:https://wilmslowcleanteam.org.uk/event/litter-picking-event-saturday-4th-may-2019/
LOCATION:Bank Square\, Wilmslow\, SK9 1AN\, United Kingdom
CATEGORIES:Litter Picking Events
END:VEVENT
BEGIN:VEVENT
DTSTART;TZID=UTC:20190501T100000
DTEND;TZID=UTC:20190501T113000
DTSTAMP:20260423T103050
CREATED:20190212T193527Z
LAST-MODIFIED:20190212T193527Z
UID:1147-1556704800-1556710200@wilmslowcleanteam.org.uk
SUMMARY:Litter Picking Event – Wednesday 1st May 2019
DESCRIPTION:Regular litter picking event. Focus will be Altrincham Road and the airport tunnels. \nMeet in the Honey Bee car park. \nNew volunteers are most welcome to come along – but please familiarise yourselves with the safety guidance first
URL:https://wilmslowcleanteam.org.uk/event/litter-picking-event-wednesday-1st-may-2019/
LOCATION:The Honey Bee\, Altrincham Road\, Wilmslow\, SK9 4LT\, United Kingdom
CATEGORIES:Litter Picking Events
END:VEVENT
BEGIN:VEVENT
DTSTART;TZID=UTC:20190407T140000
DTEND;TZID=UTC:20190407T153000
DTSTAMP:20260423T103050
CREATED:20190212T200021Z
LAST-MODIFIED:20190218T180318Z
UID:1157-1554645600-1554651000@wilmslowcleanteam.org.uk
SUMMARY:Litter Picking Event – Sunday 7th April 2019 *** Wilmslow Spring Clean Week 2019 Event ***
DESCRIPTION:Extra Spring Clean litter picking event. Focus will be Manchester Road and Staneylands Road \nMeet at Wilmslow Garden Centre \nNew volunteers are most welcome to come along – but please familiarise yourselves with the safety guidance first
URL:https://wilmslowcleanteam.org.uk/event/litter-picking-event-sunday-7th-april-2019-wilmslow-spring-clean-week-2019-event/
LOCATION:Wilmslow Garden Centre\, Manchester Road\, Wilmslow\, SK9 2JN\, United Kingdom
CATEGORIES:Litter Picking Events
END:VEVENT
BEGIN:VEVENT
DTSTART;TZID=UTC:20190406T100000
DTEND;TZID=UTC:20190406T113000
DTSTAMP:20260423T103050
CREATED:20190105T152835Z
LAST-MODIFIED:20190212T200446Z
UID:1125-1554544800-1554550200@wilmslowcleanteam.org.uk
SUMMARY:Litter Picking Event – Saturday 6th April 2019  *** Wilmslow Spring Clean Week 2019 Event ***
DESCRIPTION:Regular litter picking event. Focus will be Knutsford Road / Alderley Road / Chapel Lane Bypass roundabout. \nMeet at The King’s Arms \nNew volunteers are most welcome to come along – but please familiarise yourselves with the safety guidance first
URL:https://wilmslowcleanteam.org.uk/event/litter-picking-event-saturday-6th-april-2019/
LOCATION:The King’s Arms\, Alderley Road\, Wilmslow\, SK9 1PZ\, United Kingdom
CATEGORIES:Litter Picking Events
END:VEVENT
BEGIN:VEVENT
DTSTART;TZID=UTC:20190403T100000
DTEND;TZID=UTC:20190403T113000
DTSTAMP:20260423T103050
CREATED:20190105T152735Z
LAST-MODIFIED:20190212T200427Z
UID:1123-1554285600-1554291000@wilmslowcleanteam.org.uk
SUMMARY:Litter Picking Event – Wednesday 3rd April 2019  *** Wilmslow Spring Clean Week 2019 Event ***
DESCRIPTION:Regular litter picking event. Focus will be Lindow Common and Altrincham Road. \nMeet in Lindow Common Car Park \nNew volunteers are most welcome to come along – but please familiarise yourselves with the safety guidance first
URL:https://wilmslowcleanteam.org.uk/event/litter-picking-event-wednesday-3rd-april-2019/
LOCATION:Lindow Common Car Park\, Racecourse Road\, Wilmslow\, SK9 5LR\, United Kingdom
CATEGORIES:Litter Picking Events
END:VEVENT
BEGIN:VEVENT
DTSTART;TZID=UTC:20190401T190000
DTEND;TZID=UTC:20190401T210000
DTSTAMP:20260423T103050
CREATED:20190212T200404Z
LAST-MODIFIED:20190214T184234Z
UID:1161-1554145200-1554152400@wilmslowcleanteam.org.uk
SUMMARY:Social Evening – Monday 1st April 2019 19:00 *** Wilmslow Spring Clean Week 2019 Event ***
DESCRIPTION:We will be meeting up for some well earned rest and relaxation at The Unicorn in Dean Row. \nThere is a litter picking event at 18:00 – but that is optional – come along anyway even if you can’t make the litter pick. \nIt would be great to catch up with all our volunteers – but newcomers are most welcome to come along too in order to meet the team and find out more about our voluntary work.
URL:https://wilmslowcleanteam.org.uk/event/social-evening-monday-1st-april-2019-1900-wilmslow-spring-clean-week-2019-event/
LOCATION:The Unicorn (Dean Row)\, Adlington Road\, Wilmslow\,  SK9 2LN\, United Kingdom
CATEGORIES:Social Event,Spring Clean
END:VEVENT
BEGIN:VEVENT
DTSTART;TZID=UTC:20190401T180000
DTEND;TZID=UTC:20190401T190000
DTSTAMP:20260423T103050
CREATED:20190212T195849Z
LAST-MODIFIED:20190214T184356Z
UID:1155-1554141600-1554145200@wilmslowcleanteam.org.uk
SUMMARY:Litter Picking Event – Monday 1st April 2019  *** Wilmslow Spring Clean Week 2019 Event ***
DESCRIPTION:Extra “Spring Clean” litter picking event. Focus will be Dean Row \nMeet at The Unicorn \nNew volunteers are most welcome to come along – but please familiarise yourselves with the safety guidance first
URL:https://wilmslowcleanteam.org.uk/event/litter-picking-event-monday-1st-april-2019-wilmslow-spring-clean-week-2019-event/
LOCATION:The Unicorn (Dean Row)\, Adlington Road\, Wilmslow\,  SK9 2LN\, United Kingdom
CATEGORIES:Litter Picking Events,Spring Clean
END:VEVENT
BEGIN:VEVENT
DTSTART;TZID=UTC:20190309T100000
DTEND;TZID=UTC:20190309T113000
DTSTAMP:20260423T103050
CREATED:20181209T114408Z
LAST-MODIFIED:20190217T151244Z
UID:1115-1552125600-1552131000@wilmslowcleanteam.org.uk
SUMMARY:Litter Picking Event – Saturday 9th March 2019
DESCRIPTION:Regular litter picking event. Focus will be the town centre. \nMeet at Bank Square \nNew volunteers are most welcome to come along – but please familiarise yourselves with the safety guidance first.
URL:https://wilmslowcleanteam.org.uk/event/litter-picking-event-saturday-8th-march-2019/
LOCATION:Bank Square\, Wilmslow\, SK9 1AN\, United Kingdom
CATEGORIES:Litter Picking Events
END:VEVENT
BEGIN:VEVENT
DTSTART;TZID=UTC:20190306T100000
DTEND;TZID=UTC:20190306T113000
DTSTAMP:20260423T103050
CREATED:20181209T114313Z
LAST-MODIFIED:20190114T192502Z
UID:1113-1551866400-1551871800@wilmslowcleanteam.org.uk
SUMMARY:Litter Picking Event – Wednesday 6th March 2019
DESCRIPTION:Regular litter picking event. Focus will be the area around Summerfields and Colshaw Drive. \nMeet in the Summerfields car park. \nNew volunteers are most welcome to come along – but please familiarise yourselves with the safety guidance first
URL:https://wilmslowcleanteam.org.uk/event/litter-picking-event-wednesday-6th-march-2019/
LOCATION:Summerfields Centre Car Park\, Dean Row Road\, Wilmslow\, SK9 2TA\, United Kingdom
CATEGORIES:Litter Picking Events
END:VEVENT
BEGIN:VEVENT
DTSTART;TZID=UTC:20190209T100000
DTEND;TZID=UTC:20190209T113000
DTSTAMP:20260423T103050
CREATED:20181111T102410Z
LAST-MODIFIED:20190206T212620Z
UID:1106-1549706400-1549711800@wilmslowcleanteam.org.uk
SUMMARY:Litter Picking Event – Saturday 9th February 2019
DESCRIPTION:Regular litter picking event. Focus will be Altrincham Road and the airport tunnels. \nMeet in the Honey Bee car park. \nNew volunteers are most welcome to come along – but please familiarise yourselves with the safety guidance first
URL:https://wilmslowcleanteam.org.uk/event/litter-picking-event-saturday-9th-february-2019/
LOCATION:The Honey Bee\, Altrincham Road\, Wilmslow\, SK9 4LT\, United Kingdom
CATEGORIES:Litter Picking Events
END:VEVENT
BEGIN:VEVENT
DTSTART;TZID=UTC:20190206T100000
DTEND;TZID=UTC:20190206T113000
DTSTAMP:20260423T103050
CREATED:20181111T102305Z
LAST-MODIFIED:20181125T162527Z
UID:1104-1549447200-1549452600@wilmslowcleanteam.org.uk
SUMMARY:Litter Picking Event – Wednesday 6th February 2019
DESCRIPTION:Regular litter picking event. Focus will be The Carrs + one car will head off to the Prestbury Link Road (if numbers allow). \nMeet in the Parish Hall car park. \nNew volunteers are most welcome to come along – but please familiarise yourselves with the safety guidance first
URL:https://wilmslowcleanteam.org.uk/event/litter-picking-event-wednesday-6th-february-2019/
LOCATION:Wilmslow Parish Hall\, Cliff Road\, Wilmslow\, SK9 4AA\, United Kingdom
CATEGORIES:Litter Picking Events
END:VEVENT
BEGIN:VEVENT
DTSTART;TZID=UTC:20190109T100000
DTEND;TZID=UTC:20190109T113000
DTSTAMP:20260423T103050
CREATED:20181007T105809Z
LAST-MODIFIED:20181125T162508Z
UID:1089-1547028000-1547033400@wilmslowcleanteam.org.uk
SUMMARY:Litter Picking Event – Wednesday 9th January  (moved from 2nd)
DESCRIPTION:*** NEW DATE : This litter pick is now happening on 9th January – but was originally advertised on 2nd January *** \nRegular litter picking event. Focus will be Lacey Green Park and the surrounding area. \nMeet at the entrance to Lacey Green Park. \nNew volunteers are most welcome to come along – but please familiarise yourselves with the safety guidance first
URL:https://wilmslowcleanteam.org.uk/event/litter-picking-event-wednesday-2nd-january-2019/
LOCATION:Lacey Green Park\, Barlow Road\, Wilmslow\, SK9 4BS\, United Kingdom
CATEGORIES:Litter Picking Events
END:VEVENT
BEGIN:VEVENT
DTSTART;TZID=UTC:20190105T100000
DTEND;TZID=UTC:20190105T113000
DTSTAMP:20260423T103050
CREATED:20181007T105859Z
LAST-MODIFIED:20181125T162451Z
UID:1091-1546682400-1546687800@wilmslowcleanteam.org.uk
SUMMARY:Litter Picking Event – Saturday 5th January 2019
DESCRIPTION:Regular litter picking event. Focus will be the town centre. \nMeet at Bank Square \nNew volunteers are most welcome to come along – but please familiarise yourselves with the safety guidance first.
URL:https://wilmslowcleanteam.org.uk/event/litter-picking-event-saturday-5th-january-2019/
LOCATION:Bank Square\, Wilmslow\, SK9 1AN\, United Kingdom
CATEGORIES:Litter Picking Events
END:VEVENT
BEGIN:VEVENT
DTSTART;TZID=UTC:20181208T100000
DTEND;TZID=UTC:20181208T113000
DTSTAMP:20260423T103050
CREATED:20180908T072637Z
LAST-MODIFIED:20181125T162401Z
UID:1082-1544263200-1544268600@wilmslowcleanteam.org.uk
SUMMARY:Litter Picking Event – Saturday 8th December 2018
DESCRIPTION:Regular litter picking event. \nFocus will be Summerfields\, Colshaw Drive and the surrounding area. \nMeet in Summerfield’s Car Park \nNew volunteers are most welcome to come along – but please familiarise yourselves with the safety guidance first
URL:https://wilmslowcleanteam.org.uk/event/litter-picking-event-saturday-8th-december-2018/
LOCATION:Summerfields Centre Car Park\, Dean Row Road\, Wilmslow\, SK9 2TA\, United Kingdom
CATEGORIES:Litter Picking Events
END:VEVENT
BEGIN:VEVENT
DTSTART;TZID=UTC:20181205T100000
DTEND;TZID=UTC:20181205T113000
DTSTAMP:20260423T103050
CREATED:20180908T072526Z
LAST-MODIFIED:20181125T162420Z
UID:1080-1544004000-1544009400@wilmslowcleanteam.org.uk
SUMMARY:Litter Picking Event – Wednesday 5th December 2018
DESCRIPTION:Regular litter picking event. Focus will be Manchester Road and Staneylands Road \nMeet at Wilmslow Garden Centre \nNew volunteers are most welcome to come along – but please familiarise yourselves with the safety guidance first
URL:https://wilmslowcleanteam.org.uk/event/litter-picking-event-wednesday-5th-december-2018/
LOCATION:Wilmslow Garden Centre\, Manchester Road\, Wilmslow\, SK9 2JN\, United Kingdom
CATEGORIES:Litter Picking Events
END:VEVENT
BEGIN:VEVENT
DTSTART;TZID=UTC:20181110T100000
DTEND;TZID=UTC:20181110T113000
DTSTAMP:20260423T103050
CREATED:20180804T142753Z
LAST-MODIFIED:20181029T113619Z
UID:1072-1541844000-1541849400@wilmslowcleanteam.org.uk
SUMMARY:Litter Picking Event – Saturday 10th November 2018
DESCRIPTION:Regular litter picking event. Focus will be Altrincham Road and the airport tunnels. \nMeet in the Honey Bee car park. \nNew volunteers are most welcome to come along – but please familiarise yourselves with the safety guidance first
URL:https://wilmslowcleanteam.org.uk/event/litter-picking-event-saturday-10th-november-2018/
LOCATION:The Honey Bee\, Altrincham Road\, Wilmslow\, SK9 4LT\, United Kingdom
CATEGORIES:Litter Picking Events
END:VEVENT
BEGIN:VEVENT
DTSTART;TZID=UTC:20181107T100000
DTEND;TZID=UTC:20181107T113000
DTSTAMP:20260423T103050
CREATED:20180804T142632Z
LAST-MODIFIED:20180922T124800Z
UID:1070-1541584800-1541590200@wilmslowcleanteam.org.uk
SUMMARY:Litter Picking Event – Wednesday 7th November 2018
DESCRIPTION:Regular litter picking event. Focus will be the town centre including the area around Sainsburys. \nMeet at Bank Square \nNew volunteers are most welcome to come along – but please familiarise yourselves with the safety guidance first.
URL:https://wilmslowcleanteam.org.uk/event/litter-picking-event-wednesday-7th-november-2018/
LOCATION:Bank Square\, Wilmslow\, SK9 1AN\, United Kingdom
CATEGORIES:Litter Picking Events
END:VEVENT
BEGIN:VEVENT
DTSTART;TZID=UTC:20181006T100000
DTEND;TZID=UTC:20181006T113000
DTSTAMP:20260423T103050
CREATED:20180708T160740Z
LAST-MODIFIED:20180908T184236Z
UID:1062-1538820000-1538825400@wilmslowcleanteam.org.uk
SUMMARY:Litter Picking Event – Saturday 6th October 2018
DESCRIPTION:Regular litter picking event. Focus will be Lindow Common and Altrincham Road. \nMeet in Lindow Common Car Park \nNew volunteers are most welcome to come along – but please familiarise yourselves with the safety guidance first
URL:https://wilmslowcleanteam.org.uk/event/litter-picking-event-saturday-6th-october-2018/
LOCATION:Lindow Common Car Park\, Racecourse Road\, Wilmslow\, SK9 5LR\, United Kingdom
CATEGORIES:Litter Picking Events
END:VEVENT
BEGIN:VEVENT
DTSTART;TZID=UTC:20181003T100000
DTEND;TZID=UTC:20181003T113000
DTSTAMP:20260423T103050
CREATED:20180708T160649Z
LAST-MODIFIED:20180908T184247Z
UID:1060-1538560800-1538566200@wilmslowcleanteam.org.uk
SUMMARY:Litter Picking Event – Wednesday 3rd October 2018
DESCRIPTION:Regular litter picking event. Focus will be Knutsford Road / Alderley Road / Chapel Lane Bypass roundabout. \nMeet at The King’s Arms \nNew volunteers are most welcome to come along – but please familiarise yourselves with the safety guidance first \n 
URL:https://wilmslowcleanteam.org.uk/event/litter-picking-event-wednesday-3rd-october-2018/
LOCATION:The King’s Arms\, Alderley Road\, Wilmslow\, SK9 1PZ\, United Kingdom
CATEGORIES:Litter Picking Events
END:VEVENT
BEGIN:VEVENT
DTSTART;TZID=UTC:20180908T100000
DTEND;TZID=UTC:20180908T120000
DTSTAMP:20260423T103050
CREATED:20180610T054159Z
LAST-MODIFIED:20180804T142106Z
UID:1049-1536400800-1536408000@wilmslowcleanteam.org.uk
SUMMARY:Litter Picking Event – Saturday 8th September 2018
DESCRIPTION:Regular litter picking event. Focus will be the area around Summerfields and Colshaw Drive. \nMeet in the Summerfields car park. \nNew volunteers are most welcome to come along – but please familiarise yourselves with the safety guidance first
URL:https://wilmslowcleanteam.org.uk/event/litter-picking-event-saturday-8th-september-2018/
LOCATION:Summerfields Centre Car Park\, Dean Row Road\, Wilmslow\, SK9 2TA\, United Kingdom
CATEGORIES:Litter Picking Events
END:VEVENT
BEGIN:VEVENT
DTSTART;TZID=UTC:20180905T100000
DTEND;TZID=UTC:20180905T120000
DTSTAMP:20260423T103050
CREATED:20180610T054056Z
LAST-MODIFIED:20180612T150931Z
UID:1046-1536141600-1536148800@wilmslowcleanteam.org.uk
SUMMARY:Litter Picking Event – Wednesday 5th September 2018
DESCRIPTION:Regular litter picking event. Focus will be the town centre. \nMeet at Bank Square \nNew volunteers are most welcome to come along – but please familiarise yourselves with the safety guidance first.
URL:https://wilmslowcleanteam.org.uk/event/litter-picking-event-wednesday-5th-september-2018/
LOCATION:Bank Square\, Wilmslow\, SK9 1AN\, United Kingdom
CATEGORIES:Litter Picking Events
END:VEVENT
BEGIN:VEVENT
DTSTART;TZID=UTC:20180804T100000
DTEND;TZID=UTC:20180804T120000
DTSTAMP:20260423T103050
CREATED:20180505T195033Z
LAST-MODIFIED:20180803T180954Z
UID:1028-1533376800-1533384000@wilmslowcleanteam.org.uk
SUMMARY:Litter Picking Event – Saturday 4th August 2018
DESCRIPTION:Regular litter picking event. Focus will be The Carrs + one car will head off to the Prestbury Link Road (if numbers allow). \nMeet in the Parish Hall car park. \nNew volunteers are most welcome to come along – but please familiarise yourselves with the safety guidance first
URL:https://wilmslowcleanteam.org.uk/event/litter-picking-event-saturday-4th-august-2018/
LOCATION:Wilmslow Parish Hall\, Cliff Road\, Wilmslow\, SK9 4AA\, United Kingdom
CATEGORIES:Litter Picking Events
END:VEVENT
BEGIN:VEVENT
DTSTART;TZID=UTC:20180801T100000
DTEND;TZID=UTC:20180801T120000
DTSTAMP:20260423T103050
CREATED:20180505T194838Z
LAST-MODIFIED:20180524T161657Z
UID:1026-1533117600-1533124800@wilmslowcleanteam.org.uk
SUMMARY:Litter Picking Event – Wednesday 1st August 2018
DESCRIPTION:Regular litter picking event. Focus will be Altrincham Road and the airport tunnels. \nMeet in the Honey Bee car park. \nNew volunteers are most welcome to come along – but please familiarise yourselves with the safety guidance first
URL:https://wilmslowcleanteam.org.uk/event/litter-picking-event-wednesday-1st-august-2018/
LOCATION:The Honey Bee\, Altrincham Road\, Wilmslow\, SK9 4LT\, United Kingdom
CATEGORIES:Litter Picking Events
END:VEVENT
BEGIN:VEVENT
DTSTART;TZID=UTC:20180707T100000
DTEND;TZID=UTC:20180707T113000
DTSTAMP:20260423T103050
CREATED:20180409T173842Z
LAST-MODIFIED:20180630T152004Z
UID:1011-1530957600-1530963000@wilmslowcleanteam.org.uk
SUMMARY:Litter Picking Event – Saturday 7th July 2018 10:00
DESCRIPTION:Regular litter picking event. Focus will be Lacey Green Park and the surrounding area. \nMeet at the entrance to Lacey Green Park. \nNew volunteers are most welcome to come along – but please familiarise yourselves with the safety guidance first
URL:https://wilmslowcleanteam.org.uk/event/litter-picking-event-saturday-7th-july-2018-1000/
LOCATION:Lacey Green Park\, Barlow Road\, Wilmslow\, SK9 4BS\, United Kingdom
CATEGORIES:Litter Picking Events
END:VEVENT
BEGIN:VEVENT
DTSTART;TZID=UTC:20180704T100000
DTEND;TZID=UTC:20180704T113000
DTSTAMP:20260423T103050
CREATED:20180409T173756Z
LAST-MODIFIED:20180602T082751Z
UID:1009-1530698400-1530703800@wilmslowcleanteam.org.uk
SUMMARY:Litter Picking Event – Wednesday 4th July 2018 10:00
DESCRIPTION:Regular litter picking event. Focus will be the town centre. \nMeet at Bank Square  (this is a change of venue from when the event was originally advertised) \nNew volunteers are most welcome to come along – but please familiarise yourselves with the safety guidance first.
URL:https://wilmslowcleanteam.org.uk/event/litter-picking-event-wednesday-4th-july-2018-1000/
LOCATION:Bank Square\, Wilmslow\, SK9 1AN\, United Kingdom
CATEGORIES:Litter Picking Events
END:VEVENT
BEGIN:VEVENT
DTSTART;TZID=UTC:20180609T100000
DTEND;TZID=UTC:20180609T120000
DTSTAMP:20260423T103050
CREATED:20180310T164922Z
LAST-MODIFIED:20180417T152346Z
UID:985-1528538400-1528545600@wilmslowcleanteam.org.uk
SUMMARY:Litter Picking Event – Saturday 9th June 2018 10:00
DESCRIPTION:Regular litter picking event. Focus will be Dean Row \nMeet at The Unicorn \nNew volunteers are most welcome to come along – but please familiarise yourselves with the safety guidance first
URL:https://wilmslowcleanteam.org.uk/event/litter-picking-event-saturday-9th-june-2018-1000/
LOCATION:The Unicorn (Dean Row)\, Adlington Road\, Wilmslow\,  SK9 2LN\, United Kingdom
CATEGORIES:Litter Picking Events
END:VEVENT
BEGIN:VEVENT
DTSTART;TZID=UTC:20180606T100000
DTEND;TZID=UTC:20180606T120000
DTSTAMP:20260423T103050
CREATED:20180310T164810Z
LAST-MODIFIED:20180413T192903Z
UID:983-1528279200-1528286400@wilmslowcleanteam.org.uk
SUMMARY:Litter Picking Event – Wednesday 6th June 2018 10:00
DESCRIPTION:Regular litter picking event. \nFocus will be Summerfields\, Colshaw Drive and the surrounding area. \nMeet in Summerfield’s Car Park \nNew volunteers are most welcome to come along – but please familiarise yourselves with the safety guidance first
URL:https://wilmslowcleanteam.org.uk/event/litter-picking-event-wednesday-6th-june-2018-1000/
LOCATION:Summerfields Centre Car Park\, Dean Row Road\, Wilmslow\, SK9 2TA\, United Kingdom
CATEGORIES:Litter Picking Events
END:VEVENT
BEGIN:VEVENT
DTSTART;TZID=UTC:20180522T193000
DTEND;TZID=UTC:20180522T210000
DTSTAMP:20260423T103050
CREATED:20180413T193148Z
LAST-MODIFIED:20180413T193341Z
UID:1014-1527017400-1527022800@wilmslowcleanteam.org.uk
SUMMARY:AGM 2018
DESCRIPTION:Annual General Meeting \nMeet upstairs in Wilmslow Library
URL:https://wilmslowcleanteam.org.uk/event/agm-2018/
LOCATION:Wilmslow Library\, South Drive\, Wilmslow\, SK9 1NW\, United Kingdom
CATEGORIES:Meetings
END:VEVENT
BEGIN:VEVENT
DTSTART;TZID=UTC:20180505T100000
DTEND;TZID=UTC:20180505T120000
DTSTAMP:20260423T103050
CREATED:20180210T192112Z
LAST-MODIFIED:20180417T152327Z
UID:956-1525514400-1525521600@wilmslowcleanteam.org.uk
SUMMARY:Litter Picking Event – Saturday 5th May 2018 10:00
DESCRIPTION:Regular litter picking event. Focus will be the town centre including the area around Sainsburys. \nMeet at Anthology \nNew volunteers are most welcome to come along – but please familiarise yourselves with the safety guidance first.
URL:https://wilmslowcleanteam.org.uk/event/litter-picking-event-saturday-5th-may-2018-1000/
LOCATION:Anthology\, 2 Swan Street\, Wilmslow\, SK9 1HE
CATEGORIES:Litter Picking Events
END:VEVENT
BEGIN:VEVENT
DTSTART;TZID=UTC:20180502T100000
DTEND;TZID=UTC:20180502T120000
DTSTAMP:20260423T103050
CREATED:20180210T191939Z
LAST-MODIFIED:20180330T175331Z
UID:954-1525255200-1525262400@wilmslowcleanteam.org.uk
SUMMARY:Litter Picking Event – Wednesday 2nd May 2018 10:00
DESCRIPTION:Regular litter picking event. Focus will be Altrincham Road and the airport tunnels. \nMeet in the Honey Bee car park. \nNew volunteers are most welcome to come along – but please familiarise yourselves with the safety guidance first
URL:https://wilmslowcleanteam.org.uk/event/litter-picking-event-wednesday-2nd-may-2018-1000/
LOCATION:The Honey Bee\, Altrincham Road\, Wilmslow\, SK9 4LT\, United Kingdom
CATEGORIES:Litter Picking Events
END:VEVENT
END:VCALENDAR