BEGIN:VCALENDAR
VERSION:2.0
PRODID:-//Wilmslow CleanTeam - ECPv6.15.20//NONSGML v1.0//EN
CALSCALE:GREGORIAN
METHOD:PUBLISH
X-WR-CALNAME:Wilmslow CleanTeam
X-ORIGINAL-URL:https://wilmslowcleanteam.org.uk
X-WR-CALDESC:Events for Wilmslow CleanTeam
REFRESH-INTERVAL;VALUE=DURATION:PT1H
X-Robots-Tag:noindex
X-PUBLISHED-TTL:PT1H
BEGIN:VTIMEZONE
TZID:Europe/London
BEGIN:DAYLIGHT
TZOFFSETFROM:+0000
TZOFFSETTO:+0100
TZNAME:BST
DTSTART:20240331T010000
END:DAYLIGHT
BEGIN:STANDARD
TZOFFSETFROM:+0100
TZOFFSETTO:+0000
TZNAME:GMT
DTSTART:20241027T010000
END:STANDARD
BEGIN:DAYLIGHT
TZOFFSETFROM:+0000
TZOFFSETTO:+0100
TZNAME:BST
DTSTART:20250330T010000
END:DAYLIGHT
BEGIN:STANDARD
TZOFFSETFROM:+0100
TZOFFSETTO:+0000
TZNAME:GMT
DTSTART:20251026T010000
END:STANDARD
BEGIN:DAYLIGHT
TZOFFSETFROM:+0000
TZOFFSETTO:+0100
TZNAME:BST
DTSTART:20260329T010000
END:DAYLIGHT
BEGIN:STANDARD
TZOFFSETFROM:+0100
TZOFFSETTO:+0000
TZNAME:GMT
DTSTART:20261025T010000
END:STANDARD
END:VTIMEZONE
BEGIN:VEVENT
DTSTART;TZID=Europe/London:20250402T100000
DTEND;TZID=Europe/London:20250402T113000
DTSTAMP:20260422T080103
CREATED:20241228T144355Z
LAST-MODIFIED:20250329T094635Z
UID:2134-1743588000-1743593400@wilmslowcleanteam.org.uk
SUMMARY:Litter Picking Event – Weds 02-APR-25 10:00
DESCRIPTION:Regular litter picking event. Focus will be Lacey Green Park and the surrounding area. \nMeet at the entrance to Lacey Green Park. \nNew volunteers are most welcome to come along – but please familiarise yourselves with the safety guidance first. \nPlease try to arrive at the meeting point no later than 15 minutes from the start time. Organisers of each event will typically litter pick after the 15 minute period has elapsed\, returning to the meeting point up to an hour later. \n 
URL:https://wilmslowcleanteam.org.uk/event/litter-picking-event-weds-02-apr-25-1000/
LOCATION:Lacey Green Park\, Barlow Road\, Wilmslow\, SK9 4BS\, United Kingdom
CATEGORIES:Litter Picking Events
END:VEVENT
BEGIN:VEVENT
DTSTART;TZID=Europe/London:20250405T100000
DTEND;TZID=Europe/London:20250405T113000
DTSTAMP:20260422T080103
CREATED:20241228T144442Z
LAST-MODIFIED:20250404T115458Z
UID:2136-1743847200-1743852600@wilmslowcleanteam.org.uk
SUMMARY:Litter Picking Event – Sat 05-APR-25 10:00
DESCRIPTION:Regular litter picking event. Focus will be the town centre. \nThe meeting point has changed.  We will now be meeting in The Parish Hall (as there is an event on in Bank Square) \nNew volunteers are most welcome to come along – but please familiarise yourselves with the safety guidance first. \nPlease try to arrive at the meeting point no later than 15 minutes from the start time. Organisers of each event will typically litter pick after the 15 minute period has elapsed\, returning to the meeting point up to an hour later.
URL:https://wilmslowcleanteam.org.uk/event/litter-picking-event-sat-05-apr-25-1000/
LOCATION:Wilmslow Parish Hall\, Cliff Road\, Wilmslow\, SK9 4AA\, United Kingdom
CATEGORIES:Litter Picking Events
END:VEVENT
END:VCALENDAR