BEGIN:VCALENDAR
VERSION:2.0
PRODID:-//Wilmslow CleanTeam - ECPv6.15.20//NONSGML v1.0//EN
CALSCALE:GREGORIAN
METHOD:PUBLISH
X-WR-CALNAME:Wilmslow CleanTeam
X-ORIGINAL-URL:https://wilmslowcleanteam.org.uk
X-WR-CALDESC:Events for Wilmslow CleanTeam
REFRESH-INTERVAL;VALUE=DURATION:PT1H
X-Robots-Tag:noindex
X-PUBLISHED-TTL:PT1H
BEGIN:VTIMEZONE
TZID:Europe/London
BEGIN:DAYLIGHT
TZOFFSETFROM:+0000
TZOFFSETTO:+0100
TZNAME:BST
DTSTART:20230326T010000
END:DAYLIGHT
BEGIN:STANDARD
TZOFFSETFROM:+0100
TZOFFSETTO:+0000
TZNAME:GMT
DTSTART:20231029T010000
END:STANDARD
BEGIN:DAYLIGHT
TZOFFSETFROM:+0000
TZOFFSETTO:+0100
TZNAME:BST
DTSTART:20240331T010000
END:DAYLIGHT
BEGIN:STANDARD
TZOFFSETFROM:+0100
TZOFFSETTO:+0000
TZNAME:GMT
DTSTART:20241027T010000
END:STANDARD
BEGIN:DAYLIGHT
TZOFFSETFROM:+0000
TZOFFSETTO:+0100
TZNAME:BST
DTSTART:20250330T010000
END:DAYLIGHT
BEGIN:STANDARD
TZOFFSETFROM:+0100
TZOFFSETTO:+0000
TZNAME:GMT
DTSTART:20251026T010000
END:STANDARD
END:VTIMEZONE
BEGIN:VEVENT
DTSTART;TZID=Europe/London:20240501T100000
DTEND;TZID=Europe/London:20240501T113000
DTSTAMP:20260422T084539
CREATED:20240203T073943Z
LAST-MODIFIED:20240329T140121Z
UID:1971-1714557600-1714563000@wilmslowcleanteam.org.uk
SUMMARY:Litter Picking Event – Wed 01-MAY-24 10:00 *** "Spring Clean" Event ***
DESCRIPTION:Regular litter picking event. Focus will be The Carrs + one car will head off to the Prestbury Link Road (if numbers allow). \nMeet in the Parish Hall car park. \nNew volunteers are most welcome to come along – but please familiarise yourselves with the safety guidance first. \nPlease try to arrive at the meeting point no later than 15 minutes from the start time. Organisers of each event will typically litter pick after the 15 minute period has elapsed\, returning to the meeting point up to an hour later. \n 
URL:https://wilmslowcleanteam.org.uk/event/litter-picking-event-wed-01-may-24-1000/
LOCATION:Wilmslow Parish Hall\, Cliff Road\, Wilmslow\, SK9 4AA\, United Kingdom
CATEGORIES:Litter Picking Events,Spring Clean
END:VEVENT
BEGIN:VEVENT
DTSTART;TZID=Europe/London:20240504T100000
DTEND;TZID=Europe/London:20240504T113000
DTSTAMP:20260422T084539
CREATED:20240203T074055Z
LAST-MODIFIED:20240329T140110Z
UID:1973-1714816800-1714822200@wilmslowcleanteam.org.uk
SUMMARY:Litter Picking Event – Sat 04-MAY-24 10:00  *** "Spring Clean" Event ***
DESCRIPTION:Regular litter picking event. Focus will be Altrincham Road and the airport tunnels. \nMeet in the Honey Bee car park (rear car park only please). \nNew volunteers are most welcome to come along – but please familiarise yourselves with the safety guidance first. \nPlease try to arrive at the meeting point no later than 15 minutes from the start time. Organisers of each event will typically litter pick after the 15 minute period has elapsed\, returning to the meeting point up to an hour later.
URL:https://wilmslowcleanteam.org.uk/event/litter-picking-event-sat-04-may-24-1000/
LOCATION:The Honey Bee\, Altrincham Road\, Wilmslow\, SK9 4LT\, United Kingdom
CATEGORIES:Litter Picking Events,Spring Clean
END:VEVENT
END:VCALENDAR