BEGIN:VCALENDAR
VERSION:2.0
PRODID:-//Wilmslow CleanTeam - ECPv6.15.20//NONSGML v1.0//EN
CALSCALE:GREGORIAN
METHOD:PUBLISH
X-ORIGINAL-URL:https://wilmslowcleanteam.org.uk
X-WR-CALDESC:Events for Wilmslow CleanTeam
REFRESH-INTERVAL;VALUE=DURATION:PT1H
X-Robots-Tag:noindex
X-PUBLISHED-TTL:PT1H
BEGIN:VTIMEZONE
TZID:Europe/London
BEGIN:DAYLIGHT
TZOFFSETFROM:+0000
TZOFFSETTO:+0100
TZNAME:BST
DTSTART:20220327T010000
END:DAYLIGHT
BEGIN:STANDARD
TZOFFSETFROM:+0100
TZOFFSETTO:+0000
TZNAME:GMT
DTSTART:20221030T010000
END:STANDARD
BEGIN:DAYLIGHT
TZOFFSETFROM:+0000
TZOFFSETTO:+0100
TZNAME:BST
DTSTART:20230326T010000
END:DAYLIGHT
BEGIN:STANDARD
TZOFFSETFROM:+0100
TZOFFSETTO:+0000
TZNAME:GMT
DTSTART:20231029T010000
END:STANDARD
BEGIN:DAYLIGHT
TZOFFSETFROM:+0000
TZOFFSETTO:+0100
TZNAME:BST
DTSTART:20240331T010000
END:DAYLIGHT
BEGIN:STANDARD
TZOFFSETFROM:+0100
TZOFFSETTO:+0000
TZNAME:GMT
DTSTART:20241027T010000
END:STANDARD
END:VTIMEZONE
BEGIN:VEVENT
DTSTART;TZID=Europe/London:20230802T100000
DTEND;TZID=Europe/London:20230802T113000
DTSTAMP:20260423T162907
CREATED:20230603T110232Z
LAST-MODIFIED:20230613T205751Z
UID:1841-1690970400-1690975800@wilmslowcleanteam.org.uk
SUMMARY:Litter Picking Event – Wednesday 2nd Aug 2023
DESCRIPTION:Regular litter picking event. Focus will be Altrincham Road and the airport tunnels. \nMeet in the Honey Bee car park (rear car park only please). \nNew volunteers are most welcome to come along – but please familiarise yourselves with the safety guidance first. \nPlease try to arrive at the meeting point no later than 15 minutes from the start time. Organisers of each event will typically litter pick after the 15 minute period has elapsed\, returning to the meeting point up to an hour later.
URL:https://wilmslowcleanteam.org.uk/event/litter-picking-event-wednesday-2nd-aug-2023/
LOCATION:The Honey Bee\, Altrincham Road\, Wilmslow\, SK9 4LT\, United Kingdom
CATEGORIES:Litter Picking Events
END:VEVENT
BEGIN:VEVENT
DTSTART;TZID=Europe/London:20230805T100000
DTEND;TZID=Europe/London:20230805T113000
DTSTAMP:20260423T162907
CREATED:20230603T110333Z
LAST-MODIFIED:20230613T205802Z
UID:1843-1691229600-1691235000@wilmslowcleanteam.org.uk
SUMMARY:Litter Picking Event – Saturday 5th Aug 2023
DESCRIPTION:Regular litter picking event. Focus will be the town centre including the area around Sainsburys. \nMeet at Bank Square \nNew volunteers are most welcome to come along – but please familiarise yourselves with the safety guidance first. \nPlease try to arrive at the meeting point no later than 15 minutes from the start time. Organisers of each event will typically litter pick after the 15 minute period has elapsed\, returning to the meeting point up to an hour later.
URL:https://wilmslowcleanteam.org.uk/event/litter-picking-event-saturday-5th-aug-2023/
LOCATION:Bank Square\, Wilmslow\, SK9 1AN\, United Kingdom
CATEGORIES:Litter Picking Events
END:VEVENT
END:VCALENDAR