BEGIN:VCALENDAR
VERSION:2.0
PRODID:-//Wilmslow CleanTeam - ECPv6.15.20//NONSGML v1.0//EN
CALSCALE:GREGORIAN
METHOD:PUBLISH
X-ORIGINAL-URL:https://wilmslowcleanteam.org.uk
X-WR-CALDESC:Events for Wilmslow CleanTeam
REFRESH-INTERVAL;VALUE=DURATION:PT1H
X-Robots-Tag:noindex
X-PUBLISHED-TTL:PT1H
BEGIN:VTIMEZONE
TZID:Europe/London
BEGIN:DAYLIGHT
TZOFFSETFROM:+0000
TZOFFSETTO:+0100
TZNAME:BST
DTSTART:20220327T010000
END:DAYLIGHT
BEGIN:STANDARD
TZOFFSETFROM:+0100
TZOFFSETTO:+0000
TZNAME:GMT
DTSTART:20221030T010000
END:STANDARD
BEGIN:DAYLIGHT
TZOFFSETFROM:+0000
TZOFFSETTO:+0100
TZNAME:BST
DTSTART:20230326T010000
END:DAYLIGHT
BEGIN:STANDARD
TZOFFSETFROM:+0100
TZOFFSETTO:+0000
TZNAME:GMT
DTSTART:20231029T010000
END:STANDARD
BEGIN:DAYLIGHT
TZOFFSETFROM:+0000
TZOFFSETTO:+0100
TZNAME:BST
DTSTART:20240331T010000
END:DAYLIGHT
BEGIN:STANDARD
TZOFFSETFROM:+0100
TZOFFSETTO:+0000
TZNAME:GMT
DTSTART:20241027T010000
END:STANDARD
END:VTIMEZONE
BEGIN:VEVENT
DTSTART;TZID=Europe/London:20230405T100000
DTEND;TZID=Europe/London:20230405T113000
DTSTAMP:20260423T223828
CREATED:20221230T161148Z
LAST-MODIFIED:20230211T151218Z
UID:1766-1680688800-1680694200@wilmslowcleanteam.org.uk
SUMMARY:Litter Picking Event – Wednesday 5th Apr 2023
DESCRIPTION:Regular litter picking event. Focus will be Lacey Green Park and the surrounding area. \nMeet at the entrance to Lacey Green Park. \nNew volunteers are most welcome to come along – but please familiarise yourselves with the safety guidance first. \nPlease try to arrive at the meeting point no later than 15 minutes from the start time. Organisers of each event will typically litter pick after the 15 minute period has elapsed\, returning to the meeting point up to an hour later.
URL:https://wilmslowcleanteam.org.uk/event/litter-picking-event-wednesday-5th-apr-2023/
LOCATION:Lacey Green Park\, Barlow Road\, Wilmslow\, SK9 4BS\, United Kingdom
CATEGORIES:Litter Picking Events
END:VEVENT
BEGIN:VEVENT
DTSTART;TZID=Europe/London:20230408T100000
DTEND;TZID=Europe/London:20230408T113000
DTSTAMP:20260423T223828
CREATED:20221230T161500Z
LAST-MODIFIED:20230128T115826Z
UID:1768-1680948000-1680953400@wilmslowcleanteam.org.uk
SUMMARY:Litter Picking Event – Saturday 8th Apr 2023
DESCRIPTION:Regular litter picking event. Focus will be the town centre. \nMeet at Bank Square \nNew volunteers are most welcome to come along – but please familiarise yourselves with the safety guidance first. \nPlease try to arrive at the meeting point no later than 15 minutes from the start time. Organisers of each event will typically litter pick after the 15 minute period has elapsed\, returning to the meeting point up to an hour later.
URL:https://wilmslowcleanteam.org.uk/event/litter-picking-event-saturday-8th-apr-2023/
LOCATION:Bank Square\, Wilmslow\, SK9 1AN\, United Kingdom
CATEGORIES:Litter Picking Events
END:VEVENT
END:VCALENDAR