BEGIN:VCALENDAR
VERSION:2.0
PRODID:-//Wilmslow CleanTeam - ECPv6.15.20//NONSGML v1.0//EN
CALSCALE:GREGORIAN
METHOD:PUBLISH
X-WR-CALNAME:Wilmslow CleanTeam
X-ORIGINAL-URL:https://wilmslowcleanteam.org.uk
X-WR-CALDESC:Events for Wilmslow CleanTeam
REFRESH-INTERVAL;VALUE=DURATION:PT1H
X-Robots-Tag:noindex
X-PUBLISHED-TTL:PT1H
BEGIN:VTIMEZONE
TZID:UTC
BEGIN:STANDARD
TZOFFSETFROM:+0000
TZOFFSETTO:+0000
TZNAME:UTC
DTSTART:20210101T000000
END:STANDARD
END:VTIMEZONE
BEGIN:VEVENT
DTSTART;TZID=UTC:20220803T100000
DTEND;TZID=UTC:20220803T113000
DTSTAMP:20260424T105243
CREATED:20220430T155252Z
LAST-MODIFIED:20220605T090851Z
UID:1633-1659520800-1659526200@wilmslowcleanteam.org.uk
SUMMARY:Litter Picking Event – Wednesday 3rd Aug 2022
DESCRIPTION:Regular litter picking event. Focus will be Altrincham Road and the airport tunnels. \nMeet in the Honey Bee car park (rear car park only please). \nNew volunteers are most welcome to come along – but please familiarise yourselves with the safety guidance first. \nPlease try to arrive at the meeting point no later than 15 minutes from the start time. Organisers of each event will typically litter pick after the 15 minute period has elapsed\, returning to the meeting point up to an hour later. \n 
URL:https://wilmslowcleanteam.org.uk/event/litter-picking-event-wednesday-3rd-aug-2022/
LOCATION:The Honey Bee\, Altrincham Road\, Wilmslow\, SK9 4LT\, United Kingdom
CATEGORIES:Litter Picking Events
END:VEVENT
BEGIN:VEVENT
DTSTART;TZID=UTC:20220806T100000
DTEND;TZID=UTC:20220806T113000
DTSTAMP:20260424T105243
CREATED:20220430T155419Z
LAST-MODIFIED:20220530T143625Z
UID:1635-1659780000-1659785400@wilmslowcleanteam.org.uk
SUMMARY:Litter Picking Event – Saturday 6th Aug 2022
DESCRIPTION:Regular litter picking event. Focus will be the town centre including the area around Sainsburys. \nMeet at Bank Square \nNew volunteers are most welcome to come along – but please familiarise yourselves with the safety guidance first. \nPlease try to arrive at the meeting point no later than 15 minutes from the start time. Organisers of each event will typically litter pick after the 15 minute period has elapsed\, returning to the meeting point up to an hour later.
URL:https://wilmslowcleanteam.org.uk/event/litter-picking-event-saturday-6th-aug-2022/
LOCATION:Bank Square\, Wilmslow\, SK9 1AN\, United Kingdom
CATEGORIES:Litter Picking Events
END:VEVENT
END:VCALENDAR