BEGIN:VCALENDAR
VERSION:2.0
PRODID:-//Wilmslow CleanTeam - ECPv6.15.20//NONSGML v1.0//EN
CALSCALE:GREGORIAN
METHOD:PUBLISH
X-ORIGINAL-URL:https://wilmslowcleanteam.org.uk
X-WR-CALDESC:Events for Wilmslow CleanTeam
REFRESH-INTERVAL;VALUE=DURATION:PT1H
X-Robots-Tag:noindex
X-PUBLISHED-TTL:PT1H
BEGIN:VTIMEZONE
TZID:UTC
BEGIN:STANDARD
TZOFFSETFROM:+0000
TZOFFSETTO:+0000
TZNAME:UTC
DTSTART:20210101T000000
END:STANDARD
END:VTIMEZONE
BEGIN:VEVENT
DTSTART;TZID=UTC:20220706T100000
DTEND;TZID=UTC:20220706T113000
DTSTAMP:20260424T121913
CREATED:20220402T151449Z
LAST-MODIFIED:20220605T090924Z
UID:1621-1657101600-1657107000@wilmslowcleanteam.org.uk
SUMMARY:Litter Picking Event – Wednesday 6th July 2022
DESCRIPTION:Regular litter picking event. Focus will be Lindow Common and Altrincham Road. \nMeet in Lindow Common Car Park \nNew volunteers are most welcome to come along – but please familiarise yourselves with the safety guidance first. \nPlease try to arrive at the meeting point no later than 15 minutes from the start time. Organisers of each event will typically litter pick after the 15 minute period has elapsed\, returning to the meeting point up to an hour later.
URL:https://wilmslowcleanteam.org.uk/event/litter-picking-event-wednesday-6th-july-2022/
LOCATION:Lindow Common Car Park\, Racecourse Road\, Wilmslow\, SK9 5LR\, United Kingdom
CATEGORIES:Litter Picking Events
END:VEVENT
BEGIN:VEVENT
DTSTART;TZID=UTC:20220709T100000
DTEND;TZID=UTC:20220709T113000
DTSTAMP:20260424T121913
CREATED:20220402T151604Z
LAST-MODIFIED:20220530T181713Z
UID:1623-1657360800-1657366200@wilmslowcleanteam.org.uk
SUMMARY:Litter Picking Event – Saturday 9th July 2022
DESCRIPTION:Regular litter picking event. Focus will be Knutsford Road / Alderley Road / Chapel Lane / Bypass roundabout. \nMeet at The King’s Arms \nNew volunteers are most welcome to come along – but please familiarise yourselves with the safety guidance first. \nPlease try to arrive at the meeting point no later than 15 minutes from the start time. Organisers of each event will typically litter pick after the 15 minute period has elapsed\, returning to the meeting point up to an hour later.
URL:https://wilmslowcleanteam.org.uk/event/litter-picking-event-saturday-9th-july-2022/
LOCATION:The King’s Arms\, Alderley Road\, Wilmslow\, SK9 1PZ\, United Kingdom
CATEGORIES:Litter Picking Events
END:VEVENT
END:VCALENDAR