BEGIN:VCALENDAR
VERSION:2.0
PRODID:-//Wilmslow CleanTeam - ECPv6.15.20//NONSGML v1.0//EN
CALSCALE:GREGORIAN
METHOD:PUBLISH
X-ORIGINAL-URL:https://wilmslowcleanteam.org.uk
X-WR-CALDESC:Events for Wilmslow CleanTeam
REFRESH-INTERVAL;VALUE=DURATION:PT1H
X-Robots-Tag:noindex
X-PUBLISHED-TTL:PT1H
BEGIN:VTIMEZONE
TZID:UTC
BEGIN:STANDARD
TZOFFSETFROM:+0000
TZOFFSETTO:+0000
TZNAME:UTC
DTSTART:20200101T000000
END:STANDARD
END:VTIMEZONE
BEGIN:VEVENT
DTSTART;TZID=UTC:20211103T100000
DTEND;TZID=UTC:20211103T113000
DTSTAMP:20260425T000531
CREATED:20210821T081653Z
LAST-MODIFIED:20210925T160853Z
UID:1502-1635933600-1635939000@wilmslowcleanteam.org.uk
SUMMARY:Litter Picking Event – Wednesday 3rd November 2021
DESCRIPTION:Regular litter picking event. Focus will be Altrincham Road and the airport tunnels. \nMeet in the Honey Bee car park. \nNew volunteers are most welcome to come along – but please familiarise yourselves with the safety guidance first. \nPlease try to arrive at the meeting point no later than 15 minutes from the start time. Organisers of each event will typically litter pick after the 15 minute period has elapsed\, returning to the meeting point up to an hour later.
URL:https://wilmslowcleanteam.org.uk/event/litter-picking-event-wednesday-3rd-november-2021/
LOCATION:The Honey Bee\, Altrincham Road\, Wilmslow\, SK9 4LT\, United Kingdom
CATEGORIES:Litter Picking Events
END:VEVENT
BEGIN:VEVENT
DTSTART;TZID=UTC:20211106T100000
DTEND;TZID=UTC:20211106T113000
DTSTAMP:20260425T000531
CREATED:20210821T081744Z
LAST-MODIFIED:20210925T193731Z
UID:1504-1636192800-1636198200@wilmslowcleanteam.org.uk
SUMMARY:Litter Picking Event – Saturday 6th November 2021
DESCRIPTION:Regular litter picking event. Focus will be The Carrs + one car will head off to the Prestbury Link Road (if numbers allow). \nMeet in the Parish Hall car park. \nNew volunteers are most welcome to come along – but please familiarise yourselves with the safety guidance first. \nPlease try to arrive at the meeting point no later than 15 minutes from the start time. Organisers of each event will typically litter pick after the 15 minute period has elapsed\, returning to the meeting point up to an hour later. \n 
URL:https://wilmslowcleanteam.org.uk/event/litter-picking-event-saturday-6th-november-2021/
LOCATION:Wilmslow Parish Hall\, Cliff Road\, Wilmslow\, SK9 4AA\, United Kingdom
CATEGORIES:Litter Picking Events
END:VEVENT
END:VCALENDAR